BEGIN:VCALENDAR
VERSION:2.0
PRODID:-//Porte di Valtellina - ECPv6.15.20//NONSGML v1.0//EN
CALSCALE:GREGORIAN
METHOD:PUBLISH
X-ORIGINAL-URL:https://portedivaltellina.it
X-WR-CALDESC:Eventi per Porte di Valtellina
REFRESH-INTERVAL;VALUE=DURATION:PT1H
X-Robots-Tag:noindex
X-PUBLISHED-TTL:PT1H
BEGIN:VTIMEZONE
TZID:Europe/Rome
BEGIN:DAYLIGHT
TZOFFSETFROM:+0100
TZOFFSETTO:+0200
TZNAME:CEST
DTSTART:20230326T010000
END:DAYLIGHT
BEGIN:STANDARD
TZOFFSETFROM:+0200
TZOFFSETTO:+0100
TZNAME:CET
DTSTART:20231029T010000
END:STANDARD
BEGIN:DAYLIGHT
TZOFFSETFROM:+0100
TZOFFSETTO:+0200
TZNAME:CEST
DTSTART:20240331T010000
END:DAYLIGHT
BEGIN:STANDARD
TZOFFSETFROM:+0200
TZOFFSETTO:+0100
TZNAME:CET
DTSTART:20241027T010000
END:STANDARD
BEGIN:DAYLIGHT
TZOFFSETFROM:+0100
TZOFFSETTO:+0200
TZNAME:CEST
DTSTART:20250330T010000
END:DAYLIGHT
BEGIN:STANDARD
TZOFFSETFROM:+0200
TZOFFSETTO:+0100
TZNAME:CET
DTSTART:20251026T010000
END:STANDARD
BEGIN:DAYLIGHT
TZOFFSETFROM:+0100
TZOFFSETTO:+0200
TZNAME:CEST
DTSTART:20260329T010000
END:DAYLIGHT
BEGIN:STANDARD
TZOFFSETFROM:+0200
TZOFFSETTO:+0100
TZNAME:CET
DTSTART:20261025T010000
END:STANDARD
END:VTIMEZONE
BEGIN:VEVENT
DTSTART;TZID=Europe/Rome:20241218T080000
DTEND;TZID=Europe/Rome:20250112T170000
DTSTAMP:20260419T155426
CREATED:20241218T085558Z
LAST-MODIFIED:20241218T085558Z
UID:10005586-1734508800-1736701200@portedivaltellina.it
SUMMARY:Presepe delle architetture rurali
DESCRIPTION:30 baite dei maggenghi e alpeggi del consorzio \nriprodotte fedelmente in scala per formare un “presepe tradizionale” come veniva fatto un tempo con l’utilizzo di materiali poveri e naturali \nIl Crotto Frasnino  sarà aperto con bevande calde e molto altro \n  \nInfo: Consorzio Püstaresc www.pustaresc.org \n 
URL:https://portedivaltellina.it/eventi/presepe-delle-architetture-rurali/
LOCATION:Val Tartano – Bivacco Parco Frasnino
END:VEVENT
BEGIN:VEVENT
DTSTART;VALUE=DATE:20250111
DTEND;VALUE=DATE:20250112
DTSTAMP:20260419T155426
CREATED:20250108T083520Z
LAST-MODIFIED:20250108T083520Z
UID:10005625-1736553600-1736639999@portedivaltellina.it
SUMMARY:Luna Piena alla Motta di Olano
DESCRIPTION:Escursione su ciaspole \nLa panoramica Motta di Olano vi aspetta per una ciaspolata all’imbrunire! \nSaliremo con gli ultimi raggi del Sole\, ci godremo il tramonto e quindi\, scesi alla luce della luna piena\, ci fermeremo per una sosta rigeneratrice presso il Rifugio della Corte\, prima di rientrare alle auto intorno alle 22. \nRitrovo alle ore 14 a Morbegno in Piazza Bossi. \nInfo e prenotazioni: Guida Parco IML Giorgio Tanzi insubria.trekking@gmail.com – +39 340 7054267
URL:https://portedivaltellina.it/eventi/luna-piena-alla-motta-di-olano/
LOCATION:Valgerola\, Gerola Alta\, Italia
END:VEVENT
BEGIN:VEVENT
DTSTART;VALUE=DATE:20250111
DTEND;VALUE=DATE:20250112
DTSTAMP:20260419T155426
CREATED:20250108T084219Z
LAST-MODIFIED:20250108T084219Z
UID:10005626-1736553600-1736639999@portedivaltellina.it
SUMMARY:Luna Piena e aperitivo in Val Tartano
DESCRIPTION:Escursione su ciaspole \nCamminare nel silenzio della sera nella neve illuminata dalla luna piena è un’esperienza unica\, resa speciale dai boschi della Val Tartano e da un piccolo ristoro prima di rientrare verso le ore 20. \nRitrovo alle ore 16.30 a Morbegno in Piazza Bossi. \nInfo e prenotazioni: Guida Parco a.GA Marco Zanchetta marcozanchetta82@gmail.com – +39 347 5251782
URL:https://portedivaltellina.it/eventi/luna-piena-e-aperitivo-in-val-tartano/
LOCATION:Val Tartano
END:VEVENT
BEGIN:VEVENT
DTSTART;TZID=Europe/Rome:20250111T153000
DTEND;TZID=Europe/Rome:20250111T170000
DTSTAMP:20260419T155426
CREATED:20250102T144426Z
LAST-MODIFIED:20250102T144426Z
UID:10005617-1736609400-1736614800@portedivaltellina.it
SUMMARY:L'ora delle storie
DESCRIPTION:Incontro di lettura ad alta voce \ncon i lettori e le lettrici volontari della biblioteca \nA seguire merenda per tutti con succhi di frutta e biscotti\, chi vuole porti una tazza o un bicchiere! \nPer genitori e bambini \nPARTECIPAZIONE GRATUITA \nInfo: 0342 610323 – biblioteca@comune.morbegno.so.it  \n 
URL:https://portedivaltellina.it/eventi/lora-delle-storie-2/
LOCATION:Morbegno – Biblioteca Civica Ezio Vanoni\, Via Cortivacci\, 4\, 23017
ORGANIZER;CN="Biblioteca Civica Ezio Vanoni":MAILTO:biblioteca@comune.morbegno.so.it
END:VEVENT
BEGIN:VEVENT
DTSTART;TZID=Europe/Rome:20250111T160000
DTEND;TZID=Europe/Rome:20250111T220000
DTSTAMP:20260419T155426
CREATED:20241203T101250Z
LAST-MODIFIED:20250104T100050Z
UID:10005549-1736611200-1736632800@portedivaltellina.it
SUMMARY:Risalita in Val Fabiòlo
DESCRIPTION:Per gli amanti dell’avventura e della cultura! \nUn’escursione unica tra storia\, natura e leggende\, percorrendo la Valle degli Spiriti ascoltando racconti affascinanti. \nIl programma prevede la visita di Sostila\, un piccolo borgo medioevale perfettamente conservato\, per poi concludersi con una cena conviviale a base di prodotti tipici locali. \nMaggiori informazioni: info@prolocoforcola.it
URL:https://portedivaltellina.it/eventi/risalita-in-val-fabiolo/
LOCATION:Forcola\, Località Pasqualina\, 8
END:VEVENT
BEGIN:VEVENT
DTSTART;TZID=Europe/Rome:20250111T203000
DTEND;TZID=Europe/Rome:20250111T230000
DTSTAMP:20260419T155426
CREATED:20250107T103400Z
LAST-MODIFIED:20250107T103400Z
UID:10005624-1736627400-1736636400@portedivaltellina.it
SUMMARY:Storie sospese
DESCRIPTION:POLVERE \nRabbia e consapevolezza. Cosa rimane quando tutto finisce? \nDanza contemporanea \ncon Osteoporosys Dance Theatre di Piero Bellotto \n  \nSONNO Paure e deliri notturni \nTra ironia e documento\, lo spettacolo che indaga sul sonno e i suoi misteri. \nSpettacolo teatrale di e con Nicola Bizzarri \n  \nINGRESSO CON OFFERTA LIBERA \n  \n 
URL:https://portedivaltellina.it/eventi/storie-sospese/
LOCATION:Morbegno – Auditorium Sant’Antonio
END:VEVENT
END:VCALENDAR