BEGIN:VCALENDAR
VERSION:2.0
PRODID:-//Porte di Valtellina - ECPv6.15.20//NONSGML v1.0//EN
CALSCALE:GREGORIAN
METHOD:PUBLISH
X-WR-CALNAME:Porte di Valtellina
X-ORIGINAL-URL:https://portedivaltellina.it
X-WR-CALDESC:Eventi per Porte di Valtellina
REFRESH-INTERVAL;VALUE=DURATION:PT1H
X-Robots-Tag:noindex
X-PUBLISHED-TTL:PT1H
BEGIN:VTIMEZONE
TZID:Europe/Rome
BEGIN:DAYLIGHT
TZOFFSETFROM:+0100
TZOFFSETTO:+0200
TZNAME:CEST
DTSTART:20240331T010000
END:DAYLIGHT
BEGIN:STANDARD
TZOFFSETFROM:+0200
TZOFFSETTO:+0100
TZNAME:CET
DTSTART:20241027T010000
END:STANDARD
BEGIN:DAYLIGHT
TZOFFSETFROM:+0100
TZOFFSETTO:+0200
TZNAME:CEST
DTSTART:20250330T010000
END:DAYLIGHT
BEGIN:STANDARD
TZOFFSETFROM:+0200
TZOFFSETTO:+0100
TZNAME:CET
DTSTART:20251026T010000
END:STANDARD
BEGIN:DAYLIGHT
TZOFFSETFROM:+0100
TZOFFSETTO:+0200
TZNAME:CEST
DTSTART:20260329T010000
END:DAYLIGHT
BEGIN:STANDARD
TZOFFSETFROM:+0200
TZOFFSETTO:+0100
TZNAME:CET
DTSTART:20261025T010000
END:STANDARD
END:VTIMEZONE
BEGIN:VEVENT
DTSTART;TZID=Europe/Rome:20250116T210000
DTEND;TZID=Europe/Rome:20250116T223000
DTSTAMP:20260419T155419
CREATED:20250110T154727Z
LAST-MODIFIED:20250110T154727Z
UID:10005644-1737061200-1737066600@portedivaltellina.it
SUMMARY:Viaggio di un poeta nel cuore di Maria
DESCRIPTION:Serata di lettura  \nAlfredo Tradigo presenta Charles Péguy: Viaggio di un poeta nel cuore di Maria \nTraduzione e commento da “L’arazzo di Notre Dame” \nLettori: Gina Dell’Oca e Pinuccio Corti \nInfo: Circolo Culturale Delebio \n  \n 
URL:https://portedivaltellina.it/eventi/viaggio-di-un-poeta-nel-cuore-di-maria/
LOCATION:Piantedo – Oratorio\, Via Europa\, 140
END:VEVENT
END:VCALENDAR