BEGIN:VCALENDAR
VERSION:2.0
PRODID:-//Porte di Valtellina - ECPv6.15.20//NONSGML v1.0//EN
CALSCALE:GREGORIAN
METHOD:PUBLISH
X-WR-CALNAME:Porte di Valtellina
X-ORIGINAL-URL:https://portedivaltellina.it
X-WR-CALDESC:Eventi per Porte di Valtellina
REFRESH-INTERVAL;VALUE=DURATION:PT1H
X-Robots-Tag:noindex
X-PUBLISHED-TTL:PT1H
BEGIN:VTIMEZONE
TZID:Europe/Rome
BEGIN:DAYLIGHT
TZOFFSETFROM:+0100
TZOFFSETTO:+0200
TZNAME:CEST
DTSTART:20240331T010000
END:DAYLIGHT
BEGIN:STANDARD
TZOFFSETFROM:+0200
TZOFFSETTO:+0100
TZNAME:CET
DTSTART:20241027T010000
END:STANDARD
BEGIN:DAYLIGHT
TZOFFSETFROM:+0100
TZOFFSETTO:+0200
TZNAME:CEST
DTSTART:20250330T010000
END:DAYLIGHT
BEGIN:STANDARD
TZOFFSETFROM:+0200
TZOFFSETTO:+0100
TZNAME:CET
DTSTART:20251026T010000
END:STANDARD
BEGIN:DAYLIGHT
TZOFFSETFROM:+0100
TZOFFSETTO:+0200
TZNAME:CEST
DTSTART:20260329T010000
END:DAYLIGHT
BEGIN:STANDARD
TZOFFSETFROM:+0200
TZOFFSETTO:+0100
TZNAME:CET
DTSTART:20261025T010000
END:STANDARD
END:VTIMEZONE
BEGIN:VEVENT
DTSTART;TZID=Europe/Rome:20250117T203000
DTEND;TZID=Europe/Rome:20250117T223000
DTSTAMP:20260419T155329
CREATED:20250113T080635Z
LAST-MODIFIED:20250113T080635Z
UID:10005647-1737145800-1737153000@portedivaltellina.it
SUMMARY:Io sono pronto
DESCRIPTION:Presentazione dell’ultimo libro di Walter Orioli \n“… Oggi molte persone non vogliono sentire nemmeno parlare della morte… potremmo scoprire che in verità quel momento potrebbe svelarci il segreto della vita…” \n 
URL:https://portedivaltellina.it/eventi/io-sono-pronto/
LOCATION:Talamona – Biblioteca Comunale Ines Busnarda Luzzi\, Via Don Cusini\, 49\, Talamona\, 23018\, Italia
ORGANIZER;CN="Biblioteca Talamona":MAILTO:biblioteca@comune.talamona.so.it
END:VEVENT
END:VCALENDAR