BEGIN:VCALENDAR
VERSION:2.0
PRODID:-//Porte di Valtellina - ECPv6.15.20//NONSGML v1.0//EN
CALSCALE:GREGORIAN
METHOD:PUBLISH
X-WR-CALNAME:Porte di Valtellina
X-ORIGINAL-URL:https://portedivaltellina.it
X-WR-CALDESC:Eventi per Porte di Valtellina
REFRESH-INTERVAL;VALUE=DURATION:PT1H
X-Robots-Tag:noindex
X-PUBLISHED-TTL:PT1H
BEGIN:VTIMEZONE
TZID:Europe/Rome
BEGIN:DAYLIGHT
TZOFFSETFROM:+0100
TZOFFSETTO:+0200
TZNAME:CEST
DTSTART:20240331T010000
END:DAYLIGHT
BEGIN:STANDARD
TZOFFSETFROM:+0200
TZOFFSETTO:+0100
TZNAME:CET
DTSTART:20241027T010000
END:STANDARD
BEGIN:DAYLIGHT
TZOFFSETFROM:+0100
TZOFFSETTO:+0200
TZNAME:CEST
DTSTART:20250330T010000
END:DAYLIGHT
BEGIN:STANDARD
TZOFFSETFROM:+0200
TZOFFSETTO:+0100
TZNAME:CET
DTSTART:20251026T010000
END:STANDARD
BEGIN:DAYLIGHT
TZOFFSETFROM:+0100
TZOFFSETTO:+0200
TZNAME:CEST
DTSTART:20260329T010000
END:DAYLIGHT
BEGIN:STANDARD
TZOFFSETFROM:+0200
TZOFFSETTO:+0100
TZNAME:CET
DTSTART:20261025T010000
END:STANDARD
END:VTIMEZONE
BEGIN:VEVENT
DTSTART;TZID=Europe/Rome:20250119T090000
DTEND;TZID=Europe/Rome:20250119T120000
DTSTAMP:20260419T155419
CREATED:20250113T081012Z
LAST-MODIFIED:20250113T081012Z
UID:10005648-1737277200-1737288000@portedivaltellina.it
SUMMARY:Sicuri sulla neve
DESCRIPTION:Giornata nazionale dedicata alla prevenzione degli incidenti tipici della stagione invernale. \nMaggiori informazioni: info@valgerolaonline.it – +39 393 8644223
URL:https://portedivaltellina.it/eventi/sicuri-sulla-neve/
LOCATION:Valgerola – Loc. Pescegallo
END:VEVENT
BEGIN:VEVENT
DTSTART;TZID=Europe/Rome:20250119T160000
DTEND;TZID=Europe/Rome:20250119T180000
DTSTAMP:20260419T155419
CREATED:20241221T094340Z
LAST-MODIFIED:20250115T085603Z
UID:10005599-1737302400-1737309600@portedivaltellina.it
SUMMARY:All'osteria dei tre porcellini
DESCRIPTION:Rassegna teatrale bambini 2024-2025 \nSpettacolo del Teatro della Zucca: \nTeatro d’attore \nIngresso: € 6\,00 \nInizio spettacolo ore 16.00 \nPrenotazione consigliata \nInfo e prenotazioni: teatrodellazucca@gmail.com – 347 7606733 – www.teatrodellazucca.com 
URL:https://portedivaltellina.it/eventi/allosteria-dei-tre-porcellini/
LOCATION:Morbegno – Auditorium S. Antonio\, Piazza S. Antonio\, 23017\, Italia
END:VEVENT
BEGIN:VEVENT
DTSTART;TZID=Europe/Rome:20250119T203000
DTEND;TZID=Europe/Rome:20250119T230000
DTSTAMP:20260419T155419
CREATED:20250113T081601Z
LAST-MODIFIED:20250113T081601Z
UID:10005649-1737318600-1737327600@portedivaltellina.it
SUMMARY:The Snookers
DESCRIPTION:Ingresso libero \nMaggiori informazioni: Locanda Via Priula 0342 1980105
URL:https://portedivaltellina.it/eventi/the-snookers/
LOCATION:Morbegno – Locanda Via Priula\, Via Ospital Vecchio\, 17\, Morbegno\, 23017\, Italia
ORGANIZER;CN="Locanda Via Priula":MAILTO:booking@locandaviapriula.it
END:VEVENT
END:VCALENDAR