BEGIN:VCALENDAR
VERSION:2.0
PRODID:-//Porte di Valtellina - ECPv6.15.20//NONSGML v1.0//EN
CALSCALE:GREGORIAN
METHOD:PUBLISH
X-WR-CALNAME:Porte di Valtellina
X-ORIGINAL-URL:https://portedivaltellina.it
X-WR-CALDESC:Eventi per Porte di Valtellina
REFRESH-INTERVAL;VALUE=DURATION:PT1H
X-Robots-Tag:noindex
X-PUBLISHED-TTL:PT1H
BEGIN:VTIMEZONE
TZID:Europe/Rome
BEGIN:DAYLIGHT
TZOFFSETFROM:+0100
TZOFFSETTO:+0200
TZNAME:CEST
DTSTART:20240331T010000
END:DAYLIGHT
BEGIN:STANDARD
TZOFFSETFROM:+0200
TZOFFSETTO:+0100
TZNAME:CET
DTSTART:20241027T010000
END:STANDARD
BEGIN:DAYLIGHT
TZOFFSETFROM:+0100
TZOFFSETTO:+0200
TZNAME:CEST
DTSTART:20250330T010000
END:DAYLIGHT
BEGIN:STANDARD
TZOFFSETFROM:+0200
TZOFFSETTO:+0100
TZNAME:CET
DTSTART:20251026T010000
END:STANDARD
BEGIN:DAYLIGHT
TZOFFSETFROM:+0100
TZOFFSETTO:+0200
TZNAME:CEST
DTSTART:20260329T010000
END:DAYLIGHT
BEGIN:STANDARD
TZOFFSETFROM:+0200
TZOFFSETTO:+0100
TZNAME:CET
DTSTART:20261025T010000
END:STANDARD
END:VTIMEZONE
BEGIN:VEVENT
DTSTART;TZID=Europe/Rome:20250205T203000
DTEND;TZID=Europe/Rome:20250205T220000
DTSTAMP:20260419T142032
CREATED:20250110T085040Z
LAST-MODIFIED:20250206T140411Z
UID:10005639-1738787400-1738792800@portedivaltellina.it
SUMMARY:Sei un genitore?
DESCRIPTION:5 incontri  \nper aumentare consapevolezza e abilità genitoriale e sostenere i figli nel processo di crescita. \nRivolto a genitori con figli di età 9-14 anni. \nPosti limitati\, massimo 25 partecipanti\, necessaria l’iscrizione. \nConducono gli incontri le psicologhe Delfina Bazzi e Maria Novella.  \nInfo e iscrizioni: delfina.bazzi@cooplotta.org
URL:https://portedivaltellina.it/eventi/sei-un-genitore/2025-02-05/
LOCATION:Traona – Centro Polifunzionale – Fraz. La Valletta\, Via Palotta\, 116\, Traona\, 23019\, Italia
ORGANIZER;CN="genitori in rete ODV":MAILTO:genitorinrete@gmail.com
END:VEVENT
END:VCALENDAR