BEGIN:VCALENDAR
VERSION:2.0
PRODID:-//Porte di Valtellina - ECPv6.15.20//NONSGML v1.0//EN
CALSCALE:GREGORIAN
METHOD:PUBLISH
X-WR-CALNAME:Porte di Valtellina
X-ORIGINAL-URL:https://portedivaltellina.it
X-WR-CALDESC:Eventi per Porte di Valtellina
REFRESH-INTERVAL;VALUE=DURATION:PT1H
X-Robots-Tag:noindex
X-PUBLISHED-TTL:PT1H
BEGIN:VTIMEZONE
TZID:Europe/Rome
BEGIN:DAYLIGHT
TZOFFSETFROM:+0100
TZOFFSETTO:+0200
TZNAME:CEST
DTSTART:20240331T010000
END:DAYLIGHT
BEGIN:STANDARD
TZOFFSETFROM:+0200
TZOFFSETTO:+0100
TZNAME:CET
DTSTART:20241027T010000
END:STANDARD
BEGIN:DAYLIGHT
TZOFFSETFROM:+0100
TZOFFSETTO:+0200
TZNAME:CEST
DTSTART:20250330T010000
END:DAYLIGHT
BEGIN:STANDARD
TZOFFSETFROM:+0200
TZOFFSETTO:+0100
TZNAME:CET
DTSTART:20251026T010000
END:STANDARD
BEGIN:DAYLIGHT
TZOFFSETFROM:+0100
TZOFFSETTO:+0200
TZNAME:CEST
DTSTART:20260329T010000
END:DAYLIGHT
BEGIN:STANDARD
TZOFFSETFROM:+0200
TZOFFSETTO:+0100
TZNAME:CET
DTSTART:20261025T010000
END:STANDARD
END:VTIMEZONE
BEGIN:VEVENT
DTSTART;TZID=Europe/Rome:20250222T150000
DTEND;TZID=Europe/Rome:20250222T163000
DTSTAMP:20260419T140617
CREATED:20250109T101600Z
LAST-MODIFIED:20250109T144639Z
UID:10005637-1740236400-1740241800@portedivaltellina.it
SUMMARY:Animali strani e dove trovarli
DESCRIPTION:Museo in famiglia \nQuali animali esistono davvero e quali no? \nDai bestiari medievali alla realtà. \nAttività su prenotazione a numero chiuso per famiglie e bambini dai 5 agli 11 anni \nCosto: € 3\,00 a persona \nInfo: segreteriaventiventiaps@gmail.com – 338 1702694 \nIscrizioni: www.museostorianaturale.it  (entro le 16.00 di venerdì 21 febbraio)
URL:https://portedivaltellina.it/eventi/animali-strani-e-dove-trovarli/
LOCATION:Morbegno – Museo Civico di Storia naturale\, Via Cortivacci\, 2\, Italia
ORGANIZER;CN="Ventiventi":MAILTO:segreteriaventiventiaps@gmail.com
END:VEVENT
BEGIN:VEVENT
DTSTART;TZID=Europe/Rome:20250222T173000
DTEND;TZID=Europe/Rome:20250222T190000
DTSTAMP:20260419T140617
CREATED:20250121T095100Z
LAST-MODIFIED:20250121T095100Z
UID:10005707-1740245400-1740250800@portedivaltellina.it
SUMMARY:Il lupo
DESCRIPTION:Il lupo\, un viaggio attraverso i secoli dal medioevo a Cappuccetto Rosso \nStorie di natura e uomini \nConferenza a cura del Prof. Riccardo Pao dell’università di Bergamo \nIngresso gratuito \nInfo e e prenotazioni: www.museostorianaturale.it
URL:https://portedivaltellina.it/eventi/il-lupo/
LOCATION:Morbegno – Museo Civico di Storia naturale\, Via Cortivacci\, 2\, Italia
END:VEVENT
BEGIN:VEVENT
DTSTART;TZID=Europe/Rome:20250222T190000
DTEND;TZID=Europe/Rome:20250222T230000
DTSTAMP:20260419T140617
CREATED:20250114T103544Z
LAST-MODIFIED:20250114T103544Z
UID:10005656-1740250800-1740265200@portedivaltellina.it
SUMMARY:Torneo di burraco
DESCRIPTION:Cena e torneo di burraco \nall’oratorio di Delebio \n\nalle ore 19.00 cena\nalle ore 20.30 inizio torneo\n\nCosto: gioco e cena € 25\,00 – solo gioco € 10\,00 – solo cena € 15\,00 \nIscrizioni riservate a coppie precostituite\, entro il 20 febbraio. \nIl ricavato sarà devoluto alle necessità degli oratori dell’associazione Andepianerò. \nInfo e prenotazioni: Antonella 340 7333916 – Ketty 335 7871859
URL:https://portedivaltellina.it/eventi/torneo-di-burraco-3/
LOCATION:Delebio – Oratorio
ORGANIZER;CN="Comunit%C3%A0 Pastorale Andalo%2C Delebio%2C Piantedo%2C Rogolo":MAILTO:associazioneandepianero@gmail.com
END:VEVENT
BEGIN:VEVENT
DTSTART;TZID=Europe/Rome:20250222T210000
DTEND;TZID=Europe/Rome:20250222T230000
DTSTAMP:20260419T140617
CREATED:20250212T150310Z
LAST-MODIFIED:20250212T150310Z
UID:10005759-1740258000-1740265200@portedivaltellina.it
SUMMARY:Che rebelot!
DESCRIPTION:Tournée 2025 \nSpettacolo di Cabaret in due tempi \nIngresso con offerta libera
URL:https://portedivaltellina.it/eventi/che-rebelot-2/
LOCATION:Andalo Valtellino – Auditorium\, Via alla Chiesa\, 1\, Andalo Valtellino\, 23014\, Italia
ORGANIZER;CN="Arcad":MAILTO:arcad.dazio@libero.it
END:VEVENT
END:VCALENDAR