BEGIN:VCALENDAR
VERSION:2.0
PRODID:-//Porte di Valtellina - ECPv6.15.20//NONSGML v1.0//EN
CALSCALE:GREGORIAN
METHOD:PUBLISH
X-WR-CALNAME:Porte di Valtellina
X-ORIGINAL-URL:https://portedivaltellina.it
X-WR-CALDESC:Eventi per Porte di Valtellina
REFRESH-INTERVAL;VALUE=DURATION:PT1H
X-Robots-Tag:noindex
X-PUBLISHED-TTL:PT1H
BEGIN:VTIMEZONE
TZID:Europe/Rome
BEGIN:DAYLIGHT
TZOFFSETFROM:+0100
TZOFFSETTO:+0200
TZNAME:CEST
DTSTART:20240331T010000
END:DAYLIGHT
BEGIN:STANDARD
TZOFFSETFROM:+0200
TZOFFSETTO:+0100
TZNAME:CET
DTSTART:20241027T010000
END:STANDARD
BEGIN:DAYLIGHT
TZOFFSETFROM:+0100
TZOFFSETTO:+0200
TZNAME:CEST
DTSTART:20250330T010000
END:DAYLIGHT
BEGIN:STANDARD
TZOFFSETFROM:+0200
TZOFFSETTO:+0100
TZNAME:CET
DTSTART:20251026T010000
END:STANDARD
BEGIN:DAYLIGHT
TZOFFSETFROM:+0100
TZOFFSETTO:+0200
TZNAME:CEST
DTSTART:20260329T010000
END:DAYLIGHT
BEGIN:STANDARD
TZOFFSETFROM:+0200
TZOFFSETTO:+0100
TZNAME:CET
DTSTART:20261025T010000
END:STANDARD
END:VTIMEZONE
BEGIN:VEVENT
DTSTART;TZID=Europe/Rome:20250304T190000
DTEND;TZID=Europe/Rome:20250304T190000
DTSTAMP:20260419T142032
CREATED:20250301T103957Z
LAST-MODIFIED:20250301T104742Z
UID:10005871-1741114800-1741114800@portedivaltellina.it
SUMMARY:Fregula con vongole
DESCRIPTION:Serata di degustazione \nalla Locanda Via Priula dalle ore 19.00 \nInfo e prenotazioni: 0342 1980105
URL:https://portedivaltellina.it/eventi/fregula-con-vongole/
LOCATION:Morbegno – Locanda Via Priula\, Via Ospital Vecchio\, 17\, Morbegno\, 23017\, Italia
ORGANIZER;CN="Locanda Via Priula":MAILTO:booking@locandaviapriula.it
END:VEVENT
END:VCALENDAR