BEGIN:VCALENDAR
VERSION:2.0
PRODID:-//Porte di Valtellina - ECPv6.15.20//NONSGML v1.0//EN
CALSCALE:GREGORIAN
METHOD:PUBLISH
X-ORIGINAL-URL:https://portedivaltellina.it
X-WR-CALDESC:Eventi per Porte di Valtellina
REFRESH-INTERVAL;VALUE=DURATION:PT1H
X-Robots-Tag:noindex
X-PUBLISHED-TTL:PT1H
BEGIN:VTIMEZONE
TZID:Europe/Rome
BEGIN:DAYLIGHT
TZOFFSETFROM:+0100
TZOFFSETTO:+0200
TZNAME:CEST
DTSTART:20240331T010000
END:DAYLIGHT
BEGIN:STANDARD
TZOFFSETFROM:+0200
TZOFFSETTO:+0100
TZNAME:CET
DTSTART:20241027T010000
END:STANDARD
BEGIN:DAYLIGHT
TZOFFSETFROM:+0100
TZOFFSETTO:+0200
TZNAME:CEST
DTSTART:20250330T010000
END:DAYLIGHT
BEGIN:STANDARD
TZOFFSETFROM:+0200
TZOFFSETTO:+0100
TZNAME:CET
DTSTART:20251026T010000
END:STANDARD
BEGIN:DAYLIGHT
TZOFFSETFROM:+0100
TZOFFSETTO:+0200
TZNAME:CEST
DTSTART:20260329T010000
END:DAYLIGHT
BEGIN:STANDARD
TZOFFSETFROM:+0200
TZOFFSETTO:+0100
TZNAME:CET
DTSTART:20261025T010000
END:STANDARD
END:VTIMEZONE
BEGIN:VEVENT
DTSTART;TZID=Europe/Rome:20250306T080000
DTEND;TZID=Europe/Rome:20250309T170000
DTSTAMP:20260419T142534
CREATED:20250219T103023Z
LAST-MODIFIED:20250219T103023Z
UID:10005778-1741248000-1741539600@portedivaltellina.it
SUMMARY:Amazzoni
DESCRIPTION: Mostra \npromossa in occasione dell’evento “Donne al centro della comunità” che racconta di storie di forza e resilienza attraverso l’arte. \nA cura di Martina Fontana\, \n\nTesti Giovanna Brambilla\nFoto Daniela Pellegrini\nin collaborazione con associazione Amazzoni\n\nGiovedì ore 18.30 serata di inaugurazione: \nA seguire Aperitivo Rosa a cura della Locanda Via Priula e di Pasticceria Berta. \nInfo: ass.amazzoni@gmail.com – 3494007692
URL:https://portedivaltellina.it/eventi/amazzoni/
LOCATION:Morbegno – Chiostro di Sant’Antonio
END:VEVENT
BEGIN:VEVENT
DTSTART;TZID=Europe/Rome:20250306T173000
DTEND;TZID=Europe/Rome:20250306T190000
DTSTAMP:20260419T142534
CREATED:20250222T093736Z
LAST-MODIFIED:20250222T093736Z
UID:10005794-1741282200-1741287600@portedivaltellina.it
SUMMARY:Poesie di donne e poesie per donne
DESCRIPTION:Letture di poesie \nPomeriggio di lettura di poesie con brevi intervalli musicali e un aperitivo in compagnia \nIngresso gratuito \nInfo: 0342 684564 – biblioteca.delebio@gmail.com
URL:https://portedivaltellina.it/eventi/poesie-di-donne-e-poesie-per-donne/
LOCATION:Delebio – Biblioteca Comunale
ORGANIZER;CN="Biblioteca di Delebio":MAILTO:biblioteca.delebio@gmail.com
END:VEVENT
BEGIN:VEVENT
DTSTART;TZID=Europe/Rome:20250306T183000
DTEND;TZID=Europe/Rome:20250306T223000
DTSTAMP:20260419T142534
CREATED:20250225T151347Z
LAST-MODIFIED:20250225T151347Z
UID:10005855-1741285800-1741300200@portedivaltellina.it
SUMMARY:Donne al centro della comunità
DESCRIPTION:Prevenzione & buona cura \nMigliorare la qualità della vita delle donne con tumore alla mammella \n\nPROGRAMMA \n\nAlle ore 18.30\, presso la Sala Ovest del Convento S. Antonio\, inaugurazione della mostra “Amazzoni” a cura di Martina Fontana\nA seguire “Aperitivo Rosa”\, a cura di Locanda Via Priula e Pasticceria Berta\nAlle ore 21 serata musicale presso la Locanda Via Priula\, con presentazione del libro “Io vivo felice. E tu?” di Consuelo Orsingher\n\nClicca QUI per poter visualizzare l’intero programma della manifestazione.
URL:https://portedivaltellina.it/eventi/donne-al-centro-della-comunita/
LOCATION:Morbegno
END:VEVENT
END:VCALENDAR