BEGIN:VCALENDAR
VERSION:2.0
PRODID:-//Porte di Valtellina - ECPv6.15.20//NONSGML v1.0//EN
CALSCALE:GREGORIAN
METHOD:PUBLISH
X-ORIGINAL-URL:https://portedivaltellina.it
X-WR-CALDESC:Eventi per Porte di Valtellina
REFRESH-INTERVAL;VALUE=DURATION:PT1H
X-Robots-Tag:noindex
X-PUBLISHED-TTL:PT1H
BEGIN:VTIMEZONE
TZID:Europe/Rome
BEGIN:DAYLIGHT
TZOFFSETFROM:+0100
TZOFFSETTO:+0200
TZNAME:CEST
DTSTART:20240331T010000
END:DAYLIGHT
BEGIN:STANDARD
TZOFFSETFROM:+0200
TZOFFSETTO:+0100
TZNAME:CET
DTSTART:20241027T010000
END:STANDARD
BEGIN:DAYLIGHT
TZOFFSETFROM:+0100
TZOFFSETTO:+0200
TZNAME:CEST
DTSTART:20250330T010000
END:DAYLIGHT
BEGIN:STANDARD
TZOFFSETFROM:+0200
TZOFFSETTO:+0100
TZNAME:CET
DTSTART:20251026T010000
END:STANDARD
BEGIN:DAYLIGHT
TZOFFSETFROM:+0100
TZOFFSETTO:+0200
TZNAME:CEST
DTSTART:20260329T010000
END:DAYLIGHT
BEGIN:STANDARD
TZOFFSETFROM:+0200
TZOFFSETTO:+0100
TZNAME:CET
DTSTART:20261025T010000
END:STANDARD
END:VTIMEZONE
BEGIN:VEVENT
DTSTART;TZID=Europe/Rome:20250306T080000
DTEND;TZID=Europe/Rome:20250309T170000
DTSTAMP:20260419T142534
CREATED:20250219T103023Z
LAST-MODIFIED:20250219T103023Z
UID:10005778-1741248000-1741539600@portedivaltellina.it
SUMMARY:Amazzoni
DESCRIPTION: Mostra \npromossa in occasione dell’evento “Donne al centro della comunità” che racconta di storie di forza e resilienza attraverso l’arte. \nA cura di Martina Fontana\, \n\nTesti Giovanna Brambilla\nFoto Daniela Pellegrini\nin collaborazione con associazione Amazzoni\n\nGiovedì ore 18.30 serata di inaugurazione: \nA seguire Aperitivo Rosa a cura della Locanda Via Priula e di Pasticceria Berta. \nInfo: ass.amazzoni@gmail.com – 3494007692
URL:https://portedivaltellina.it/eventi/amazzoni/
LOCATION:Morbegno – Chiostro di Sant’Antonio
END:VEVENT
BEGIN:VEVENT
DTSTART;TZID=Europe/Rome:20250307T080000
DTEND;TZID=Europe/Rome:20250307T170000
DTSTAMP:20260419T142534
CREATED:20250224T085923Z
LAST-MODIFIED:20250410T075811Z
UID:10006006-1741334400-1741366800@portedivaltellina.it
SUMMARY:Fili colorati: crea\, gioca e divertiti!
DESCRIPTION:Impara a lavorare a maglia: un pomeriggio creativo in biblioteca \nCiao bambine e bambini! Siete pronti a scoprire un’arte magica e divertente? \nLe volontarie della cultura vi aspettano in biblioteca per un pomeriggio speciale dedicato alla maglia! \n————————————————————- \nCosa faremo? \n\nImpareremo insieme a intrecciare i fili colorati\nTrasformeremo la lana in creazioni uniche\nCi divertiremo con tanta fantasia e creatività\n\nVieni a trovarci e prova anche tu! \nOgni venerdì a partire dal 7 marzo. \nInfo e prenotazioni: biblioteca@comune.ardenno.so.it – 0342 662282
URL:https://portedivaltellina.it/eventi/fili-colorati-crea-gioca-e-divertiti/2025-03-07/1/
LOCATION:Ardenno – biblioteca\, Via LIbertà\, 11
END:VEVENT
BEGIN:VEVENT
DTSTART;TZID=Europe/Rome:20250307T143000
DTEND;TZID=Europe/Rome:20250307T163000
DTSTAMP:20260419T142534
CREATED:20250224T085923Z
LAST-MODIFIED:20250410T075811Z
UID:10005796-1741357800-1741365000@portedivaltellina.it
SUMMARY:Fili colorati: crea\, gioca e divertiti!
DESCRIPTION:Impara a lavorare a maglia: un pomeriggio creativo in biblioteca \nCiao bambine e bambini! Siete pronti a scoprire un’arte magica e divertente? \nLe volontarie della cultura vi aspettano in biblioteca per un pomeriggio speciale dedicato alla maglia! \n————————————————————- \nCosa faremo? \n\nImpareremo insieme a intrecciare i fili colorati\nTrasformeremo la lana in creazioni uniche\nCi divertiremo con tanta fantasia e creatività\n\nVieni a trovarci e prova anche tu! \nOgni venerdì a partire dal 7 marzo. \nInfo e prenotazioni: biblioteca@comune.ardenno.so.it – 0342 662282
URL:https://portedivaltellina.it/eventi/fili-colorati-crea-gioca-e-divertiti/2025-03-07/2/
LOCATION:Ardenno – biblioteca\, Via LIbertà\, 11
END:VEVENT
BEGIN:VEVENT
DTSTART;TZID=Europe/Rome:20250307T170000
DTEND;TZID=Europe/Rome:20250314T190000
DTSTAMP:20260419T142534
CREATED:20250219T103744Z
LAST-MODIFIED:20250219T103744Z
UID:10005779-1741366800-1741978800@portedivaltellina.it
SUMMARY:Rapporto intimo
DESCRIPTION:Mostra fotografica  \nche racconta la violenza di genere \nCon la partecipazione del Piccolo Teatro delle Valli e gli studenti della 3ª C dell’istituto Comprensivo Damiani \nInaugurazione Venerdì 7 marzo ore 17.00 \nOrari: \n\nLun/Ven 16.00/19.00\nSab/Dom 10.00/13.00 – 15.00/19.00.\n\nInfo: www.evaltellina.com \n 
URL:https://portedivaltellina.it/eventi/rapporto-intimo/
LOCATION:Morbegno – Sant’Antonio\, Piazza Sant'Antonio\, Morbegno\, 23017\, Italia
ORGANIZER;CN="Evaltellina":MAILTO:info@evaltellina.com
END:VEVENT
BEGIN:VEVENT
DTSTART;TZID=Europe/Rome:20250307T203000
DTEND;TZID=Europe/Rome:20250307T223000
DTSTAMP:20260419T142534
CREATED:20250305T114849Z
LAST-MODIFIED:20250305T114849Z
UID:10005881-1741379400-1741386600@portedivaltellina.it
SUMMARY:I segni del tempo
DESCRIPTION:Caffè filosofico \nLa filosofia non serve \nLa partecipazione è libera \nMaggiori informazioni: biblioteca@comune.morbegno.so.it – 0342 610323 \n 
URL:https://portedivaltellina.it/eventi/i-segni-del-tempo/
LOCATION:Morbegno – Biblioteca Civica Ezio Vanoni\, Via Cortivacci\, 4\, 23017
END:VEVENT
BEGIN:VEVENT
DTSTART;TZID=Europe/Rome:20250307T210000
DTEND;TZID=Europe/Rome:20250307T223000
DTSTAMP:20260419T142534
CREATED:20250228T160833Z
LAST-MODIFIED:20250228T160833Z
UID:10005869-1741381200-1741386600@portedivaltellina.it
SUMMARY:Il paese del zitelli
DESCRIPTION:Spettacolo teatrale \nLa compagnia teatrale Il Caminetto presenta una \ncommedia brillante in due atti \nRegia di Elena Sacchi \nIngresso libero \n  \n 
URL:https://portedivaltellina.it/eventi/il-paese-del-zitelli/2025-03-07/
LOCATION:Ardenno – Sala Marvelli
END:VEVENT
BEGIN:VEVENT
DTSTART;TZID=Europe/Rome:20250307T210000
DTEND;TZID=Europe/Rome:20250307T230000
DTSTAMP:20260419T142534
CREATED:20250212T145700Z
LAST-MODIFIED:20250212T145700Z
UID:10005756-1741381200-1741388400@portedivaltellina.it
SUMMARY:'ndueli i mesüri
DESCRIPTION:Commedia dialettale liberamente tratta dalla realtà \n\nRegia di Bruna Corgatelli\nAttrezzista Oreste Angelini\nCostumi e scenografia di Enrica Peverelli e Milena Buttera\n\nPersonaggi ed interpreti \n\nSorbilla: Angela Gusmeroli\nAtena: Lucia Fosti\nDorilda: Rosanna Fransci\nGaspare: Ilario Moretti\nGuidolfo: Silvano Fransci\nPardo: Marco Colli\nSofisto: Danilo Ceciliani\nScindolo: Silvio Abramini\nFrisco: Luca Scaramella\n\n 
URL:https://portedivaltellina.it/eventi/ndueli-i-mesuri/2025-03-07/
LOCATION:Delebio – Oratorio
END:VEVENT
BEGIN:VEVENT
DTSTART;TZID=Europe/Rome:20250307T210000
DTEND;TZID=Europe/Rome:20250307T230000
DTSTAMP:20260419T142534
CREATED:20250224T090326Z
LAST-MODIFIED:20250224T090326Z
UID:10005852-1741381200-1741388400@portedivaltellina.it
SUMMARY:Majja Pliseckaja
DESCRIPTION:Per la festa delle donne \nLa carismatica ballerina del Teatro Bol’soj \nRelatrice: Giulia Peroni \nInfo e prenotazioni: info@associazioneomnibus.com – +39 335 5308189
URL:https://portedivaltellina.it/eventi/majja-pliseckaja/
LOCATION:Morbegno – Via San Giovanni\, 8
ORGANIZER;CN="Associazione Omnibus":MAILTO:info@associazioneomnibus.com
END:VEVENT
END:VCALENDAR