BEGIN:VCALENDAR
VERSION:2.0
PRODID:-//Porte di Valtellina - ECPv6.15.20//NONSGML v1.0//EN
CALSCALE:GREGORIAN
METHOD:PUBLISH
X-WR-CALNAME:Porte di Valtellina
X-ORIGINAL-URL:https://portedivaltellina.it
X-WR-CALDESC:Eventi per Porte di Valtellina
REFRESH-INTERVAL;VALUE=DURATION:PT1H
X-Robots-Tag:noindex
X-PUBLISHED-TTL:PT1H
BEGIN:VTIMEZONE
TZID:Europe/Rome
BEGIN:DAYLIGHT
TZOFFSETFROM:+0100
TZOFFSETTO:+0200
TZNAME:CEST
DTSTART:20240331T010000
END:DAYLIGHT
BEGIN:STANDARD
TZOFFSETFROM:+0200
TZOFFSETTO:+0100
TZNAME:CET
DTSTART:20241027T010000
END:STANDARD
BEGIN:DAYLIGHT
TZOFFSETFROM:+0100
TZOFFSETTO:+0200
TZNAME:CEST
DTSTART:20250330T010000
END:DAYLIGHT
BEGIN:STANDARD
TZOFFSETFROM:+0200
TZOFFSETTO:+0100
TZNAME:CET
DTSTART:20251026T010000
END:STANDARD
BEGIN:DAYLIGHT
TZOFFSETFROM:+0100
TZOFFSETTO:+0200
TZNAME:CEST
DTSTART:20260329T010000
END:DAYLIGHT
BEGIN:STANDARD
TZOFFSETFROM:+0200
TZOFFSETTO:+0100
TZNAME:CET
DTSTART:20261025T010000
END:STANDARD
END:VTIMEZONE
BEGIN:VEVENT
DTSTART;TZID=Europe/Rome:20250307T170000
DTEND;TZID=Europe/Rome:20250314T190000
DTSTAMP:20260419T142044
CREATED:20250219T103744Z
LAST-MODIFIED:20250219T103744Z
UID:10005779-1741366800-1741978800@portedivaltellina.it
SUMMARY:Rapporto intimo
DESCRIPTION:Mostra fotografica  \nche racconta la violenza di genere \nCon la partecipazione del Piccolo Teatro delle Valli e gli studenti della 3ª C dell’istituto Comprensivo Damiani \nInaugurazione Venerdì 7 marzo ore 17.00 \nOrari: \n\nLun/Ven 16.00/19.00\nSab/Dom 10.00/13.00 – 15.00/19.00.\n\nInfo: www.evaltellina.com \n 
URL:https://portedivaltellina.it/eventi/rapporto-intimo/
LOCATION:Morbegno – Sant’Antonio\, Piazza Sant'Antonio\, Morbegno\, 23017\, Italia
ORGANIZER;CN="Evaltellina":MAILTO:info@evaltellina.com
END:VEVENT
BEGIN:VEVENT
DTSTART;TZID=Europe/Rome:20250310T203000
DTEND;TZID=Europe/Rome:20250310T223000
DTSTAMP:20260419T142044
CREATED:20250310T085009Z
LAST-MODIFIED:20250310T085009Z
UID:10005891-1741638600-1741645800@portedivaltellina.it
SUMMARY:Oltre i pantaloni rosa
DESCRIPTION:Incontro per educatori e genitori con Teresa Manes\, madre di Andrea. \nIngresso libero\, fino ad esaurimento posti.
URL:https://portedivaltellina.it/eventi/oltre-i-pantaloni-rosa/
LOCATION:Morbegno – Auditorium S. Antonio\, Piazza S. Antonio\, 23017\, Italia
END:VEVENT
END:VCALENDAR