BEGIN:VCALENDAR
VERSION:2.0
PRODID:-//Porte di Valtellina - ECPv6.15.20//NONSGML v1.0//EN
CALSCALE:GREGORIAN
METHOD:PUBLISH
X-ORIGINAL-URL:https://portedivaltellina.it
X-WR-CALDESC:Eventi per Porte di Valtellina
REFRESH-INTERVAL;VALUE=DURATION:PT1H
X-Robots-Tag:noindex
X-PUBLISHED-TTL:PT1H
BEGIN:VTIMEZONE
TZID:Europe/Rome
BEGIN:DAYLIGHT
TZOFFSETFROM:+0100
TZOFFSETTO:+0200
TZNAME:CEST
DTSTART:20240331T010000
END:DAYLIGHT
BEGIN:STANDARD
TZOFFSETFROM:+0200
TZOFFSETTO:+0100
TZNAME:CET
DTSTART:20241027T010000
END:STANDARD
BEGIN:DAYLIGHT
TZOFFSETFROM:+0100
TZOFFSETTO:+0200
TZNAME:CEST
DTSTART:20250330T010000
END:DAYLIGHT
BEGIN:STANDARD
TZOFFSETFROM:+0200
TZOFFSETTO:+0100
TZNAME:CET
DTSTART:20251026T010000
END:STANDARD
BEGIN:DAYLIGHT
TZOFFSETFROM:+0100
TZOFFSETTO:+0200
TZNAME:CEST
DTSTART:20260329T010000
END:DAYLIGHT
BEGIN:STANDARD
TZOFFSETFROM:+0200
TZOFFSETTO:+0100
TZNAME:CET
DTSTART:20261025T010000
END:STANDARD
END:VTIMEZONE
BEGIN:VEVENT
DTSTART;TZID=Europe/Rome:20250307T170000
DTEND;TZID=Europe/Rome:20250314T190000
DTSTAMP:20260419T142600
CREATED:20250219T103744Z
LAST-MODIFIED:20250219T103744Z
UID:10005779-1741366800-1741978800@portedivaltellina.it
SUMMARY:Rapporto intimo
DESCRIPTION:Mostra fotografica  \nche racconta la violenza di genere \nCon la partecipazione del Piccolo Teatro delle Valli e gli studenti della 3ª C dell’istituto Comprensivo Damiani \nInaugurazione Venerdì 7 marzo ore 17.00 \nOrari: \n\nLun/Ven 16.00/19.00\nSab/Dom 10.00/13.00 – 15.00/19.00.\n\nInfo: www.evaltellina.com \n 
URL:https://portedivaltellina.it/eventi/rapporto-intimo/
LOCATION:Morbegno – Sant’Antonio\, Piazza Sant'Antonio\, Morbegno\, 23017\, Italia
ORGANIZER;CN="Evaltellina":MAILTO:info@evaltellina.com
END:VEVENT
BEGIN:VEVENT
DTSTART;TZID=Europe/Rome:20250312T170000
DTEND;TZID=Europe/Rome:20250312T190000
DTSTAMP:20260419T142600
CREATED:20241108T151708Z
LAST-MODIFIED:20250102T090921Z
UID:10005513-1741798800-1741806000@portedivaltellina.it
SUMMARY:Terra Glacialis
DESCRIPTION:I ghiacciai della Lombardia:  \nun patrimonio minacciato dalla crisi climatica. \nMostra fotografica a cura del Servizio Glaciologico Lombardo negli orari di apertura del museo: \n\nmartedì – giovedì – sabato e domenica\ndalle 9.00 alle 12.00 – dalle 14.30 alle 17.30\n\nIngresso gratuito \nInaugurazione con conferenza mercoledì 11 dicembre ore 17\,00 con prenotazione obbligatoria.  \nInfo: www.museostorianaturale.it
URL:https://portedivaltellina.it/eventi/terra-glacialis/2025-03-12/
LOCATION:Morbegno – Museo Civico di Storia naturale\, Via Cortivacci\, 2\, Italia
END:VEVENT
BEGIN:VEVENT
DTSTART;TZID=Europe/Rome:20250312T203000
DTEND;TZID=Europe/Rome:20250312T213000
DTSTAMP:20260419T142600
CREATED:20250208T082915Z
LAST-MODIFIED:20250208T082915Z
UID:10005746-1741811400-1741815000@portedivaltellina.it
SUMMARY:Venti di lettura
DESCRIPTION:Gruppo di lettura \nun mercoledì al mese presso la biblioteca di Piantedo \nInfo: 0342 682193 –  biblioteca@comune.piantedo.so.it \n 
URL:https://portedivaltellina.it/eventi/venti-di-lettura-2/2025-03-12/
LOCATION:Piantedo – Biblioteca\, Piazza Papa Giovanni XXII\, 104
END:VEVENT
END:VCALENDAR