BEGIN:VCALENDAR
VERSION:2.0
PRODID:-//Porte di Valtellina - ECPv6.15.20//NONSGML v1.0//EN
CALSCALE:GREGORIAN
METHOD:PUBLISH
X-ORIGINAL-URL:https://portedivaltellina.it
X-WR-CALDESC:Eventi per Porte di Valtellina
REFRESH-INTERVAL;VALUE=DURATION:PT1H
X-Robots-Tag:noindex
X-PUBLISHED-TTL:PT1H
BEGIN:VTIMEZONE
TZID:Europe/Rome
BEGIN:DAYLIGHT
TZOFFSETFROM:+0100
TZOFFSETTO:+0200
TZNAME:CEST
DTSTART:20240331T010000
END:DAYLIGHT
BEGIN:STANDARD
TZOFFSETFROM:+0200
TZOFFSETTO:+0100
TZNAME:CET
DTSTART:20241027T010000
END:STANDARD
BEGIN:DAYLIGHT
TZOFFSETFROM:+0100
TZOFFSETTO:+0200
TZNAME:CEST
DTSTART:20250330T010000
END:DAYLIGHT
BEGIN:STANDARD
TZOFFSETFROM:+0200
TZOFFSETTO:+0100
TZNAME:CET
DTSTART:20251026T010000
END:STANDARD
BEGIN:DAYLIGHT
TZOFFSETFROM:+0100
TZOFFSETTO:+0200
TZNAME:CEST
DTSTART:20260329T010000
END:DAYLIGHT
BEGIN:STANDARD
TZOFFSETFROM:+0200
TZOFFSETTO:+0100
TZNAME:CET
DTSTART:20261025T010000
END:STANDARD
END:VTIMEZONE
BEGIN:VEVENT
DTSTART;TZID=Europe/Rome:20250307T170000
DTEND;TZID=Europe/Rome:20250314T190000
DTSTAMP:20260419T142534
CREATED:20250219T103744Z
LAST-MODIFIED:20250219T103744Z
UID:10005779-1741366800-1741978800@portedivaltellina.it
SUMMARY:Rapporto intimo
DESCRIPTION:Mostra fotografica  \nche racconta la violenza di genere \nCon la partecipazione del Piccolo Teatro delle Valli e gli studenti della 3ª C dell’istituto Comprensivo Damiani \nInaugurazione Venerdì 7 marzo ore 17.00 \nOrari: \n\nLun/Ven 16.00/19.00\nSab/Dom 10.00/13.00 – 15.00/19.00.\n\nInfo: www.evaltellina.com \n 
URL:https://portedivaltellina.it/eventi/rapporto-intimo/
LOCATION:Morbegno – Sant’Antonio\, Piazza Sant'Antonio\, Morbegno\, 23017\, Italia
ORGANIZER;CN="Evaltellina":MAILTO:info@evaltellina.com
END:VEVENT
BEGIN:VEVENT
DTSTART;VALUE=DATE:20250314
DTEND;VALUE=DATE:20250317
DTSTAMP:20260419T142534
CREATED:20250311T110116Z
LAST-MODIFIED:20250311T110116Z
UID:10005893-1741910400-1742169599@portedivaltellina.it
SUMMARY:Le ventuno madri costituenti
DESCRIPTION:Conosciamo le donne che hanno contribuito a scrivere la Costituzione Italiana \nVenerdì alle ore 17.30 presentazione storica di Lucia Codurelli \nOrari di apertura: venerdì\, sabato e domenica dalle ore 10 alle ore 12 e dalle ore 15 alle ore 18.30 \nMaggiori informazioni: anpimorbegnobv@gmail.com
URL:https://portedivaltellina.it/eventi/le-ventuno-madri-costituenti/
LOCATION:Morbegno – Chiostro di Sant’Antonio
END:VEVENT
BEGIN:VEVENT
DTSTART;TZID=Europe/Rome:20250314T143000
DTEND;TZID=Europe/Rome:20250314T163000
DTSTAMP:20260419T142534
CREATED:20250224T085923Z
LAST-MODIFIED:20250410T075811Z
UID:10005797-1741962600-1741969800@portedivaltellina.it
SUMMARY:Fili colorati: crea\, gioca e divertiti!
DESCRIPTION:Impara a lavorare a maglia: un pomeriggio creativo in biblioteca \nCiao bambine e bambini! Siete pronti a scoprire un’arte magica e divertente? \nLe volontarie della cultura vi aspettano in biblioteca per un pomeriggio speciale dedicato alla maglia! \n————————————————————- \nCosa faremo? \n\nImpareremo insieme a intrecciare i fili colorati\nTrasformeremo la lana in creazioni uniche\nCi divertiremo con tanta fantasia e creatività\n\nVieni a trovarci e prova anche tu! \nOgni venerdì a partire dal 7 marzo. \nInfo e prenotazioni: biblioteca@comune.ardenno.so.it – 0342 662282
URL:https://portedivaltellina.it/eventi/fili-colorati-crea-gioca-e-divertiti/2025-03-14/
LOCATION:Ardenno – biblioteca\, Via LIbertà\, 11
END:VEVENT
BEGIN:VEVENT
DTSTART;TZID=Europe/Rome:20250314T173000
DTEND;TZID=Europe/Rome:20250314T190000
DTSTAMP:20260419T142534
CREATED:20250227T114745Z
LAST-MODIFIED:20250227T114745Z
UID:10005867-1741973400-1741978800@portedivaltellina.it
SUMMARY:Aperitivo letterario
DESCRIPTION:Sole in fronte \nPresentazione del libro con l’autrice  Simona Monti  \nAl termine è previsto un aperitivo \nIngresso libero a tutti \nInfo: biblioteca.delebio@gmail.com – 0342 684564
URL:https://portedivaltellina.it/eventi/aperitivo-letterario/
LOCATION:Delebio – Biblioteca Comunale
ORGANIZER;CN="Biblioteca di Delebio":MAILTO:biblioteca.delebio@gmail.com
END:VEVENT
BEGIN:VEVENT
DTSTART;TZID=Europe/Rome:20250314T183000
DTEND;TZID=Europe/Rome:20250314T200000
DTSTAMP:20260419T142534
CREATED:20250225T153116Z
LAST-MODIFIED:20250225T153116Z
UID:10005857-1741977000-1741982400@portedivaltellina.it
SUMMARY:Presentazione pubblicazione a cura del gruppo culturale de I Prati
DESCRIPTION:Il nostro tour del Comune di Cosio Valtellino \nPresentazione della pubblicazione “Il nostro tour del Comune di Cosio Valtellino – Tra storia e arte\, un giro tra i luoghi più belli e significativi del Comune di Cosio Valtellino”. \nCon la partecipazione della banda giovanile della Filarmonica Santa Cecilia di Cosio Valtellino. \nA seguire rinfresco offerto da Tipi&Co e Eden Il Ristorante della Pizza. \nIngresso libero \n 
URL:https://portedivaltellina.it/eventi/presentazione-pubblicazione-a-cura-del-gruppo-culturale-de-i-prati/
LOCATION:Cosio Valt.no Centro I Prati\, Via Lombardia\, 14 - Fraz. Regoledo\, Cosio Valtellino\, 23013
END:VEVENT
BEGIN:VEVENT
DTSTART;TZID=Europe/Rome:20250314T200000
DTEND;TZID=Europe/Rome:20250314T213000
DTSTAMP:20260419T142534
CREATED:20250304T090127Z
LAST-MODIFIED:20250304T090127Z
UID:10005872-1741982400-1741987800@portedivaltellina.it
SUMMARY:Reading Party
DESCRIPTION:No Sound \nVuoi passare una serata tranquilla? \nScegli un libro e vai in biblioteca a leggerlo \nPorta una tazza o un bicchiere: alle tisane e ai biscotti ci pensano i bibliotecari a cui potrai anche chiedere consigli di lettura. \nInfo: Biblioteca 0342 610323 – biblioteca@comune.morbegno.so.it
URL:https://portedivaltellina.it/eventi/reading-party/
LOCATION:Morbegno – Biblioteca Civica Ezio Vanoni\, Via Cortivacci\, 4\, 23017
ORGANIZER;CN="Biblioteca Civica Ezio Vanoni":MAILTO:biblioteca@comune.morbegno.so.it
END:VEVENT
BEGIN:VEVENT
DTSTART;TZID=Europe/Rome:20250314T210000
DTEND;TZID=Europe/Rome:20250314T230000
DTSTAMP:20260419T142534
CREATED:20250311T105443Z
LAST-MODIFIED:20250311T105443Z
UID:10005892-1741986000-1741993200@portedivaltellina.it
SUMMARY:Una tranquilla famiglia
DESCRIPTION:Divertentissimo giallo-comico di M. Frenquelli \nPresentato dalla compagnia teatrale de “I Legnonesi” di Colico \nIngresso libero
URL:https://portedivaltellina.it/eventi/una-tranquilla-famiglia-2/
LOCATION:Traona – Auditorium comunale\, PIazza Caduti\, 29\, Traona\, 23019
END:VEVENT
END:VCALENDAR