BEGIN:VCALENDAR
VERSION:2.0
PRODID:-//Porte di Valtellina - ECPv6.15.20//NONSGML v1.0//EN
CALSCALE:GREGORIAN
METHOD:PUBLISH
X-WR-CALNAME:Porte di Valtellina
X-ORIGINAL-URL:https://portedivaltellina.it
X-WR-CALDESC:Eventi per Porte di Valtellina
REFRESH-INTERVAL;VALUE=DURATION:PT1H
X-Robots-Tag:noindex
X-PUBLISHED-TTL:PT1H
BEGIN:VTIMEZONE
TZID:Europe/Rome
BEGIN:DAYLIGHT
TZOFFSETFROM:+0100
TZOFFSETTO:+0200
TZNAME:CEST
DTSTART:20240331T010000
END:DAYLIGHT
BEGIN:STANDARD
TZOFFSETFROM:+0200
TZOFFSETTO:+0100
TZNAME:CET
DTSTART:20241027T010000
END:STANDARD
BEGIN:DAYLIGHT
TZOFFSETFROM:+0100
TZOFFSETTO:+0200
TZNAME:CEST
DTSTART:20250330T010000
END:DAYLIGHT
BEGIN:STANDARD
TZOFFSETFROM:+0200
TZOFFSETTO:+0100
TZNAME:CET
DTSTART:20251026T010000
END:STANDARD
BEGIN:DAYLIGHT
TZOFFSETFROM:+0100
TZOFFSETTO:+0200
TZNAME:CEST
DTSTART:20260329T010000
END:DAYLIGHT
BEGIN:STANDARD
TZOFFSETFROM:+0200
TZOFFSETTO:+0100
TZNAME:CET
DTSTART:20261025T010000
END:STANDARD
END:VTIMEZONE
BEGIN:VEVENT
DTSTART;VALUE=DATE:20250314
DTEND;VALUE=DATE:20250317
DTSTAMP:20260419T155419
CREATED:20250311T110116Z
LAST-MODIFIED:20250311T110116Z
UID:10005893-1741910400-1742169599@portedivaltellina.it
SUMMARY:Le ventuno madri costituenti
DESCRIPTION:Conosciamo le donne che hanno contribuito a scrivere la Costituzione Italiana \nVenerdì alle ore 17.30 presentazione storica di Lucia Codurelli \nOrari di apertura: venerdì\, sabato e domenica dalle ore 10 alle ore 12 e dalle ore 15 alle ore 18.30 \nMaggiori informazioni: anpimorbegnobv@gmail.com
URL:https://portedivaltellina.it/eventi/le-ventuno-madri-costituenti/
LOCATION:Morbegno – Chiostro di Sant’Antonio
END:VEVENT
BEGIN:VEVENT
DTSTART;TZID=Europe/Rome:20250315T100000
DTEND;TZID=Europe/Rome:20250316T180000
DTSTAMP:20260419T155419
CREATED:20250304T103109Z
LAST-MODIFIED:20250304T103109Z
UID:10005878-1742032800-1742148000@portedivaltellina.it
SUMMARY:Con il camper puoi
DESCRIPTION:Camper day \npresso l’officina Tecnoauto \nChiedi informazioni\, sali a bordo\, effettua un test drive su prenotazione \nDalle 10.00 alle 12.00 e dalle 14.00 alle 18.00 \nInfo e prenotazioni: 329 4983079 – www.tecno-auto.com 
URL:https://portedivaltellina.it/eventi/con-il-camper-puoi/
LOCATION:Cosio Valt.no – Tecnoauto\, Via Roncaiola\, 4a
END:VEVENT
BEGIN:VEVENT
DTSTART;TZID=Europe/Rome:20250316T160000
DTEND;TZID=Europe/Rome:20250316T180000
DTSTAMP:20260419T155419
CREATED:20241221T102000Z
LAST-MODIFIED:20250312T102121Z
UID:10005601-1742140800-1742148000@portedivaltellina.it
SUMMARY:Cicala cerca casa
DESCRIPTION:Rassegna teatrale bambini 2024-2025 \ncon la compagnia Alma Rosè di Milano \nTeatro d’attore adatto a bimbi dai 5 anni \nIngresso: € 6\,00 \nInizio spettacolo ore 16.00\, durata 55 minuti \nPrenotazione consigliata \nInfo e prenotazioni: teatrodellazucca@gmail.com – 347 7606733 – www.teatrodellazucca.com 
URL:https://portedivaltellina.it/eventi/cicala-cerca-casa/
LOCATION:Morbegno – Auditorium S. Antonio\, Piazza S. Antonio\, 23017\, Italia
END:VEVENT
BEGIN:VEVENT
DTSTART;TZID=Europe/Rome:20250316T210000
DTEND;TZID=Europe/Rome:20250316T230000
DTSTAMP:20260419T155419
CREATED:20250307T120840Z
LAST-MODIFIED:20250307T120840Z
UID:10005887-1742158800-1742166000@portedivaltellina.it
SUMMARY:Kino anime
DESCRIPTION:Ciclo di due proiezioni di film \npresentate da Ener Colombo\, Alberto Tempra\, Loris Gusmeroli \nProiezioni gratuite a partire dalle ore 21:00 \nInfo: www.lokalino.it
URL:https://portedivaltellina.it/eventi/kino-anime/2025-03-16/
LOCATION:Morbegno – Lokalino\, Via Strada comunale di campagna\, 2
ORGANIZER;CN="Lokalino":MAILTO:info@lokalino.it
END:VEVENT
END:VCALENDAR