BEGIN:VCALENDAR
VERSION:2.0
PRODID:-//Porte di Valtellina - ECPv6.15.20//NONSGML v1.0//EN
CALSCALE:GREGORIAN
METHOD:PUBLISH
X-ORIGINAL-URL:https://portedivaltellina.it
X-WR-CALDESC:Eventi per Porte di Valtellina
REFRESH-INTERVAL;VALUE=DURATION:PT1H
X-Robots-Tag:noindex
X-PUBLISHED-TTL:PT1H
BEGIN:VTIMEZONE
TZID:Europe/Rome
BEGIN:DAYLIGHT
TZOFFSETFROM:+0100
TZOFFSETTO:+0200
TZNAME:CEST
DTSTART:20240331T010000
END:DAYLIGHT
BEGIN:STANDARD
TZOFFSETFROM:+0200
TZOFFSETTO:+0100
TZNAME:CET
DTSTART:20241027T010000
END:STANDARD
BEGIN:DAYLIGHT
TZOFFSETFROM:+0100
TZOFFSETTO:+0200
TZNAME:CEST
DTSTART:20250330T010000
END:DAYLIGHT
BEGIN:STANDARD
TZOFFSETFROM:+0200
TZOFFSETTO:+0100
TZNAME:CET
DTSTART:20251026T010000
END:STANDARD
BEGIN:DAYLIGHT
TZOFFSETFROM:+0100
TZOFFSETTO:+0200
TZNAME:CEST
DTSTART:20260329T010000
END:DAYLIGHT
BEGIN:STANDARD
TZOFFSETFROM:+0200
TZOFFSETTO:+0100
TZNAME:CET
DTSTART:20261025T010000
END:STANDARD
END:VTIMEZONE
BEGIN:VEVENT
DTSTART;VALUE=DATE:20250318
DTEND;VALUE=DATE:20250324
DTSTAMP:20260419T155447
CREATED:20250318T095211Z
LAST-MODIFIED:20250318T095211Z
UID:10005918-1742256000-1742774399@portedivaltellina.it
SUMMARY:Strutture
DESCRIPTION:Mostra a cura di Stefania Del Barba \nIngresso libero
URL:https://portedivaltellina.it/eventi/strutture/
LOCATION:Morbegno – Sala Boffi\, Convento S. Antonio
END:VEVENT
BEGIN:VEVENT
DTSTART;TZID=Europe/Rome:20250320T090000
DTEND;TZID=Europe/Rome:20250330T173000
DTSTAMP:20260419T155447
CREATED:20250226T145510Z
LAST-MODIFIED:20250227T094604Z
UID:10005865-1742461200-1743355800@portedivaltellina.it
SUMMARY:Paradoxically
DESCRIPTION:Mostra fotografica di Marco Guenzi \nLa composizione come linguaggio visivo per esplorare la complessità della condizione umana e dell’ambiente.  Una riflessione sull’apparente semplicità del mondo e sulle sue infinite possibilità interpretative \nPresso la Sala Perego del Museo di storia naturale \nIngresso libero  \n\nmartedì\, giovedì\, sabato e domenica\nDalle 9.00 alle 12.00 e dalle 14.30 alle 17.30    \n\nInfo: 0342 612451 – museo@comune.morbegno.so.it
URL:https://portedivaltellina.it/eventi/paradoxically-2/
LOCATION:Morbegno – Museo Civico di Storia naturale\, Via Cortivacci\, 2\, Italia
END:VEVENT
BEGIN:VEVENT
DTSTART;TZID=Europe/Rome:20250322T093000
DTEND;TZID=Europe/Rome:20250322T120000
DTSTAMP:20260419T155447
CREATED:20250313T163829Z
LAST-MODIFIED:20250314T081624Z
UID:10005910-1742635800-1742644800@portedivaltellina.it
SUMMARY:Giochiamo con l'elettricità
DESCRIPTION:Laboratorio per ragazzi \nElettricità: scopriamo cos’è e costruiamo un elettroscopio! \nLaboratorio pratico per ragazzi 10-14 anni \nPartecipazione gratuita con obbligo di iscrizione \nPosti limitati. \nInfo e prenotazioni:  ufficiosegreteria@comune.dubino.so.it  indicando nome\, cognome\, età e telefono.
URL:https://portedivaltellina.it/eventi/giochiamo-con-lelettricita/
LOCATION:Dubino – Biblioteca\, Via Roma\, 31
END:VEVENT
BEGIN:VEVENT
DTSTART;TZID=Europe/Rome:20250322T100000
DTEND;TZID=Europe/Rome:20250322T110000
DTSTAMP:20260419T155447
CREATED:20250305T143121Z
LAST-MODIFIED:20250305T143121Z
UID:10005882-1742637600-1742641200@portedivaltellina.it
SUMMARY:L’ora delle storie
DESCRIPTION:Incontro di lettura ad alta voce  \ncon le lettrici e i lettori volontari \nPer genitori\, bimbi e bimbi da 0 a 3 anni \nPartecipazione gratuita \nInfo: Biblioteca 0342 610323 – biblioteca@comune.morbegno.so.it \n 
URL:https://portedivaltellina.it/eventi/lora-delle-storie-4/
LOCATION:Morbegno – Biblioteca Civica Ezio Vanoni\, Via Cortivacci\, 4\, 23017
END:VEVENT
BEGIN:VEVENT
DTSTART;TZID=Europe/Rome:20250322T143000
DTEND;TZID=Europe/Rome:20250322T170000
DTSTAMP:20260419T155447
CREATED:20250313T140429Z
LAST-MODIFIED:20250313T140429Z
UID:10005908-1742653800-1742662800@portedivaltellina.it
SUMMARY:Ciamà l'erba
DESCRIPTION:Pomeriggio per le famiglie \n\nRitrovo davanti al piazzale del cimitero\nPasseggiata lungo le vie del paese con tappe a sorpresa\nGustosa merenda a Valpozzo\n\nVi aspettiamo con i vestiti di una volta e muniti di campanaccio per chiamare la primavera \nSi consiglia di portare una coperta da picnic \nEvento aperto a tutti\, percorso non adatto ai passeggini \nIn caso di maltempo la manifestazione sarà annullata \nInfo: associazioneandepianero@gmail.com
URL:https://portedivaltellina.it/eventi/ciama-lerba-3/
LOCATION:Piantedo – Valpozzo\, Italia
ORGANIZER;CN="Andepianero":MAILTO:associazioneandepianero@gmail.com
END:VEVENT
BEGIN:VEVENT
DTSTART;TZID=Europe/Rome:20250322T150000
DTEND;TZID=Europe/Rome:20250322T180000
DTSTAMP:20260419T155447
CREATED:20250317T152127Z
LAST-MODIFIED:20250317T152127Z
UID:10005915-1742655600-1742666400@portedivaltellina.it
SUMMARY:Poli Kids
DESCRIPTION:Un pomeriggio all’insegna del divertimento per bambini e ragazzi da 6 a 14 anni. \nTornei di calciobalilla\, ping pong e giochi in scatola. \nA seguire Nutella Party! \nMaggiori informazioni: eventi@comune.traona.so.it
URL:https://portedivaltellina.it/eventi/poli-kids/
LOCATION:Traona – Centro Polifunzionale – Fraz. La Valletta\, Via Palotta\, 116\, Traona\, 23019\, Italia
END:VEVENT
BEGIN:VEVENT
DTSTART;TZID=Europe/Rome:20250322T173000
DTEND;TZID=Europe/Rome:20250322T190000
DTSTAMP:20260419T155447
CREATED:20250121T101330Z
LAST-MODIFIED:20250121T101330Z
UID:10005709-1742664600-1742670000@portedivaltellina.it
SUMMARY:Valorizzazione dei beni culturali\, paesaggistici e ambientali in Valtellina
DESCRIPTION:Storie di natura e uomini:  \nConferenza a cura del Dr. Stefano Morosini dell’università di Bergamo \nIngresso gratuito \nInfo e e prenotazioni: www.museostorianaturale.it \n 
URL:https://portedivaltellina.it/eventi/valorizzazione-dei-beni-culturali-paesaggistici-e-ambientali-in-valtellina/
LOCATION:Morbegno – Museo Civico di Storia naturale\, Via Cortivacci\, 2\, Italia
END:VEVENT
BEGIN:VEVENT
DTSTART;TZID=Europe/Rome:20250322T190000
DTEND;TZID=Europe/Rome:20250322T210000
DTSTAMP:20260419T155447
CREATED:20250317T153615Z
LAST-MODIFIED:20250317T153615Z
UID:10005916-1742670000-1742677200@portedivaltellina.it
SUMMARY:Future Creators
DESCRIPTION:Corsi unici in cui scoprire nuove passioni e accendere il tuo talento \nPROGRAMMA \n\nFrame by frame\n\nDalla sceneggiatura alla post produzione: immergiti nel mondo del filmmaking! \n\nReel Master\n\nTips & tricks per reel che spaccano: dall’ideazione alla creazione di contenuti virali. \n\nOne Air – DJ Academy\n\nDai primi mix al live set e speakeraggio. \n…e molto altro ancora! \nA seguire apericena e DJ set \nL’evento è rivolto ai ragazzi da 15 a 34 anni \nMaggiori informazioni: labreva@labreva.org
URL:https://portedivaltellina.it/eventi/future-creators/
LOCATION:Traona – Centro Polifunzionale – Fraz. La Valletta\, Via Palotta\, 116\, Traona\, 23019\, Italia
END:VEVENT
BEGIN:VEVENT
DTSTART;TZID=Europe/Rome:20250322T210000
DTEND;TZID=Europe/Rome:20250322T223000
DTSTAMP:20260419T155447
CREATED:20250117T083357Z
LAST-MODIFIED:20250117T083357Z
UID:10005662-1742677200-1742682600@portedivaltellina.it
SUMMARY:A vignè sturni\, certi volt l’è una fortӧna
DESCRIPTION:Rassegna teatrale \ncon la compagnia teatrale “La Cumpagnia del fil da fer” di Dubino \nPresso l’Oratorio San Giovanni Paolo II di Delebio \nIngresso ad offerta libera \nInfo: associazioneandepianero@gmail.com  \n 
URL:https://portedivaltellina.it/eventi/a-vigne-sturni-certi-volt-le-una-fort%d3%a7na/
LOCATION:Delebio – Oratorio
ORGANIZER;CN="Comunit%C3%A0 Pastorale Andalo%2C Delebio%2C Piantedo%2C Rogolo":MAILTO:associazioneandepianero@gmail.com
END:VEVENT
BEGIN:VEVENT
DTSTART;TZID=Europe/Rome:20250322T210000
DTEND;TZID=Europe/Rome:20250322T230000
DTSTAMP:20260419T155447
CREATED:20250212T152059Z
LAST-MODIFIED:20250304T163124Z
UID:10005764-1742677200-1742684400@portedivaltellina.it
SUMMARY:Rassegna Teatrale 2025
DESCRIPTION:Compagnia “Il Monello” di Talamona \nTuta culpa di Ciun Cioo \nIngresso con offerta libera
URL:https://portedivaltellina.it/eventi/rassegna-teatrale-2025-3/
LOCATION:Dazio – Sala Polifunzionale\, Via Vittorio Veneto 48\, Dazio\, 23010\, Italia
END:VEVENT
END:VCALENDAR