BEGIN:VCALENDAR
VERSION:2.0
PRODID:-//Porte di Valtellina - ECPv6.15.20//NONSGML v1.0//EN
CALSCALE:GREGORIAN
METHOD:PUBLISH
X-ORIGINAL-URL:https://portedivaltellina.it
X-WR-CALDESC:Eventi per Porte di Valtellina
REFRESH-INTERVAL;VALUE=DURATION:PT1H
X-Robots-Tag:noindex
X-PUBLISHED-TTL:PT1H
BEGIN:VTIMEZONE
TZID:Europe/Rome
BEGIN:DAYLIGHT
TZOFFSETFROM:+0100
TZOFFSETTO:+0200
TZNAME:CEST
DTSTART:20240331T010000
END:DAYLIGHT
BEGIN:STANDARD
TZOFFSETFROM:+0200
TZOFFSETTO:+0100
TZNAME:CET
DTSTART:20241027T010000
END:STANDARD
BEGIN:DAYLIGHT
TZOFFSETFROM:+0100
TZOFFSETTO:+0200
TZNAME:CEST
DTSTART:20250330T010000
END:DAYLIGHT
BEGIN:STANDARD
TZOFFSETFROM:+0200
TZOFFSETTO:+0100
TZNAME:CET
DTSTART:20251026T010000
END:STANDARD
BEGIN:DAYLIGHT
TZOFFSETFROM:+0100
TZOFFSETTO:+0200
TZNAME:CEST
DTSTART:20260329T010000
END:DAYLIGHT
BEGIN:STANDARD
TZOFFSETFROM:+0200
TZOFFSETTO:+0100
TZNAME:CET
DTSTART:20261025T010000
END:STANDARD
END:VTIMEZONE
BEGIN:VEVENT
DTSTART;VALUE=DATE:20250318
DTEND;VALUE=DATE:20250324
DTSTAMP:20260419T155448
CREATED:20250318T095211Z
LAST-MODIFIED:20250318T095211Z
UID:10005918-1742256000-1742774399@portedivaltellina.it
SUMMARY:Strutture
DESCRIPTION:Mostra a cura di Stefania Del Barba \nIngresso libero
URL:https://portedivaltellina.it/eventi/strutture/
LOCATION:Morbegno – Sala Boffi\, Convento S. Antonio
END:VEVENT
BEGIN:VEVENT
DTSTART;TZID=Europe/Rome:20250320T090000
DTEND;TZID=Europe/Rome:20250330T173000
DTSTAMP:20260419T155448
CREATED:20250226T145510Z
LAST-MODIFIED:20250227T094604Z
UID:10005865-1742461200-1743355800@portedivaltellina.it
SUMMARY:Paradoxically
DESCRIPTION:Mostra fotografica di Marco Guenzi \nLa composizione come linguaggio visivo per esplorare la complessità della condizione umana e dell’ambiente.  Una riflessione sull’apparente semplicità del mondo e sulle sue infinite possibilità interpretative \nPresso la Sala Perego del Museo di storia naturale \nIngresso libero  \n\nmartedì\, giovedì\, sabato e domenica\nDalle 9.00 alle 12.00 e dalle 14.30 alle 17.30    \n\nInfo: 0342 612451 – museo@comune.morbegno.so.it
URL:https://portedivaltellina.it/eventi/paradoxically-2/
LOCATION:Morbegno – Museo Civico di Storia naturale\, Via Cortivacci\, 2\, Italia
END:VEVENT
BEGIN:VEVENT
DTSTART;VALUE=DATE:20250323
DTEND;VALUE=DATE:20250324
DTSTAMP:20260419T155448
CREATED:20250311T111234Z
LAST-MODIFIED:20250311T111234Z
UID:10005895-1742688000-1742774399@portedivaltellina.it
SUMMARY:Note per la Palestina
DESCRIPTION:Musica – talk – cibo – banchetti – solidarietà \nPROGRAMMA \n\nAlle ore 11 saluti e presentazione della raccolta fondi\nAlle ore 12.30 pranzo con cous cous\nAlle ore 15.30 collegamenti online dai comitati popolari dei territori occupati\nAlle ore 18.30 talk sulla situazione attuale palestinese\nAlle ore 19.30 apericena con falafel\n\nMusica live dalle ore 14 alle ore 23 \nTutto il ricavato della giornata sarà devoluto a sostegno del villaggio di Tuba \nClicca QUI per sostenere la causa anche con PayPal o bonifico \nGradita la prenotazione per il pranzo e per la cena via WhatsApp o SMS al +39 340 6736850
URL:https://portedivaltellina.it/eventi/note-per-la-palestina/
LOCATION:Morbegno – RiCircolo\, Via Beato Andrea\, 16\, Morbegno\, 23017\, Italia
END:VEVENT
BEGIN:VEVENT
DTSTART;VALUE=DATE:20250323
DTEND;VALUE=DATE:20250324
DTSTAMP:20260419T155448
CREATED:20250318T090450Z
LAST-MODIFIED:20250318T090450Z
UID:10005917-1742688000-1742774399@portedivaltellina.it
SUMMARY:Tiro alla fune
DESCRIPTION:Finale Campionato Italiano categoria 640 kg \nPROGRAMMA \n\nDalle ore 7.30 alle ore 8.30 pesature\nAlle ore 8.30 riscaldamento\nAlle ore 9.30 saluti istituzionali\nAlle ore 10 inizio della finale del Campionato Italiano\nAlle ore 13.30 premiazioni\nAlle ore 14 gara finale del torneo promozionale categoria 500 kg\nAlle ore 17 premiazioni\n\nIngresso libero \nMaggiori informazioni: tiroallafunevaltellina@gmail.com
URL:https://portedivaltellina.it/eventi/tiro-alla-fune/
LOCATION:Morbegno – Palafaedo\, Via Faedo
ORGANIZER;CN="Tiro alla fune - Valtellina":MAILTO:tiroallafunevaltellina@gmail.com
END:VEVENT
BEGIN:VEVENT
DTSTART;TZID=Europe/Rome:20250323T103000
DTEND;TZID=Europe/Rome:20250323T140000
DTSTAMP:20260419T155448
CREATED:20250321T094415Z
LAST-MODIFIED:20250321T094415Z
UID:10005998-1742725800-1742738400@portedivaltellina.it
SUMMARY:Festa di San Giuseppe
DESCRIPTION:Festa del Sole \nPROGRAMMA: \n\nAlle ore 10.30 S. Messa con processione\na seguire Tiro delle Tole e una sorpresa sulla palestra di roccia\nal termine rinfresco in piazza\n\nInfo: www.prolocoforcola.it
URL:https://portedivaltellina.it/eventi/festa-di-san-giuseppe-2/
LOCATION:Forcola – Fraz. Sirta\, Chiesa parrocchiale di San Giuseppe
END:VEVENT
BEGIN:VEVENT
DTSTART;TZID=Europe/Rome:20250323T150000
DTEND;TZID=Europe/Rome:20250323T200000
DTSTAMP:20260419T155448
CREATED:20250225T154447Z
LAST-MODIFIED:20250225T154447Z
UID:10005859-1742742000-1742760000@portedivaltellina.it
SUMMARY:Festa di San Giuseppe
DESCRIPTION:PROGRAMMA \n\nAlle ore 15 Santa Messa presso la Chiesa di San Giuseppe a Selvapiana\nA seguire rinfresco con i vini della Coop. Terrazze dei Cech
URL:https://portedivaltellina.it/eventi/festa-di-san-giuseppe/
LOCATION:Selvapiana\, Selvapiana\, Morbegno\, 23017\, Italia
END:VEVENT
BEGIN:VEVENT
DTSTART;TZID=Europe/Rome:20250323T160000
DTEND;TZID=Europe/Rome:20250323T180000
DTSTAMP:20260419T155448
CREATED:20250313T110820Z
LAST-MODIFIED:20250313T110820Z
UID:10005906-1742745600-1742752800@portedivaltellina.it
SUMMARY:Dumaàa l’è ‘n otru de\, es uederà
DESCRIPTION:Commedia dialettale \nin tre atti con la compagnia teatrale di Sirta “La Balansa” \nDelebio – Oratorio ore 16.00 \nIngresso ad offerta libera
URL:https://portedivaltellina.it/eventi/dumaaa-le-n-otru-de-es-uedera-2/
LOCATION:Delebio – Oratorio Giovanni Paolo II\, Via G. Verdi\, Delebio\, 23014\, Italy
ORGANIZER;CN="Andepianero":MAILTO:associazioneandepianero@gmail.com
END:VEVENT
BEGIN:VEVENT
DTSTART;TZID=Europe/Rome:20250323T173000
DTEND;TZID=Europe/Rome:20250323T190000
DTSTAMP:20260419T155448
CREATED:20250227T162749Z
LAST-MODIFIED:20250227T162749Z
UID:10005868-1742751000-1742756400@portedivaltellina.it
SUMMARY:Equinozio di primavera
DESCRIPTION:I suoni della montagna \n2° appuntamento per esplorare i suoni della montagna e il loro mutare nelle stagioni \nIn apertura dialogo con Andrea Mori e ascolto guidato con Paolo Novellino \nA seguire spettacolo di danza  “Songs of extincion” con Annalì Rainoldi \nPartecipazione gratuita su prenotazione \nInfo: info.ramidora@gmail.com \nIscrizioni: www.museostorianaturale.it \n 
URL:https://portedivaltellina.it/eventi/equinozio-di-primavera/
LOCATION:Morbegno – Museo Civico di Storia naturale\, Via Cortivacci\, 2\, Italia
END:VEVENT
END:VCALENDAR