BEGIN:VCALENDAR
VERSION:2.0
PRODID:-//Porte di Valtellina - ECPv6.15.20//NONSGML v1.0//EN
CALSCALE:GREGORIAN
METHOD:PUBLISH
X-WR-CALNAME:Porte di Valtellina
X-ORIGINAL-URL:https://portedivaltellina.it
X-WR-CALDESC:Eventi per Porte di Valtellina
REFRESH-INTERVAL;VALUE=DURATION:PT1H
X-Robots-Tag:noindex
X-PUBLISHED-TTL:PT1H
BEGIN:VTIMEZONE
TZID:Europe/Rome
BEGIN:DAYLIGHT
TZOFFSETFROM:+0100
TZOFFSETTO:+0200
TZNAME:CEST
DTSTART:20240331T010000
END:DAYLIGHT
BEGIN:STANDARD
TZOFFSETFROM:+0200
TZOFFSETTO:+0100
TZNAME:CET
DTSTART:20241027T010000
END:STANDARD
BEGIN:DAYLIGHT
TZOFFSETFROM:+0100
TZOFFSETTO:+0200
TZNAME:CEST
DTSTART:20250330T010000
END:DAYLIGHT
BEGIN:STANDARD
TZOFFSETFROM:+0200
TZOFFSETTO:+0100
TZNAME:CET
DTSTART:20251026T010000
END:STANDARD
BEGIN:DAYLIGHT
TZOFFSETFROM:+0100
TZOFFSETTO:+0200
TZNAME:CEST
DTSTART:20260329T010000
END:DAYLIGHT
BEGIN:STANDARD
TZOFFSETFROM:+0200
TZOFFSETTO:+0100
TZNAME:CET
DTSTART:20261025T010000
END:STANDARD
END:VTIMEZONE
BEGIN:VEVENT
DTSTART;TZID=Europe/Rome:20250320T090000
DTEND;TZID=Europe/Rome:20250330T173000
DTSTAMP:20260419T155419
CREATED:20250226T145510Z
LAST-MODIFIED:20250227T094604Z
UID:10005865-1742461200-1743355800@portedivaltellina.it
SUMMARY:Paradoxically
DESCRIPTION:Mostra fotografica di Marco Guenzi \nLa composizione come linguaggio visivo per esplorare la complessità della condizione umana e dell’ambiente.  Una riflessione sull’apparente semplicità del mondo e sulle sue infinite possibilità interpretative \nPresso la Sala Perego del Museo di storia naturale \nIngresso libero  \n\nmartedì\, giovedì\, sabato e domenica\nDalle 9.00 alle 12.00 e dalle 14.30 alle 17.30    \n\nInfo: 0342 612451 – museo@comune.morbegno.so.it
URL:https://portedivaltellina.it/eventi/paradoxically-2/
LOCATION:Morbegno – Museo Civico di Storia naturale\, Via Cortivacci\, 2\, Italia
END:VEVENT
BEGIN:VEVENT
DTSTART;TZID=Europe/Rome:20250325T160000
DTEND;TZID=Europe/Rome:20250325T170000
DTSTAMP:20260419T155419
CREATED:20250312T151622Z
LAST-MODIFIED:20250312T151622Z
UID:10005901-1742918400-1742922000@portedivaltellina.it
SUMMARY:Benvenuta primavera
DESCRIPTION:Letture e laboratori  \ngratuiti a tema primavera \nper bambini della scuola primaria \nDare conferma indicando nome e età del bambino \nPortare colla e forbici \n Info e iscrizioni: Biblioteca Piantedo 371 5707820 \n 
URL:https://portedivaltellina.it/eventi/benvenuta-primavera/
LOCATION:Piantedo – Biblioteca\, Piazza Papa Giovanni XXII\, 104
END:VEVENT
BEGIN:VEVENT
DTSTART;TZID=Europe/Rome:20250325T203000
DTEND;TZID=Europe/Rome:20250325T220000
DTSTAMP:20260419T155419
CREATED:20250322T071910Z
LAST-MODIFIED:20250322T071910Z
UID:10006002-1742934600-1742940000@portedivaltellina.it
SUMMARY:Festa dell'AVIS
DESCRIPTION:Avis Morbegno festeggia 70 anni! \n….e si racconta…. \nSiete tutti invitati! \npresso la Sala Capitolare nel Complesso S. Antonio \n 
URL:https://portedivaltellina.it/eventi/festa-dellavis/
LOCATION:Morbegno – Sala Capitolare – Complesso S. Antonio\, Piazza S. Antonio
END:VEVENT
END:VCALENDAR