BEGIN:VCALENDAR
VERSION:2.0
PRODID:-//Porte di Valtellina - ECPv6.15.20//NONSGML v1.0//EN
CALSCALE:GREGORIAN
METHOD:PUBLISH
X-ORIGINAL-URL:https://portedivaltellina.it
X-WR-CALDESC:Eventi per Porte di Valtellina
REFRESH-INTERVAL;VALUE=DURATION:PT1H
X-Robots-Tag:noindex
X-PUBLISHED-TTL:PT1H
BEGIN:VTIMEZONE
TZID:Europe/Rome
BEGIN:DAYLIGHT
TZOFFSETFROM:+0100
TZOFFSETTO:+0200
TZNAME:CEST
DTSTART:20240331T010000
END:DAYLIGHT
BEGIN:STANDARD
TZOFFSETFROM:+0200
TZOFFSETTO:+0100
TZNAME:CET
DTSTART:20241027T010000
END:STANDARD
BEGIN:DAYLIGHT
TZOFFSETFROM:+0100
TZOFFSETTO:+0200
TZNAME:CEST
DTSTART:20250330T010000
END:DAYLIGHT
BEGIN:STANDARD
TZOFFSETFROM:+0200
TZOFFSETTO:+0100
TZNAME:CET
DTSTART:20251026T010000
END:STANDARD
BEGIN:DAYLIGHT
TZOFFSETFROM:+0100
TZOFFSETTO:+0200
TZNAME:CEST
DTSTART:20260329T010000
END:DAYLIGHT
BEGIN:STANDARD
TZOFFSETFROM:+0200
TZOFFSETTO:+0100
TZNAME:CET
DTSTART:20261025T010000
END:STANDARD
END:VTIMEZONE
BEGIN:VEVENT
DTSTART;VALUE=DATE:20250401
DTEND;VALUE=DATE:20250402
DTSTAMP:20260419T142126
CREATED:20250326T100712Z
LAST-MODIFIED:20250326T100712Z
UID:10006009-1743465600-1743551999@portedivaltellina.it
SUMMARY:Frame by frame
DESCRIPTION:Iscrizioni \nSono aperte le iscrizioni al corso gratuito \ndi 7 lezioni teorico-pratiche sul mondo del \nfilmmaking e i segreti dei cortometraggi. \nDocente il pluripremiato Danilo Proh. \nPer giovani dai 15 ai 34 anni. \nInfo e iscrizioni: poli.unospazioperte@gmail.com
URL:https://portedivaltellina.it/eventi/frame-by-frame/
LOCATION:Traona – Centro Polifunzionale – Fraz. La Valletta\, Via Palotta\, 116\, Traona\, 23019\, Italia
END:VEVENT
END:VCALENDAR