BEGIN:VCALENDAR
VERSION:2.0
PRODID:-//Porte di Valtellina - ECPv6.15.20//NONSGML v1.0//EN
CALSCALE:GREGORIAN
METHOD:PUBLISH
X-WR-CALNAME:Porte di Valtellina
X-ORIGINAL-URL:https://portedivaltellina.it
X-WR-CALDESC:Eventi per Porte di Valtellina
REFRESH-INTERVAL;VALUE=DURATION:PT1H
X-Robots-Tag:noindex
X-PUBLISHED-TTL:PT1H
BEGIN:VTIMEZONE
TZID:Europe/Rome
BEGIN:DAYLIGHT
TZOFFSETFROM:+0100
TZOFFSETTO:+0200
TZNAME:CEST
DTSTART:20240331T010000
END:DAYLIGHT
BEGIN:STANDARD
TZOFFSETFROM:+0200
TZOFFSETTO:+0100
TZNAME:CET
DTSTART:20241027T010000
END:STANDARD
BEGIN:DAYLIGHT
TZOFFSETFROM:+0100
TZOFFSETTO:+0200
TZNAME:CEST
DTSTART:20250330T010000
END:DAYLIGHT
BEGIN:STANDARD
TZOFFSETFROM:+0200
TZOFFSETTO:+0100
TZNAME:CET
DTSTART:20251026T010000
END:STANDARD
BEGIN:DAYLIGHT
TZOFFSETFROM:+0100
TZOFFSETTO:+0200
TZNAME:CEST
DTSTART:20260329T010000
END:DAYLIGHT
BEGIN:STANDARD
TZOFFSETFROM:+0200
TZOFFSETTO:+0100
TZNAME:CET
DTSTART:20261025T010000
END:STANDARD
END:VTIMEZONE
BEGIN:VEVENT
DTSTART;VALUE=DATE:20250404
DTEND;VALUE=DATE:20250407
DTSTAMP:20260419T142008
CREATED:20250307T094038Z
LAST-MODIFIED:20250325T081232Z
UID:10005885-1743724800-1743983999@portedivaltellina.it
SUMMARY:Street Food Festival
DESCRIPTION:Rolling Truck Street Food \nTorna il per una tappa primaverile\, lo street food a Morbegno\, all’insegna del cibo di strada di qualità\, con specialità nazionali e internazionali \nInoltre \n\nbirre artigianali\nworkshop per scoprire le ricette tradizionali\nmusica e tanto divertimento\n\nINGRESSO GRATUITO \nInfo: info@prolocomorbegno.it – 351 5817328 \n 
URL:https://portedivaltellina.it/eventi/street-food-festival/
LOCATION:Morbegno – Arengario\, Piazza Rivolta
ORGANIZER;CN="Proloco Morbegno":MAILTO:info@prolocomorbegno.it
END:VEVENT
BEGIN:VEVENT
DTSTART;TZID=Europe/Rome:20250404T143000
DTEND;TZID=Europe/Rome:20250404T163000
DTSTAMP:20260419T142008
CREATED:20250224T085923Z
LAST-MODIFIED:20250410T075811Z
UID:10005800-1743777000-1743784200@portedivaltellina.it
SUMMARY:Fili colorati: crea\, gioca e divertiti!
DESCRIPTION:Impara a lavorare a maglia: un pomeriggio creativo in biblioteca \nCiao bambine e bambini! Siete pronti a scoprire un’arte magica e divertente? \nLe volontarie della cultura vi aspettano in biblioteca per un pomeriggio speciale dedicato alla maglia! \n————————————————————- \nCosa faremo? \n\nImpareremo insieme a intrecciare i fili colorati\nTrasformeremo la lana in creazioni uniche\nCi divertiremo con tanta fantasia e creatività\n\nVieni a trovarci e prova anche tu! \nOgni venerdì a partire dal 7 marzo. \nInfo e prenotazioni: biblioteca@comune.ardenno.so.it – 0342 662282
URL:https://portedivaltellina.it/eventi/fili-colorati-crea-gioca-e-divertiti/2025-04-04/
LOCATION:Ardenno – biblioteca\, Via LIbertà\, 11
END:VEVENT
BEGIN:VEVENT
DTSTART;TZID=Europe/Rome:20250404T203000
DTEND;TZID=Europe/Rome:20250404T223000
DTSTAMP:20260419T142008
CREATED:20250320T165917Z
LAST-MODIFIED:20250320T165917Z
UID:10005997-1743798600-1743805800@portedivaltellina.it
SUMMARY:Comunità energetica rinnovabile
DESCRIPTION:Convegno  \nI vantaggi\, le opportunità e i benefici di una comunità energetica rinnovabile per imprese e cittadini. \n\nOre 20.30 Interventi istituzionali\nOre 21.00 I vantaggi e gli incentivi di un CER per imprese\, Comuni e Cittadini\nOre 21.30 Dibattito\n\nInfo: www.comunitaenergeticarinnovabile.it
URL:https://portedivaltellina.it/eventi/comunita-energetica-rinnovabile/
LOCATION:Morbegno – Auditorium Sant’Antonio
ORGANIZER;CN="So.Cer":MAILTO:Tel: 0308374509
END:VEVENT
BEGIN:VEVENT
DTSTART;TZID=Europe/Rome:20250404T203000
DTEND;TZID=Europe/Rome:20250404T223000
DTSTAMP:20260419T142008
CREATED:20250328T092343Z
LAST-MODIFIED:20250328T092343Z
UID:10006017-1743798600-1743805800@portedivaltellina.it
SUMMARY:Progetto Bioclima
DESCRIPTION:Come sta il Gallo Cedrone nei nostri boschi? \nPresentazione dei lavori forestali di miglioramento dell’habitat del gallo cedrone e i monitoraggi faunistici nei boschi di Forcola \nRELATORI: \n\nDott. Massimo Merati\, Direttore del Parco delle Orobie Valtellinesi\nDott.ssa Laura Scenini\, Forestale\nDott. Mattia Panzeri\, Faunista\n\nIngresso libero \nMaggiori informazioni: info@parcorobievalt.com
URL:https://portedivaltellina.it/eventi/progetto-bioclima/
LOCATION:Forcola – Biblioteca\, Piazza del Municipio\, Forcola\, 23010\, Italy
END:VEVENT
BEGIN:VEVENT
DTSTART;TZID=Europe/Rome:20250404T210000
DTEND;TZID=Europe/Rome:20250404T223000
DTSTAMP:20260419T142008
CREATED:20250402T085208Z
LAST-MODIFIED:20250402T085208Z
UID:10006029-1743800400-1743805800@portedivaltellina.it
SUMMARY:A vignè sturni\, certi volt\, l'è una furtona...
DESCRIPTION:La compagnia teatrale “Del fil da fer” \ndi Dubino presenta uno spettacolo dialettale \npresso il Teatro Frassati di Cosio Valtellino \nIngresso ad offerta libera \nL’incasso sarà devoluto a favore del Centro I prati \n 
URL:https://portedivaltellina.it/eventi/a-vigne-sturni-certi-volt-le-una-furtona-3/
LOCATION:Cosio Valtellino – Teatro P.G. Frassati – Fraz. Regoledo\, Piazza S. Ambrogio\, 5
END:VEVENT
END:VCALENDAR