BEGIN:VCALENDAR
VERSION:2.0
PRODID:-//Porte di Valtellina - ECPv6.15.20//NONSGML v1.0//EN
CALSCALE:GREGORIAN
METHOD:PUBLISH
X-ORIGINAL-URL:https://portedivaltellina.it
X-WR-CALDESC:Eventi per Porte di Valtellina
REFRESH-INTERVAL;VALUE=DURATION:PT1H
X-Robots-Tag:noindex
X-PUBLISHED-TTL:PT1H
BEGIN:VTIMEZONE
TZID:Europe/Rome
BEGIN:DAYLIGHT
TZOFFSETFROM:+0100
TZOFFSETTO:+0200
TZNAME:CEST
DTSTART:20240331T010000
END:DAYLIGHT
BEGIN:STANDARD
TZOFFSETFROM:+0200
TZOFFSETTO:+0100
TZNAME:CET
DTSTART:20241027T010000
END:STANDARD
BEGIN:DAYLIGHT
TZOFFSETFROM:+0100
TZOFFSETTO:+0200
TZNAME:CEST
DTSTART:20250330T010000
END:DAYLIGHT
BEGIN:STANDARD
TZOFFSETFROM:+0200
TZOFFSETTO:+0100
TZNAME:CET
DTSTART:20251026T010000
END:STANDARD
BEGIN:DAYLIGHT
TZOFFSETFROM:+0100
TZOFFSETTO:+0200
TZNAME:CEST
DTSTART:20260329T010000
END:DAYLIGHT
BEGIN:STANDARD
TZOFFSETFROM:+0200
TZOFFSETTO:+0100
TZNAME:CET
DTSTART:20261025T010000
END:STANDARD
END:VTIMEZONE
BEGIN:VEVENT
DTSTART;VALUE=DATE:20250406
DTEND;VALUE=DATE:20250422
DTSTAMP:20260419T174229
CREATED:20250326T154050Z
LAST-MODIFIED:20250404T082556Z
UID:10006011-1743897600-1745279999@portedivaltellina.it
SUMMARY:Il caso Sindone
DESCRIPTION:Indagine storico-scientifica sul reperto più studiato della storia \nOrari di apertura: dal lunedì al venerdì dalle ore 14.30 alle ore 18.30\, sabato e domenica dalle ore 9.30 alle ore 12.30 e dalle ore 14.30 alle ore 18.30 \nIngresso con offerta libera \nScarica QUI la locandina \nVisite guidate su prenotazione\, per informazioni scrivere una mail a info@upservicesondrio.com
URL:https://portedivaltellina.it/eventi/il-caso-sindone/
LOCATION:Morbegno – Palazzo Malacrida\, Via Malacrida
END:VEVENT
BEGIN:VEVENT
DTSTART;TZID=Europe/Rome:20250416T200000
DTEND;TZID=Europe/Rome:20250416T220000
DTSTAMP:20260419T174229
CREATED:20250410T083214Z
LAST-MODIFIED:20250410T083214Z
UID:10006102-1744833600-1744840800@portedivaltellina.it
SUMMARY:Sweet & drinks
DESCRIPTION:Serata di degustazione  \nalla Locanda Via Priula \ncon la collaborazione del ristorante San Carlo \nCosto serata € 40\,00 \nInfo e prenotazioni: 0342 1980105 
URL:https://portedivaltellina.it/eventi/sweet-drinks/
LOCATION:Morbegno – Locanda Via Priula\, Via Ospital Vecchio\, 17\, Morbegno\, 23017\, Italia
ORGANIZER;CN="Locanda Via Priula":MAILTO:booking@locandaviapriula.it
END:VEVENT
BEGIN:VEVENT
DTSTART;TZID=Europe/Rome:20250416T203000
DTEND;TZID=Europe/Rome:20250416T223000
DTSTAMP:20260419T174229
CREATED:20250404T103036Z
LAST-MODIFIED:20250404T103307Z
UID:10006048-1744835400-1744842600@portedivaltellina.it
SUMMARY:Incontriamoci in cucina
DESCRIPTION:É arrivata la primavera: \nla cucina con erbe del territorio\, selvatiche e coltivate con degustazione dei prodotti presentati \n\nLa conoscenza delle erbe di Teresina\,\nla passione per il buon cibo di Carlo\,\nil gusto per il gusto di Renato\n\nPrimo appuntamento \nIscrizioni presso la biblioteca entro sabato 12 aprile \nContributo spese € 30\,00 \nInfo: Biblioteca di Talamona 0342 672076
URL:https://portedivaltellina.it/eventi/incontriamoci-in-cucina/
LOCATION:Talamona – Casa della Cultura\, Via Cusini
ORGANIZER;CN="Biblioteca Talamona":MAILTO:biblioteca@comune.talamona.so.it
END:VEVENT
END:VCALENDAR