BEGIN:VCALENDAR
VERSION:2.0
PRODID:-//Porte di Valtellina - ECPv6.15.20//NONSGML v1.0//EN
CALSCALE:GREGORIAN
METHOD:PUBLISH
X-ORIGINAL-URL:https://portedivaltellina.it
X-WR-CALDESC:Eventi per Porte di Valtellina
REFRESH-INTERVAL;VALUE=DURATION:PT1H
X-Robots-Tag:noindex
X-PUBLISHED-TTL:PT1H
BEGIN:VTIMEZONE
TZID:Europe/Rome
BEGIN:DAYLIGHT
TZOFFSETFROM:+0100
TZOFFSETTO:+0200
TZNAME:CEST
DTSTART:20240331T010000
END:DAYLIGHT
BEGIN:STANDARD
TZOFFSETFROM:+0200
TZOFFSETTO:+0100
TZNAME:CET
DTSTART:20241027T010000
END:STANDARD
BEGIN:DAYLIGHT
TZOFFSETFROM:+0100
TZOFFSETTO:+0200
TZNAME:CEST
DTSTART:20250330T010000
END:DAYLIGHT
BEGIN:STANDARD
TZOFFSETFROM:+0200
TZOFFSETTO:+0100
TZNAME:CET
DTSTART:20251026T010000
END:STANDARD
BEGIN:DAYLIGHT
TZOFFSETFROM:+0100
TZOFFSETTO:+0200
TZNAME:CEST
DTSTART:20260329T010000
END:DAYLIGHT
BEGIN:STANDARD
TZOFFSETFROM:+0200
TZOFFSETTO:+0100
TZNAME:CET
DTSTART:20261025T010000
END:STANDARD
END:VTIMEZONE
BEGIN:VEVENT
DTSTART;VALUE=DATE:20250406
DTEND;VALUE=DATE:20250422
DTSTAMP:20260419T174229
CREATED:20250326T154050Z
LAST-MODIFIED:20250404T082556Z
UID:10006011-1743897600-1745279999@portedivaltellina.it
SUMMARY:Il caso Sindone
DESCRIPTION:Indagine storico-scientifica sul reperto più studiato della storia \nOrari di apertura: dal lunedì al venerdì dalle ore 14.30 alle ore 18.30\, sabato e domenica dalle ore 9.30 alle ore 12.30 e dalle ore 14.30 alle ore 18.30 \nIngresso con offerta libera \nScarica QUI la locandina \nVisite guidate su prenotazione\, per informazioni scrivere una mail a info@upservicesondrio.com
URL:https://portedivaltellina.it/eventi/il-caso-sindone/
LOCATION:Morbegno – Palazzo Malacrida\, Via Malacrida
END:VEVENT
BEGIN:VEVENT
DTSTART;VALUE=DATE:20250419
DTEND;VALUE=DATE:20250420
DTSTAMP:20260419T174229
CREATED:20250416T140113Z
LAST-MODIFIED:20250416T140113Z
UID:10006122-1745020800-1745107199@portedivaltellina.it
SUMMARY:Pasqua Cup
DESCRIPTION:Torneo di pallavolo 6 vs 6 \nInizio delle partite alle ore 8 \nMaggiori informazioni: info@enjoyvaltellina.it – +39 339 8098531
URL:https://portedivaltellina.it/eventi/pasqua-cup/
LOCATION:Morbegno – Palestra S. Antonio
END:VEVENT
BEGIN:VEVENT
DTSTART;TZID=Europe/Rome:20250419T140000
DTEND;TZID=Europe/Rome:20250419T170000
DTSTAMP:20260419T174229
CREATED:20250402T084303Z
LAST-MODIFIED:20250402T084303Z
UID:10006028-1745071200-1745082000@portedivaltellina.it
SUMMARY:Laboratorio di Pasqua
DESCRIPTION:Museo in famiglia \nPomeriggio dedicato alle famiglie per realizzare decorazione pasquali \nLettura animata e inaugurazione della casetta del libro \nLaboratorio gratuito per massimo 20 partecipanti presso l’Ecomuseo \nInfo e prenotazioni: info@ecomuseoalbaredo.it – 339 8314467 \n 
URL:https://portedivaltellina.it/eventi/laboratorio-di-pasqua/
LOCATION:Albaredo per San Marco\, Ul Salòt di Bariloc'
ORGANIZER;CN="Ecomuseo Valli del Bitto":MAILTO:ecomuseo@vallidelbitto.it
END:VEVENT
END:VCALENDAR