BEGIN:VCALENDAR
VERSION:2.0
PRODID:-//Porte di Valtellina - ECPv6.15.20//NONSGML v1.0//EN
CALSCALE:GREGORIAN
METHOD:PUBLISH
X-WR-CALNAME:Porte di Valtellina
X-ORIGINAL-URL:https://portedivaltellina.it
X-WR-CALDESC:Eventi per Porte di Valtellina
REFRESH-INTERVAL;VALUE=DURATION:PT1H
X-Robots-Tag:noindex
X-PUBLISHED-TTL:PT1H
BEGIN:VTIMEZONE
TZID:Europe/Rome
BEGIN:DAYLIGHT
TZOFFSETFROM:+0100
TZOFFSETTO:+0200
TZNAME:CEST
DTSTART:20240331T010000
END:DAYLIGHT
BEGIN:STANDARD
TZOFFSETFROM:+0200
TZOFFSETTO:+0100
TZNAME:CET
DTSTART:20241027T010000
END:STANDARD
BEGIN:DAYLIGHT
TZOFFSETFROM:+0100
TZOFFSETTO:+0200
TZNAME:CEST
DTSTART:20250330T010000
END:DAYLIGHT
BEGIN:STANDARD
TZOFFSETFROM:+0200
TZOFFSETTO:+0100
TZNAME:CET
DTSTART:20251026T010000
END:STANDARD
BEGIN:DAYLIGHT
TZOFFSETFROM:+0100
TZOFFSETTO:+0200
TZNAME:CEST
DTSTART:20260329T010000
END:DAYLIGHT
BEGIN:STANDARD
TZOFFSETFROM:+0200
TZOFFSETTO:+0100
TZNAME:CET
DTSTART:20261025T010000
END:STANDARD
END:VTIMEZONE
BEGIN:VEVENT
DTSTART;TZID=Europe/Rome:20250425T083000
DTEND;TZID=Europe/Rome:20250425T150000
DTSTAMP:20260419T174208
CREATED:20250418T101729Z
LAST-MODIFIED:20250423T082611Z
UID:10006129-1745569800-1745593200@portedivaltellina.it
SUMMARY:Mostra zootecnica
DESCRIPTION:PROGRAMMA \n\nore 8.30 arrivo capi\nore 9.30 valutazione bestiame\nore 12.00 premiazioni\nore 13.00 pranzo in compagnia\n\nDurante la manifestazione si potranno effettuare giri in carrozza. \nMenu: polenta taragna\, salsiccia e giardiniera\, acqua e vino \nCosto pranzo aperto a tutti: € 19\,00 \nInfo e prenotazioni entro il 22/4: info@prolocotalamona.it – 333 1581646 \n 
URL:https://portedivaltellina.it/eventi/mostra-zootecnica/
LOCATION:Talamona – Piazzale San Carlo
END:VEVENT
BEGIN:VEVENT
DTSTART;TZID=Europe/Rome:20250425T090000
DTEND;TZID=Europe/Rome:20250425T170000
DTSTAMP:20260419T174208
CREATED:20250408T131445Z
LAST-MODIFIED:20250408T131445Z
UID:10006057-1745571600-1745600400@portedivaltellina.it
SUMMARY:Lilt running
DESCRIPTION:XV Edizione \nCorsa e camminata di 7 Km per sole donne \nPROGRAMMA: \n\nOre 9.00 Ritrovo presso la Colonia fluviale\,\nOre 10.00 chiusura iscrizioni e riscaldamento con Sabina\nOre 10.30 partenza\nOre 12.30 pranzo aperto a tutti\nNel pomeriggio esibizione del gruppo Free Bears country friends\n\n Costo iscrizione € 12\,00 \n Info: Lilt provinciale 0342 219413 – 349 4595006 – 346 7165256
URL:https://portedivaltellina.it/eventi/lilt-running/
LOCATION:Morbegno – Colonia fluviale
END:VEVENT
BEGIN:VEVENT
DTSTART;TZID=Europe/Rome:20250425T133000
DTEND;TZID=Europe/Rome:20250425T190000
DTSTAMP:20260419T174208
CREATED:20250403T062916Z
LAST-MODIFIED:20250403T062916Z
UID:10006039-1745587800-1745607600@portedivaltellina.it
SUMMARY:Trofeo Morbegnese
DESCRIPTION:36esima edizione \nGara nazionale bronze di corsa su strada \nPROGRAMMA \n\nDalle ore 14 gare giovanili\nDalle ore 16 gara di 10 km\n\nMaggiori informazioni: www.gscsimorbegno.org
URL:https://portedivaltellina.it/eventi/trofeo-morbegnese/
LOCATION:Morbegno
END:VEVENT
BEGIN:VEVENT
DTSTART;TZID=Europe/Rome:20250425T180000
DTEND;TZID=Europe/Rome:20250425T193000
DTSTAMP:20260419T174208
CREATED:20250414T081212Z
LAST-MODIFIED:20250414T081212Z
UID:10006114-1745604000-1745609400@portedivaltellina.it
SUMMARY:80esimo Anniversario della Liberazione
DESCRIPTION:PROGRAMMA \n\nAlle ore 18 Santa Messa in Chiesa Parrocchiale\nAlle ore 18.40 cerimonia al Monumento ai Caduti in Piazza San Carpoforo\nA seguire corteo e cerimonia al Monumento di Piazza Santa Domenica\n\nAd accompagnare la cerimonia il corpo musicale di Delebio. \nLe associazioni d’arma e la popolazione sono invitate a partecipare.
URL:https://portedivaltellina.it/eventi/80esimo-anniversario-della-liberazione/
LOCATION:Delebio
END:VEVENT
BEGIN:VEVENT
DTSTART;TZID=Europe/Rome:20250425T210000
DTEND;TZID=Europe/Rome:20250425T230000
DTSTAMP:20260419T174208
CREATED:20250320T075001Z
LAST-MODIFIED:20250422T093000Z
UID:10005923-1745614800-1745622000@portedivaltellina.it
SUMMARY:Caven "Punk Folk Bruno Alpino"
DESCRIPTION:Secondo evento per l’80esimo Anniversario della Liberazione d’Italia \nEvento benefico a favore del progetto ESPLORARTE ed EMPORION. \nUn progetto basato sulla cultura e tradizione popolare\, usando il dialetto come lingua portante per le canzoni. \nIngresso ad offerta libera\, non è necessaria la prenotazione. \nMaggiori informazioni: +39 339 4025061
URL:https://portedivaltellina.it/eventi/caven-punk-folk-bruno-alpino/
LOCATION:Traona – Auditorium comunale\, PIazza Caduti\, 29\, Traona\, 23019
END:VEVENT
END:VCALENDAR