BEGIN:VCALENDAR
VERSION:2.0
PRODID:-//Porte di Valtellina - ECPv6.15.20//NONSGML v1.0//EN
CALSCALE:GREGORIAN
METHOD:PUBLISH
X-WR-CALNAME:Porte di Valtellina
X-ORIGINAL-URL:https://portedivaltellina.it
X-WR-CALDESC:Eventi per Porte di Valtellina
REFRESH-INTERVAL;VALUE=DURATION:PT1H
X-Robots-Tag:noindex
X-PUBLISHED-TTL:PT1H
BEGIN:VTIMEZONE
TZID:Europe/Rome
BEGIN:DAYLIGHT
TZOFFSETFROM:+0100
TZOFFSETTO:+0200
TZNAME:CEST
DTSTART:20240331T010000
END:DAYLIGHT
BEGIN:STANDARD
TZOFFSETFROM:+0200
TZOFFSETTO:+0100
TZNAME:CET
DTSTART:20241027T010000
END:STANDARD
BEGIN:DAYLIGHT
TZOFFSETFROM:+0100
TZOFFSETTO:+0200
TZNAME:CEST
DTSTART:20250330T010000
END:DAYLIGHT
BEGIN:STANDARD
TZOFFSETFROM:+0200
TZOFFSETTO:+0100
TZNAME:CET
DTSTART:20251026T010000
END:STANDARD
BEGIN:DAYLIGHT
TZOFFSETFROM:+0100
TZOFFSETTO:+0200
TZNAME:CEST
DTSTART:20260329T010000
END:DAYLIGHT
BEGIN:STANDARD
TZOFFSETFROM:+0200
TZOFFSETTO:+0100
TZNAME:CET
DTSTART:20261025T010000
END:STANDARD
END:VTIMEZONE
BEGIN:VEVENT
DTSTART;VALUE=DATE:20250430
DTEND;VALUE=DATE:20250502
DTSTAMP:20260419T174208
CREATED:20250416T152328Z
LAST-MODIFIED:20250416T152328Z
UID:10006123-1745971200-1746143999@portedivaltellina.it
SUMMARY:Il canto del gallo
DESCRIPTION:Con le guide nel Parco \nEscursione alla ricerca del fagiano di monte\, affascinante abitante delle alpi e protagonista dell’incredibile spettacolo primaverile del rituale di corteggiamento. \n\nLunghezza percorso: 10 km in due giorni\nDislivello: 1° giorno +500m\, 2° giorno +300m\nDifficoltà: E\n\nPernottamento al Rifugio Alpe Piazza. \nInfo\, costi e iscrizioni: guida parco Stefano Sivieri 334 1222767 –  stefano.sivieri94@gmail.com
URL:https://portedivaltellina.it/eventi/il-canto-del-gallo/
LOCATION:Valle del Bitto di Albaredo
END:VEVENT
BEGIN:VEVENT
DTSTART;TZID=Europe/Rome:20250430T183000
DTEND;TZID=Europe/Rome:20250430T223000
DTSTAMP:20260419T174208
CREATED:20250411T131637Z
LAST-MODIFIED:20250411T131637Z
UID:10006111-1746037800-1746052200@portedivaltellina.it
SUMMARY:14ª notturna talamonese
DESCRIPTION:Gara regionale di corsa su strada \nPROGRAMMA: \n\nAlle ore 18.30 ritrovo\nAlle ore 19.30 inizio gare giovanili\nAlle ore 20.30 premiazioni\nAlle ore 21.00 gara assoluta femminile e allievi di 3 Km\nAllo ore 21.30 gara assoluta maschile di 5 Km.\nAl termine premiazioni categorie assolute\n\n Street food durante la manifestazione. \nInfo: gptalamona@libero.it
URL:https://portedivaltellina.it/eventi/14a-notturna-talamonese/
LOCATION:Talamona
ORGANIZER;CN="gruppo podistico Talamona":MAILTO:gptalamona@libero.it
END:VEVENT
BEGIN:VEVENT
DTSTART;TZID=Europe/Rome:20250430T193000
DTEND;TZID=Europe/Rome:20250501T233000
DTSTAMP:20260419T174208
CREATED:20250408T144112Z
LAST-MODIFIED:20250408T144112Z
UID:10006059-1746041400-1746142200@portedivaltellina.it
SUMMARY:Festa del 1° Maggio
DESCRIPTION:30 aprile – Aspettando il 1° Maggio… \n\nAlle ore 19.30 apertura bar e cena con gnocchetti valchiavennaschi\, polletto\, hot dog\, sciatt\, panini e patatine\nDalle 21.30 musica dal vivo con  il gruppo “All you can beat”\nDalle 23.30 dj set con Freddy Barri\n\n1° Maggio – Festa del 1° Maggio… \n\nAlle ore 14.00 apertura bar\nAlle 14.30 inizio giochi per bambini\, sfilata degli asini\, acrobati della cuccagna\, angolo giochi per tutti\nAlle ore 19.15 cena tipica valtellinese con brasato d’asino e polenta o costine\, salsicce e taragna.\nA seguire estrazione lotteria\nOre 21.45 serata danzante con l’orchestra Saverio Masolini\n\nL’evento si terrà anche in caso di maltempo \nIl ricavato sarà utilizzato per opere di beneficenza o per bisogni dell’oratorio. \nPossibile prenotare il tavolo solo per mercoledì 30 aprile \n Info e  prenotazioni: 349 6106653 \nPer ulteriori informazioni SCARICA QUI la locandina
URL:https://portedivaltellina.it/eventi/festa-del-1-maggio/
LOCATION:Tensostruttura – Nuova Olonio\, Dubino\, 23015\, Italia
END:VEVENT
BEGIN:VEVENT
DTSTART;TZID=Europe/Rome:20250430T203000
DTEND;TZID=Europe/Rome:20250430T220000
DTSTAMP:20260419T174208
CREATED:20250418T134416Z
LAST-MODIFIED:20250424T101440Z
UID:10006132-1746045000-1746050400@portedivaltellina.it
SUMMARY:L'uomo delle montagne
DESCRIPTION:Gli incontri della biblioteca \nIl fascino delle nostre terre alte raccontato da un vero innamorato della montagna. \nPresenta: Oreste Forno \nInfo: Comune Buglio in Monte 0342 620020
URL:https://portedivaltellina.it/eventi/luomo-delle-montagne/
LOCATION:Buglio in Monte – Biblioteca\, Via Roma
END:VEVENT
END:VCALENDAR