BEGIN:VCALENDAR
VERSION:2.0
PRODID:-//Porte di Valtellina - ECPv6.15.20//NONSGML v1.0//EN
CALSCALE:GREGORIAN
METHOD:PUBLISH
X-WR-CALNAME:Porte di Valtellina
X-ORIGINAL-URL:https://portedivaltellina.it
X-WR-CALDESC:Eventi per Porte di Valtellina
REFRESH-INTERVAL;VALUE=DURATION:PT1H
X-Robots-Tag:noindex
X-PUBLISHED-TTL:PT1H
BEGIN:VTIMEZONE
TZID:Europe/Rome
BEGIN:DAYLIGHT
TZOFFSETFROM:+0100
TZOFFSETTO:+0200
TZNAME:CEST
DTSTART:20240331T010000
END:DAYLIGHT
BEGIN:STANDARD
TZOFFSETFROM:+0200
TZOFFSETTO:+0100
TZNAME:CET
DTSTART:20241027T010000
END:STANDARD
BEGIN:DAYLIGHT
TZOFFSETFROM:+0100
TZOFFSETTO:+0200
TZNAME:CEST
DTSTART:20250330T010000
END:DAYLIGHT
BEGIN:STANDARD
TZOFFSETFROM:+0200
TZOFFSETTO:+0100
TZNAME:CET
DTSTART:20251026T010000
END:STANDARD
BEGIN:DAYLIGHT
TZOFFSETFROM:+0100
TZOFFSETTO:+0200
TZNAME:CEST
DTSTART:20260329T010000
END:DAYLIGHT
BEGIN:STANDARD
TZOFFSETFROM:+0200
TZOFFSETTO:+0100
TZNAME:CET
DTSTART:20261025T010000
END:STANDARD
END:VTIMEZONE
BEGIN:VEVENT
DTSTART;TZID=Europe/Rome:20250501T150000
DTEND;TZID=Europe/Rome:20250504T180000
DTSTAMP:20260419T174244
CREATED:20250422T135422Z
LAST-MODIFIED:20250422T135422Z
UID:10006135-1746111600-1746381600@portedivaltellina.it
SUMMARY:Rapporto infimo
DESCRIPTION:Mostra fotografica \nper raccontare la violenza di genere \nCon la partecipazione del Piccolo Teatro delle Valli e gli studenti della 3ªC dell’Istituto Comprensivo Damiani di Morbegno \n\npresso la Sala consiliare del Comune di Ardenno\n\nIngresso libero \nInfo: www.evaltellina.com \n 
URL:https://portedivaltellina.it/eventi/rapporto-infimo/
LOCATION:Ardenno – Sala consiliare\, Piazza Roma\, 10\, 23011\, Italy
ORGANIZER;CN="Evaltellina":MAILTO:info@evaltellina.com
END:VEVENT
BEGIN:VEVENT
DTSTART;VALUE=DATE:20250502
DTEND;VALUE=DATE:20250518
DTSTAMP:20260419T174244
CREATED:20250317T094912Z
LAST-MODIFIED:20250415T144909Z
UID:10005913-1746144000-1747526399@portedivaltellina.it
SUMMARY:Giochi delle Contrade
DESCRIPTION:10a edizione \nSono aperte le iscrizioni  alla decima edizione dei Giochi delle Contrade a Morbegno\, \n in programma dal 2 al 17 maggio! \nA sfidarsi saranno le contrade di Adda\, Bottà\, Ganda\, Serta\, San Rocco\, San Giovanni\, Madonna e San Pietro. \nCONSULTA QUI IL PROGRAMMA \nMaggiori informazioni: info@prolocomorbegno.it – www.prolocomorbegno.it
URL:https://portedivaltellina.it/eventi/giochi-delle-contrade/
LOCATION:Morbegno
END:VEVENT
BEGIN:VEVENT
DTSTART;TZID=Europe/Rome:20250503T170000
DTEND;TZID=Europe/Rome:20250503T173000
DTSTAMP:20260419T174244
CREATED:20250304T101744Z
LAST-MODIFIED:20250304T101744Z
UID:10005875-1746291600-1746293400@portedivaltellina.it
SUMMARY:Pillole di poesia
DESCRIPTION:30 minuti di letture e musica  \ncon la partecipazione di Luca Martinalli\, Massimo Malgesini e Gabriele Tonelli \nIntermezzi musicali di Lorenzo Pighetti e Gioele Tonelli \nIngresso gratuito aperto a tutti \nInfo: www.evaltellina.com \n 
URL:https://portedivaltellina.it/eventi/pillole-di-poesia-2/
LOCATION:Morbegno – Biblioteca Civica Ezio Vanoni\, Via Cortivacci\, 4\, 23017
ORGANIZER;CN="Evaltellina":MAILTO:info@evaltellina.com
END:VEVENT
BEGIN:VEVENT
DTSTART;TZID=Europe/Rome:20250503T170000
DTEND;TZID=Europe/Rome:20250503T193000
DTSTAMP:20260419T174244
CREATED:20250410T141505Z
LAST-MODIFIED:20250410T141505Z
UID:10006103-1746291600-1746300600@portedivaltellina.it
SUMMARY:Foraging per tutti
DESCRIPTION:Museo tempo libero \nCorso in tre lezioni teorico/pratiche \n1° appuntamento \n Teoria: biomolecole\, nutrienti e sostanze tossiche nelle piante selvatiche \nCosto € 11\,00 a lezione. \nIscrizioni: www.museostorianaturale.it. \nInfo: segreteriaventiventiaps@gmail.com  – 338 1702694 wa \n 
URL:https://portedivaltellina.it/eventi/foraging-per-tutti/
LOCATION:Morbegno – Museo Civico di Storia naturale\, Via Cortivacci\, 2\, Italia
END:VEVENT
BEGIN:VEVENT
DTSTART;TZID=Europe/Rome:20250503T210000
DTEND;TZID=Europe/Rome:20250503T223000
DTSTAMP:20260419T174244
CREATED:20250416T084927Z
LAST-MODIFIED:20250417T101835Z
UID:10006119-1746306000-1746311400@portedivaltellina.it
SUMMARY:A vignè sturni\, certi volt\, l’è una fortöna
DESCRIPTION:Spettacolo teatrale \nCommedia dialettale in due atti a cura de La cumpagnia dal fil da fer \nIngresso ad offerta libera \nil ricavato sarà donato in beneficenza in favore del Gruppo della Gioia
URL:https://portedivaltellina.it/eventi/a-vigne-sturni-certi-volt-le-una-fortona/
LOCATION:Talamona – Oratorio\, Via Gavazzeni\, 21\, Talamona\, 23018\, Italy
END:VEVENT
BEGIN:VEVENT
DTSTART;TZID=Europe/Rome:20250503T210000
DTEND;TZID=Europe/Rome:20250503T230000
DTSTAMP:20260419T174244
CREATED:20250221T090209Z
LAST-MODIFIED:20250221T090209Z
UID:10005783-1746306000-1746313200@portedivaltellina.it
SUMMARY:Concerti d'organo
DESCRIPTION:IV edizione \ndedicata a Marco Enrico Bossi nel centenario dalla morte. \nConcerto in memoria di Enea Mattei. \nOrganista Emanuele Vianelli\, già organista titolare del Duomo di Milano \nIngresso libero \nDirezione artistica Pietro Ciapponi \nInfo: www.parrocchiadimorbegno.com
URL:https://portedivaltellina.it/eventi/concerti-dorgano/
LOCATION:Morbegno – Chiesa di San Giovanni
END:VEVENT
END:VCALENDAR