BEGIN:VCALENDAR
VERSION:2.0
PRODID:-//Porte di Valtellina - ECPv6.15.20//NONSGML v1.0//EN
CALSCALE:GREGORIAN
METHOD:PUBLISH
X-WR-CALNAME:Porte di Valtellina
X-ORIGINAL-URL:https://portedivaltellina.it
X-WR-CALDESC:Eventi per Porte di Valtellina
REFRESH-INTERVAL;VALUE=DURATION:PT1H
X-Robots-Tag:noindex
X-PUBLISHED-TTL:PT1H
BEGIN:VTIMEZONE
TZID:Europe/Rome
BEGIN:DAYLIGHT
TZOFFSETFROM:+0100
TZOFFSETTO:+0200
TZNAME:CEST
DTSTART:20240331T010000
END:DAYLIGHT
BEGIN:STANDARD
TZOFFSETFROM:+0200
TZOFFSETTO:+0100
TZNAME:CET
DTSTART:20241027T010000
END:STANDARD
BEGIN:DAYLIGHT
TZOFFSETFROM:+0100
TZOFFSETTO:+0200
TZNAME:CEST
DTSTART:20250330T010000
END:DAYLIGHT
BEGIN:STANDARD
TZOFFSETFROM:+0200
TZOFFSETTO:+0100
TZNAME:CET
DTSTART:20251026T010000
END:STANDARD
BEGIN:DAYLIGHT
TZOFFSETFROM:+0100
TZOFFSETTO:+0200
TZNAME:CEST
DTSTART:20260329T010000
END:DAYLIGHT
BEGIN:STANDARD
TZOFFSETFROM:+0200
TZOFFSETTO:+0100
TZNAME:CET
DTSTART:20261025T010000
END:STANDARD
END:VTIMEZONE
BEGIN:VEVENT
DTSTART;TZID=Europe/Rome:20250501T150000
DTEND;TZID=Europe/Rome:20250504T180000
DTSTAMP:20260419T174244
CREATED:20250422T135422Z
LAST-MODIFIED:20250422T135422Z
UID:10006135-1746111600-1746381600@portedivaltellina.it
SUMMARY:Rapporto infimo
DESCRIPTION:Mostra fotografica \nper raccontare la violenza di genere \nCon la partecipazione del Piccolo Teatro delle Valli e gli studenti della 3ªC dell’Istituto Comprensivo Damiani di Morbegno \n\npresso la Sala consiliare del Comune di Ardenno\n\nIngresso libero \nInfo: www.evaltellina.com \n 
URL:https://portedivaltellina.it/eventi/rapporto-infimo/
LOCATION:Ardenno – Sala consiliare\, Piazza Roma\, 10\, 23011\, Italy
ORGANIZER;CN="Evaltellina":MAILTO:info@evaltellina.com
END:VEVENT
BEGIN:VEVENT
DTSTART;VALUE=DATE:20250502
DTEND;VALUE=DATE:20250518
DTSTAMP:20260419T174244
CREATED:20250317T094912Z
LAST-MODIFIED:20250415T144909Z
UID:10005913-1746144000-1747526399@portedivaltellina.it
SUMMARY:Giochi delle Contrade
DESCRIPTION:10a edizione \nSono aperte le iscrizioni  alla decima edizione dei Giochi delle Contrade a Morbegno\, \n in programma dal 2 al 17 maggio! \nA sfidarsi saranno le contrade di Adda\, Bottà\, Ganda\, Serta\, San Rocco\, San Giovanni\, Madonna e San Pietro. \nCONSULTA QUI IL PROGRAMMA \nMaggiori informazioni: info@prolocomorbegno.it – www.prolocomorbegno.it
URL:https://portedivaltellina.it/eventi/giochi-delle-contrade/
LOCATION:Morbegno
END:VEVENT
BEGIN:VEVENT
DTSTART;VALUE=DATE:20250504
DTEND;VALUE=DATE:20250505
DTSTAMP:20260419T174244
CREATED:20250423T132110Z
LAST-MODIFIED:20250423T132110Z
UID:10006138-1746316800-1746403199@portedivaltellina.it
SUMMARY:Trofeo 373
DESCRIPTION:Manifestazione atletica \nper le categorie esordienti e ragazzi \npresso il Campo sportivo “Toccalli” \nInfo: www.gscsimorbegno.org
URL:https://portedivaltellina.it/eventi/trofeo-373/
LOCATION:Morbegno – Stadio Tocalli\, Via Merizzi 174
END:VEVENT
BEGIN:VEVENT
DTSTART;TZID=Europe/Rome:20250504T080000
DTEND;TZID=Europe/Rome:20250504T170000
DTSTAMP:20260419T174245
CREATED:20250430T080852Z
LAST-MODIFIED:20250430T091440Z
UID:10006164-1746345600-1746378000@portedivaltellina.it
SUMMARY:Capra orobica della Valgerola
DESCRIPTION:22ª Mostra interprovinciale \nPROGRAMMA: \n\nOre 8.30 arrivo delle capre in mostra\nOre 9.30 Inizio valutazione animali\nOre 13.00 Pranzo del pastore a base di polenta taragna\nOre 14.30 Proclamazione campioni assoluti\n\nCosto pranzo: € 15\,00 adulti – € 8\,00 bambini \nDedicato ai bambini: \n\ndalle ore 10.45 attività manuali e muncitura a cura dell’ecomuseo della Valgerola\npartecipazione gratuita\n\nIn paese musei aperti: \n\ndalle 10.30 alle 12.30 e dalle 14.30 alle 17.00\n\nInfo: Pro Loco Gerola Alta 334 9152272 – prolocogerola@alice.it 
URL:https://portedivaltellina.it/eventi/capra-orobica-della-valgerola/
LOCATION:Gerola Alta – Palagerola\, Strada Provinciale 7 della Valgerola\, 72\, Gerola Alta\, 23010\, Italia
ORGANIZER;CN="Pro Loco Gerola Alta":MAILTO:prolocogerola@alice.it
END:VEVENT
BEGIN:VEVENT
DTSTART;TZID=Europe/Rome:20250504T104500
DTEND;TZID=Europe/Rome:20250504T120000
DTSTAMP:20260419T174245
CREATED:20250426T073658Z
LAST-MODIFIED:20250426T073658Z
UID:10006141-1746355500-1746360000@portedivaltellina.it
SUMMARY:San Gottardo
DESCRIPTION:Per festeggiare insieme il Patrono di Alfaedo \n\nOre 10.45 S. Messa con processione nelle vie dell’antico borgo\nA seguire aperitivo offerto dalla proloco\n\nInfo: Pro Loco “La Caurga” 333 4135413 \n 
URL:https://portedivaltellina.it/eventi/san-gottardo/
LOCATION:Forcola – Loc. Alfaedo
END:VEVENT
BEGIN:VEVENT
DTSTART;TZID=Europe/Rome:20250504T133000
DTEND;TZID=Europe/Rome:20250504T170000
DTSTAMP:20260419T174245
CREATED:20250430T092531Z
LAST-MODIFIED:20250430T095727Z
UID:10006166-1746365400-1746378000@portedivaltellina.it
SUMMARY:Camminata del Palio
DESCRIPTION:6° Palio delle contrade \nCamminata di circa 6 Km. \nOgni partecipante porta punti alla propria contrada \n\nore 13.30 ritrovo la polifunzionale e iscrizioni\nore 14.30 partenza\nore 16.00 merenda e giochi per bambini\n\nIn caso di maltempo la manifestazione sarà rimandata a data da destinarsi \nInfo: Pro loco Traona www.prolocotraona.it  \n 
URL:https://portedivaltellina.it/eventi/camminata-del-palio/
ORGANIZER;CN="Pro Loco Traona":MAILTO:prolocotraona@gmail.com
END:VEVENT
BEGIN:VEVENT
DTSTART;TZID=Europe/Rome:20250504T150000
DTEND;TZID=Europe/Rome:20250504T180000
DTSTAMP:20260419T174245
CREATED:20250430T154342Z
LAST-MODIFIED:20250430T154342Z
UID:10006168-1746370800-1746381600@portedivaltellina.it
SUMMARY:Dalla pecora al tessuto
DESCRIPTION:Attività didattica per tutta la famiglia \nUn laboratorio ricco di emozioni che ti racconterà di storie antiche\, di cose semplici e ormai dimenticate… \nIn collaborazione con il Gruppo Folk “I Barilocc” di Albaredo per San Marco. \nCosto €10\,00 a persona. \nPrenotazioni da effettuare entro sabato 3 maggio. \nMaggiori informazioni: +39 347 9255649
URL:https://portedivaltellina.it/eventi/dalla-pecora-al-tessuto/
LOCATION:Morbegno – Fraz. Arzo – Fattoria didattica Sempreverde
END:VEVENT
BEGIN:VEVENT
DTSTART;TZID=Europe/Rome:20250504T203000
DTEND;TZID=Europe/Rome:20250504T223000
DTSTAMP:20260419T174245
CREATED:20250502T152656Z
LAST-MODIFIED:20250502T152656Z
UID:10006169-1746390600-1746397800@portedivaltellina.it
SUMMARY:Maggio Chitarristico
DESCRIPTION:Concerto del trio Concertando \n\nZoltan Banfalvi\, violino\nLuca Trabucchi\, chitarra\nPierluigi Ruggiero\, violoncello\n\nMusiche di Piovani\, Paganini\, Rota e Carpi. \nIngresso libero
URL:https://portedivaltellina.it/eventi/maggio-chitarristico/
LOCATION:Morbegno – Palazzo Malacrida\, Via Malacrida
END:VEVENT
END:VCALENDAR