BEGIN:VCALENDAR
VERSION:2.0
PRODID:-//Porte di Valtellina - ECPv6.15.20//NONSGML v1.0//EN
CALSCALE:GREGORIAN
METHOD:PUBLISH
X-WR-CALNAME:Porte di Valtellina
X-ORIGINAL-URL:https://portedivaltellina.it
X-WR-CALDESC:Eventi per Porte di Valtellina
REFRESH-INTERVAL;VALUE=DURATION:PT1H
X-Robots-Tag:noindex
X-PUBLISHED-TTL:PT1H
BEGIN:VTIMEZONE
TZID:Europe/Rome
BEGIN:DAYLIGHT
TZOFFSETFROM:+0100
TZOFFSETTO:+0200
TZNAME:CEST
DTSTART:20240331T010000
END:DAYLIGHT
BEGIN:STANDARD
TZOFFSETFROM:+0200
TZOFFSETTO:+0100
TZNAME:CET
DTSTART:20241027T010000
END:STANDARD
BEGIN:DAYLIGHT
TZOFFSETFROM:+0100
TZOFFSETTO:+0200
TZNAME:CEST
DTSTART:20250330T010000
END:DAYLIGHT
BEGIN:STANDARD
TZOFFSETFROM:+0200
TZOFFSETTO:+0100
TZNAME:CET
DTSTART:20251026T010000
END:STANDARD
BEGIN:DAYLIGHT
TZOFFSETFROM:+0100
TZOFFSETTO:+0200
TZNAME:CEST
DTSTART:20260329T010000
END:DAYLIGHT
BEGIN:STANDARD
TZOFFSETFROM:+0200
TZOFFSETTO:+0100
TZNAME:CET
DTSTART:20261025T010000
END:STANDARD
END:VTIMEZONE
BEGIN:VEVENT
DTSTART;VALUE=DATE:20250502
DTEND;VALUE=DATE:20250518
DTSTAMP:20260419T192128
CREATED:20250317T094912Z
LAST-MODIFIED:20250415T144909Z
UID:10005913-1746144000-1747526399@portedivaltellina.it
SUMMARY:Giochi delle Contrade
DESCRIPTION:10a edizione \nSono aperte le iscrizioni  alla decima edizione dei Giochi delle Contrade a Morbegno\, \n in programma dal 2 al 17 maggio! \nA sfidarsi saranno le contrade di Adda\, Bottà\, Ganda\, Serta\, San Rocco\, San Giovanni\, Madonna e San Pietro. \nCONSULTA QUI IL PROGRAMMA \nMaggiori informazioni: info@prolocomorbegno.it – www.prolocomorbegno.it
URL:https://portedivaltellina.it/eventi/giochi-delle-contrade/
LOCATION:Morbegno
END:VEVENT
BEGIN:VEVENT
DTSTART;VALUE=DATE:20250507
DTEND;VALUE=DATE:20250511
DTSTAMP:20260419T192128
CREATED:20250129T104340Z
LAST-MODIFIED:20250430T143240Z
UID:10005720-1746576000-1746921599@portedivaltellina.it
SUMMARY:Melloblocco 2025
DESCRIPTION:Raduno internazionale di bouldering \nTorna l’evento cult degli amanti dell’arrampicata libera in Val Masino\, uno dei luoghi più interessanti e suggestivi delle Alpi per l’arrampicata su granito\, dai blocchi alle grandi pareti. \nDal 7 al 10 Maggio \nUna manifestazione per gli amanti dello sport e della natura con tante attività collaterali. \nVisita il sito ufficiale e scopri il programma. \nInfo e iscrizioni: www.melloblocco.it \n 
URL:https://portedivaltellina.it/eventi/melloblocco-2025/
LOCATION:Val Masino
END:VEVENT
BEGIN:VEVENT
DTSTART;TZID=Europe/Rome:20250509T080000
DTEND;TZID=Europe/Rome:20250514T170000
DTSTAMP:20260419T192128
CREATED:20250509T130418Z
LAST-MODIFIED:20250509T130418Z
UID:10006195-1746777600-1747242000@portedivaltellina.it
SUMMARY:Animal World
DESCRIPTION:Centro estivo 2025 \nGiochiamo insieme\, conosciamo gli animali e ci divertiamo! \n\ndal 16 al 27 giugno\ndalle ore 8.00 alle 16.00\n\nPer ragazzi nati dal 2011 al 2018 \nCosto: € 130\,00 a settimana\, incluso mensa\, trasporto\, assicurazione e materiale \nTrasporto da Morbegno\, S. Croce\, Mello\, Civo\, Cevo e Dazio \nIscrizioni entro Mercoledì 14 maggio: https://form.jotform.com/241374050911347 \nInfo: seronevivo@gmail.com – 339 1559537
URL:https://portedivaltellina.it/eventi/animal-world/
LOCATION:Civo – Fraz. Serone
END:VEVENT
BEGIN:VEVENT
DTSTART;VALUE=DATE:20250510
DTEND;VALUE=DATE:20250511
DTSTAMP:20260419T192128
CREATED:20250509T075115Z
LAST-MODIFIED:20250509T075115Z
UID:10006188-1746835200-1746921599@portedivaltellina.it
SUMMARY:Val Fabiolo Mon Amour
DESCRIPTION:Escursione storico-culturale borghi antichi \nLa storia di un borgo antico e di un bambino. \nUn viaggio nel tempo in un mondo che non c’è più\, con la guida parco Pietro Baruta \nInfo costi e prenotazioni: Pietro Baruta 346 3046069 \n 
URL:https://portedivaltellina.it/eventi/val-fabiolo-mon-amour/
LOCATION:Val Fabiolo
END:VEVENT
BEGIN:VEVENT
DTSTART;TZID=Europe/Rome:20250510T100000
DTEND;TZID=Europe/Rome:20250510T110000
DTSTAMP:20260419T192128
CREATED:20250312T094302Z
LAST-MODIFIED:20250312T094302Z
UID:10005898-1746871200-1746874800@portedivaltellina.it
SUMMARY:Letture ad alta voce
DESCRIPTION:Le letture del sabato in biblioteca \nLetture ad alta voce per bambini dai 3 ai 6 anni e le loro famiglie\, organizzato dai volontari della biblioteca \nInfo: biblioteca@comune.talamona.so.it – 0342 672076 \n 
URL:https://portedivaltellina.it/eventi/letture-ad-alta-voce-2/2025-05-10/
LOCATION:Talamona – Biblioteca Comunale Ines Busnarda Luzzi\, Via Don Cusini\, 49\, Talamona\, 23018\, Italia
ORGANIZER;CN="Biblioteca Talamona":MAILTO:biblioteca@comune.talamona.so.it
END:VEVENT
BEGIN:VEVENT
DTSTART;TZID=Europe/Rome:20250510T100000
DTEND;TZID=Europe/Rome:20250510T170000
DTSTAMP:20260419T192128
CREATED:20250507T101634Z
LAST-MODIFIED:20250507T101634Z
UID:10006178-1746871200-1746896400@portedivaltellina.it
SUMMARY:Passeggiando tra natura e tradizioni
DESCRIPTION:Passeggiata someggiata per persone con disabilità \nPROGRAMMA: \n\nAlle ore 10.00 ritrovo presso il Sentiero nell’Isola\nAlle ore 11.00 breve passeggiata someggiata  con raccolta di erbe spontanee\nAlle 12.30 pranzo al sacco\nAlle 14.00 laboratorio di tintura della lana\n\nIscrizioni entro il 5 maggio \nIn caso di maltempo l’escursione sarà rinviata al 24 maggio. \nInfo: Ileana 348 1089414 – Riccardo 339 6029655  \nIscrizioni: 0342 211236 – info@parcorobievalt.com
URL:https://portedivaltellina.it/eventi/passeggiando-tra-natura-e-tradizioni/
LOCATION:Parco della Bosca\, Fraz. Campovico\, Morbegno\, 23017\, Italia
END:VEVENT
BEGIN:VEVENT
DTSTART;TZID=Europe/Rome:20250510T103000
DTEND;TZID=Europe/Rome:20250510T113000
DTSTAMP:20260419T192128
CREATED:20250503T104429Z
LAST-MODIFIED:20250503T104429Z
UID:10006170-1746873000-1746876600@portedivaltellina.it
SUMMARY:Il maggio dei libri
DESCRIPTION:Letture per bambini da 0 a 3 anni  \nIngresso libero \n Info: 0342 684564 – biblioteca.delebio@gmail.com
URL:https://portedivaltellina.it/eventi/il-maggio-dei-libri/
LOCATION:Delebio – Biblioteca Comunale
ORGANIZER;CN="Biblioteca di Delebio":MAILTO:biblioteca.delebio@gmail.com
END:VEVENT
BEGIN:VEVENT
DTSTART;TZID=Europe/Rome:20250510T173000
DTEND;TZID=Europe/Rome:20250510T183000
DTSTAMP:20260419T192128
CREATED:20250404T095126Z
LAST-MODIFIED:20250404T095126Z
UID:10006047-1746898200-1746901800@portedivaltellina.it
SUMMARY:L’arvicola delle nevi
DESCRIPTION:Tre esperienze in Appennino \nIl Dr. Armando Nappi racconta le sue ricerche su questo simpatico e affascinante roditore \nIngresso gratuito  \nInfo e prenotazioni: www.museostorianaturale.it
URL:https://portedivaltellina.it/eventi/larvicola-delle-nevi/
LOCATION:Morbegno – Museo Civico di Storia naturale\, Via Cortivacci\, 2\, Italia
END:VEVENT
BEGIN:VEVENT
DTSTART;TZID=Europe/Rome:20250510T173000
DTEND;TZID=Europe/Rome:20250510T190000
DTSTAMP:20260419T192128
CREATED:20250508T101131Z
LAST-MODIFIED:20250508T101131Z
UID:10006184-1746898200-1746903600@portedivaltellina.it
SUMMARY:Incontriamoci in centro
DESCRIPTION:Conosciamo il patrimonio librario del Centro Culturale Felice Rainoldi \nConosciamo un libro insieme a Piergiovanni Damiani\, professore di Religione cattolica. \nIngresso libero \n 
URL:https://portedivaltellina.it/eventi/incontriamoci-in-centro-4/
LOCATION:Centro Culturale Felice Rainoldi\, Via Pretorio\, 21\, Morbegno\, 23017\, Italy
END:VEVENT
BEGIN:VEVENT
DTSTART;TZID=Europe/Rome:20250510T190000
DTEND;TZID=Europe/Rome:20250510T233000
DTSTAMP:20260419T192128
CREATED:20250426T093102Z
LAST-MODIFIED:20250426T094617Z
UID:10006145-1746903600-1746919800@portedivaltellina.it
SUMMARY:Silent disco
DESCRIPTION:Serata di condivisione generazionale \n\nDalle ore 19.00 panini e cocktail in compagnia\na seguire indossa le cuffie\, scegli la tua musica e scatenati!\n\n3 play list\, 3 generazioni\, 1 sola pista \nper uno scontro generazionale a suon di musica! \nInfo: associazioneandepianero@gmail.com
URL:https://portedivaltellina.it/eventi/silent-disco/
LOCATION:Delebio – Oratorio Giovanni Paolo II\, Via G. Verdi\, Delebio\, 23014\, Italy
ORGANIZER;CN="Andepianero":MAILTO:associazioneandepianero@gmail.com
END:VEVENT
BEGIN:VEVENT
DTSTART;TZID=Europe/Rome:20250510T203000
DTEND;TZID=Europe/Rome:20250510T220000
DTSTAMP:20260419T192128
CREATED:20250422T141631Z
LAST-MODIFIED:20250422T141631Z
UID:10006136-1746909000-1746914400@portedivaltellina.it
SUMMARY:Tempo
DESCRIPTION:Raccolta poetica  \npresentazione di Luca Martinalli \nOspiti: Carlo Ozzella cantautore e Elena Della Valle interprete teatrale \nIngresso ad offerta libera \nIl ricavato verrà devoluto in favore degli oratori di Cosio e Regoledo \nInfo: www.evaltellina.com
URL:https://portedivaltellina.it/eventi/tempo/
LOCATION:Cosio Valtellino – Teatro P.G. Frassati – Fraz. Regoledo\, Piazza S. Ambrogio\, 5
ORGANIZER;CN="Evaltellina":MAILTO:info@evaltellina.com
END:VEVENT
BEGIN:VEVENT
DTSTART;TZID=Europe/Rome:20250510T210000
DTEND;TZID=Europe/Rome:20250510T223000
DTSTAMP:20260419T192128
CREATED:20250429T160057Z
LAST-MODIFIED:20250429T160057Z
UID:10006163-1746910800-1746916200@portedivaltellina.it
SUMMARY:Cori in concerto
DESCRIPTION:Corale “M. E. Bossi”\, Direttore Valter Mazzoni \nCoro “Città di Morbegno”\, Direttore Gioele Peruzzi \nIngresso libero
URL:https://portedivaltellina.it/eventi/cori-in-concerto/
LOCATION:Delebio Piazza S. Domenica
END:VEVENT
BEGIN:VEVENT
DTSTART;TZID=Europe/Rome:20250510T210000
DTEND;TZID=Europe/Rome:20250510T230000
DTSTAMP:20260419T192128
CREATED:20250212T153318Z
LAST-MODIFIED:20250227T093636Z
UID:10005767-1746910800-1746918000@portedivaltellina.it
SUMMARY:Rassegna Teatrale 2025
DESCRIPTION:Cumpagnia “Fil da Fer” di Dubino \nA vigne’ sturni\, cert volt\, l’è una furtona \nIngresso con offerta libera
URL:https://portedivaltellina.it/eventi/rassegna-teatrale-2025-6/
LOCATION:Dazio – Sala Polifunzionale\, Via Vittorio Veneto 48\, Dazio\, 23010\, Italia
END:VEVENT
END:VCALENDAR