BEGIN:VCALENDAR
VERSION:2.0
PRODID:-//Porte di Valtellina - ECPv6.15.20//NONSGML v1.0//EN
CALSCALE:GREGORIAN
METHOD:PUBLISH
X-ORIGINAL-URL:https://portedivaltellina.it
X-WR-CALDESC:Eventi per Porte di Valtellina
REFRESH-INTERVAL;VALUE=DURATION:PT1H
X-Robots-Tag:noindex
X-PUBLISHED-TTL:PT1H
BEGIN:VTIMEZONE
TZID:Europe/Rome
BEGIN:DAYLIGHT
TZOFFSETFROM:+0100
TZOFFSETTO:+0200
TZNAME:CEST
DTSTART:20240331T010000
END:DAYLIGHT
BEGIN:STANDARD
TZOFFSETFROM:+0200
TZOFFSETTO:+0100
TZNAME:CET
DTSTART:20241027T010000
END:STANDARD
BEGIN:DAYLIGHT
TZOFFSETFROM:+0100
TZOFFSETTO:+0200
TZNAME:CEST
DTSTART:20250330T010000
END:DAYLIGHT
BEGIN:STANDARD
TZOFFSETFROM:+0200
TZOFFSETTO:+0100
TZNAME:CET
DTSTART:20251026T010000
END:STANDARD
BEGIN:DAYLIGHT
TZOFFSETFROM:+0100
TZOFFSETTO:+0200
TZNAME:CEST
DTSTART:20260329T010000
END:DAYLIGHT
BEGIN:STANDARD
TZOFFSETFROM:+0200
TZOFFSETTO:+0100
TZNAME:CET
DTSTART:20261025T010000
END:STANDARD
END:VTIMEZONE
BEGIN:VEVENT
DTSTART;TZID=Europe/Rome:20250516T093000
DTEND;TZID=Europe/Rome:20250518T180000
DTSTAMP:20260419T191736
CREATED:20250422T143358Z
LAST-MODIFIED:20250422T150313Z
UID:10006137-1747387800-1747591200@portedivaltellina.it
SUMMARY:Art Exhibition
DESCRIPTION:Mostra personale di pittura contemporanea \ndell’artista Antonella Spanò \npresso la sala Boffi \n\nDalle ore 9.30 alle 12.30\nDalle ore 14.00 alle 18.00\n\nIngresso libero \nInfo: www.evaltellina.com \n 
URL:https://portedivaltellina.it/eventi/art-exhibition/
LOCATION:Morbegno – Sala Boffi – Complesso Sant’Antonio\, Piazza S. Antonio\, 23017\, Italia
ORGANIZER;CN="Evaltellina":MAILTO:info@evaltellina.com
END:VEVENT
BEGIN:VEVENT
DTSTART;VALUE=DATE:20250517
DTEND;VALUE=DATE:20250519
DTSTAMP:20260419T191736
CREATED:20250429T152254Z
LAST-MODIFIED:20250508T145408Z
UID:10006162-1747440000-1747612799@portedivaltellina.it
SUMMARY:BioBlitz Lombardia
DESCRIPTION:In campo per la natura \nDiventa un ricercatore sul campo per un giorno e aiutaci a raccogliere dati naturalistici sui lepidotteri. \nClicca QUI per iscriverti! \nInfo e prenotazioni: info@parcorobievalt.com
URL:https://portedivaltellina.it/eventi/bioblitz-lombardia/
LOCATION:Val di Mello\, Val Masino\, 23010\, Italia
END:VEVENT
BEGIN:VEVENT
DTSTART;VALUE=DATE:20250517
DTEND;VALUE=DATE:20250519
DTSTAMP:20260419T191736
CREATED:20250507T102801Z
LAST-MODIFIED:20250507T102815Z
UID:10006180-1747440000-1747612799@portedivaltellina.it
SUMMARY:Guarda che luna
DESCRIPTION:Escursione naturalistico-astronomica \nDue giorni di trekking con la guida astronomica Nadia Colombo per osservare luna e cielo profondo \nPernottamento in rifugio \nInfo\, costi e iscrizioni: Nadia Colombo 339 1519380 \n 
URL:https://portedivaltellina.it/eventi/guarda-che-luna/
LOCATION:Val Tartano
END:VEVENT
BEGIN:VEVENT
DTSTART;VALUE=DATE:20250518
DTEND;VALUE=DATE:20250519
DTSTAMP:20260419T191736
CREATED:20250507T103430Z
LAST-MODIFIED:20250507T103430Z
UID:10006181-1747526400-1747612799@portedivaltellina.it
SUMMARY:Sentiero delle Tagliate
DESCRIPTION:Escursione storico-culturale \nEscursione agreste alla ricerca delle evidenze antropiche della valle \ncon la guida parco Giuseppe Daccomi \nInfo\, costi e iscrizioni: Giuseppe Daccomi 342 9491096
URL:https://portedivaltellina.it/eventi/sentiero-delle-tagliate/
LOCATION:Val Gerola
END:VEVENT
BEGIN:VEVENT
DTSTART;TZID=Europe/Rome:20250518T100000
DTEND;TZID=Europe/Rome:20250518T173000
DTSTAMP:20260419T191736
CREATED:20250514T095347Z
LAST-MODIFIED:20250514T095347Z
UID:10006214-1747562400-1747589400@portedivaltellina.it
SUMMARY:Giornata internazionale dei musei ICOM
DESCRIPTION:Visite guidate e Laboratorio didattico sulla preistoria e sul Neolitico \nDalle ore 10.00 alle 17.30\nVisite guidate\nIl Museo di Scienze naturali fa parte del circuito delle Porte del Parco delle Orobie Valtellinesi \nDalle 14.30 alle 16.30\nLaboratori\nL’Ecomuseo ospiterà i bambini della Piccola Opera di Traona che parteciperanno ad un laboratorio didattico dedicato alla preistoria e al Neolitico. \nPartecipazione gratuita e aperta a tutti al GiocaMuseo\, un percorso affascinante e interattivo per conoscere le peculiarità dell’Ecomuseo e del territorio che lo ospita. \nInfo: www.ecomuseoalbaredo.it \n 
URL:https://portedivaltellina.it/eventi/giornata-internazionale-dei-musei-icom/
LOCATION:Albaredo per San Marco – Porta del Parco\, Via Brasa\, 14\, Albaredo per San Marco\, 23010\, Italia
ORGANIZER;CN="Ecomuseo Valli del Bitto":MAILTO:ecomuseo@vallidelbitto.it
END:VEVENT
BEGIN:VEVENT
DTSTART;TZID=Europe/Rome:20250518T140000
DTEND;TZID=Europe/Rome:20250518T170000
DTSTAMP:20260419T191736
CREATED:20250513T133053Z
LAST-MODIFIED:20250513T133053Z
UID:10006209-1747576800-1747587600@portedivaltellina.it
SUMMARY:BioBlitz Lombardia
DESCRIPTION:Censimento delle farfalle \nCon la presenza dell’Entomologo Dott. Martino Salvetti e dei ragazzi di II e III dell’istituto superiore Marco Polo di Colico indirizzo agrario. \nRitrovo con le guide della Riserva presso Dubino-Nuova Olonio in via Casello Sette\, all’imbocco della strada ciclopedonale di ingresso alla Riserva. \nVisita guidata fino al Centro didattico-scientifico Cascina Poncetta\, presentazione del progetto H.A.R.G.I.N. e rientro. \nPrenotazione richiesta: info@piandispagna.it – +39 347 9291512 – 0344 84251
URL:https://portedivaltellina.it/eventi/bioblitz-lombardia-2/2025-05-18/
LOCATION:Riserva del Pian di Spagna e Lago di Novate Mezzola
END:VEVENT
BEGIN:VEVENT
DTSTART;TZID=Europe/Rome:20250518T163000
DTEND;TZID=Europe/Rome:20250518T200000
DTSTAMP:20260419T191736
CREATED:20250221T093452Z
LAST-MODIFIED:20250221T093452Z
UID:10005788-1747585800-1747598400@portedivaltellina.it
SUMMARY:Aperitivo nel cielo
DESCRIPTION:Escursione in Val Tartano  \nPiacevole tuffo nella natura e nella cultura locale con termine all’Hotel Miralago dove si potrà degustare un aperitivo valtellinese. \nIl programma e il percorso possono subire variazioni in base al meteo. \nEscursione di 6 km – dislivello +300 m. \nInfo\, costi e prenotazioni: www.onestepoutside.it \n 
URL:https://portedivaltellina.it/eventi/aperitivo-nel-cielo-3/
LOCATION:Val Tartano – Campo Tartano
ATTACH;FMTTYPE=image/jpeg:https://portedivaltellina.it/wp-content/uploads/2025/02/2025_ponte-nel-cielo.jpg
ORGANIZER;CN="One Step Outside":MAILTO:info@onestepoutside.it
END:VEVENT
BEGIN:VEVENT
DTSTART;TZID=Europe/Rome:20250518T203000
DTEND;TZID=Europe/Rome:20250518T223000
DTSTAMP:20260419T191736
CREATED:20250510T063943Z
LAST-MODIFIED:20250510T063943Z
UID:10006201-1747600200-1747607400@portedivaltellina.it
SUMMARY:Concerto sotto le stelle...
DESCRIPTION:…la Banda in piazza \nConcerto del Corpo Musicale di Dubino \nDirige il M° Davide Moneta \npresso la Piazza della Chiesa dei SS. Pietro e Andrea \nCon gli allievi della scuola di musica del Corpo Musicale di Dubino \nIngresso libero
URL:https://portedivaltellina.it/eventi/concerto-sotto-le-stelle/
LOCATION:Dubino
ORGANIZER;CN="Corpo Musicale di Dubino":MAILTO:corpo.musicale.dubino@outlook.it
END:VEVENT
END:VCALENDAR