BEGIN:VCALENDAR
VERSION:2.0
PRODID:-//Porte di Valtellina - ECPv6.15.20//NONSGML v1.0//EN
CALSCALE:GREGORIAN
METHOD:PUBLISH
X-WR-CALNAME:Porte di Valtellina
X-ORIGINAL-URL:https://portedivaltellina.it
X-WR-CALDESC:Eventi per Porte di Valtellina
REFRESH-INTERVAL;VALUE=DURATION:PT1H
X-Robots-Tag:noindex
X-PUBLISHED-TTL:PT1H
BEGIN:VTIMEZONE
TZID:Europe/Rome
BEGIN:DAYLIGHT
TZOFFSETFROM:+0100
TZOFFSETTO:+0200
TZNAME:CEST
DTSTART:20240331T010000
END:DAYLIGHT
BEGIN:STANDARD
TZOFFSETFROM:+0200
TZOFFSETTO:+0100
TZNAME:CET
DTSTART:20241027T010000
END:STANDARD
BEGIN:DAYLIGHT
TZOFFSETFROM:+0100
TZOFFSETTO:+0200
TZNAME:CEST
DTSTART:20250330T010000
END:DAYLIGHT
BEGIN:STANDARD
TZOFFSETFROM:+0200
TZOFFSETTO:+0100
TZNAME:CET
DTSTART:20251026T010000
END:STANDARD
BEGIN:DAYLIGHT
TZOFFSETFROM:+0100
TZOFFSETTO:+0200
TZNAME:CEST
DTSTART:20260329T010000
END:DAYLIGHT
BEGIN:STANDARD
TZOFFSETFROM:+0200
TZOFFSETTO:+0100
TZNAME:CET
DTSTART:20261025T010000
END:STANDARD
END:VTIMEZONE
BEGIN:VEVENT
DTSTART;VALUE=DATE:20250523
DTEND;VALUE=DATE:20250525
DTSTAMP:20260419T191608
CREATED:20250319T093811Z
LAST-MODIFIED:20250422T074809Z
UID:10005920-1747958400-1748131199@portedivaltellina.it
SUMMARY:Morborock
DESCRIPTION:Torna l’evento Rock più atteso dell’anno! \n2 giorni di concerti rock alla colonia fluviale di Morbegno\, tanta musica\, cucina tipica e birre artigianali. \nIngresso libero \nPROGRAMMA: \nVenerdì 23  \n\nScemo di Guerra – Demagò – Alteria – Meganoidi\n\nSabato 24 \n\nTreak or Treat – Vintage violence – Folkstone\n\nL’evento si terrà anche in caso di pioggia \nInfo: www.morborock.it
URL:https://portedivaltellina.it/eventi/morborock/
LOCATION:Morbegno – Colonia fluviale
END:VEVENT
BEGIN:VEVENT
DTSTART;TZID=Europe/Rome:20250523T204500
DTEND;TZID=Europe/Rome:20250523T220000
DTSTAMP:20260419T191608
CREATED:20250522T124511Z
LAST-MODIFIED:20250522T124511Z
UID:10006232-1748033100-1748037600@portedivaltellina.it
SUMMARY:Dall'orto alla tavola
DESCRIPTION:Non solo agricoltura \nSai davvero cosa c’è dietro a quello che mangi? \nIncontro con Diego Fascendini\, agronomo di Orticola Alpina \nInfo: Biblioteca di Forcola 0342 668130 \n 
URL:https://portedivaltellina.it/eventi/dallorto-alla-tavola/
LOCATION:Forcola – Biblioteca\, Piazza del Municipio\, Forcola\, 23010\, Italy
END:VEVENT
BEGIN:VEVENT
DTSTART;TZID=Europe/Rome:20250523T210000
DTEND;TZID=Europe/Rome:20250523T230000
DTSTAMP:20260419T191608
CREATED:20250221T090457Z
LAST-MODIFIED:20250221T090457Z
UID:10005784-1748034000-1748041200@portedivaltellina.it
SUMMARY:Concerti d'organo
DESCRIPTION:IV edizione \ndedicata a Marco Enrico Bossi nel centenario dalla morte. \nGiulia Biagetti\, organista titolare della Cattedrale di Lucca \nIngresso libero \nDirezione artistica Pietro Ciapponi \nInfo: www.parrocchiadimorbegno.com
URL:https://portedivaltellina.it/eventi/concerti-dorgano-2/
LOCATION:Morbegno – Chiesa di San Giovanni
END:VEVENT
BEGIN:VEVENT
DTSTART;TZID=Europe/Rome:20250523T213000
DTEND;TZID=Europe/Rome:20250523T223000
DTSTAMP:20260419T191608
CREATED:20250520T130340Z
LAST-MODIFIED:20250520T130340Z
UID:10006226-1748035800-1748039400@portedivaltellina.it
SUMMARY:La fede nell'arte
DESCRIPTION:Presentazione del libro \nLa fede nell’arte in bassa Valtellina \ndi Sonia Barini \nPrenota la tua copia \n\nSantuario di Valpozzo\, dopo la messa delle ore 20.30\n\nInfo: associazioneandepianero@gmail.com 
URL:https://portedivaltellina.it/eventi/la-fede-nellarte/
LOCATION:Piantedo – Santuario di Valpozzo
ORGANIZER;CN="Comunit%C3%A0 Pastorale Andalo%2C Delebio%2C Piantedo%2C Rogolo":MAILTO:associazioneandepianero@gmail.com
END:VEVENT
END:VCALENDAR