BEGIN:VCALENDAR
VERSION:2.0
PRODID:-//Porte di Valtellina - ECPv6.15.20//NONSGML v1.0//EN
CALSCALE:GREGORIAN
METHOD:PUBLISH
X-WR-CALNAME:Porte di Valtellina
X-ORIGINAL-URL:https://portedivaltellina.it
X-WR-CALDESC:Eventi per Porte di Valtellina
REFRESH-INTERVAL;VALUE=DURATION:PT1H
X-Robots-Tag:noindex
X-PUBLISHED-TTL:PT1H
BEGIN:VTIMEZONE
TZID:Europe/Rome
BEGIN:DAYLIGHT
TZOFFSETFROM:+0100
TZOFFSETTO:+0200
TZNAME:CEST
DTSTART:20240331T010000
END:DAYLIGHT
BEGIN:STANDARD
TZOFFSETFROM:+0200
TZOFFSETTO:+0100
TZNAME:CET
DTSTART:20241027T010000
END:STANDARD
BEGIN:DAYLIGHT
TZOFFSETFROM:+0100
TZOFFSETTO:+0200
TZNAME:CEST
DTSTART:20250330T010000
END:DAYLIGHT
BEGIN:STANDARD
TZOFFSETFROM:+0200
TZOFFSETTO:+0100
TZNAME:CET
DTSTART:20251026T010000
END:STANDARD
BEGIN:DAYLIGHT
TZOFFSETFROM:+0100
TZOFFSETTO:+0200
TZNAME:CEST
DTSTART:20260329T010000
END:DAYLIGHT
BEGIN:STANDARD
TZOFFSETFROM:+0200
TZOFFSETTO:+0100
TZNAME:CET
DTSTART:20261025T010000
END:STANDARD
END:VTIMEZONE
BEGIN:VEVENT
DTSTART;VALUE=DATE:20250523
DTEND;VALUE=DATE:20250525
DTSTAMP:20260419T191610
CREATED:20250319T093811Z
LAST-MODIFIED:20250422T074809Z
UID:10005920-1747958400-1748131199@portedivaltellina.it
SUMMARY:Morborock
DESCRIPTION:Torna l’evento Rock più atteso dell’anno! \n2 giorni di concerti rock alla colonia fluviale di Morbegno\, tanta musica\, cucina tipica e birre artigianali. \nIngresso libero \nPROGRAMMA: \nVenerdì 23  \n\nScemo di Guerra – Demagò – Alteria – Meganoidi\n\nSabato 24 \n\nTreak or Treat – Vintage violence – Folkstone\n\nL’evento si terrà anche in caso di pioggia \nInfo: www.morborock.it
URL:https://portedivaltellina.it/eventi/morborock/
LOCATION:Morbegno – Colonia fluviale
END:VEVENT
BEGIN:VEVENT
DTSTART;VALUE=DATE:20250524
DTEND;VALUE=DATE:20250525
DTSTAMP:20260419T191610
CREATED:20250513T133520Z
LAST-MODIFIED:20250513T133520Z
UID:10006210-1748044800-1748131199@portedivaltellina.it
SUMMARY:Corrida
DESCRIPTION:Cantare\, ballare\, recitare\, far ridere \nPartecipazione aperta a tutti \nIscrizioni aperte \nInfo e iscrizioni: Giovanni +39 338 9360172 – Simona +39 339 1438428
URL:https://portedivaltellina.it/eventi/corrida/
LOCATION:Cosio Valtellino – Teatro P.G. Frassati – Fraz. Regoledo\, Piazza S. Ambrogio\, 5
END:VEVENT
BEGIN:VEVENT
DTSTART;TZID=Europe/Rome:20250524T103000
DTEND;TZID=Europe/Rome:20250524T113000
DTSTAMP:20260419T191610
CREATED:20250503T104624Z
LAST-MODIFIED:20250503T104624Z
UID:10006172-1748082600-1748086200@portedivaltellina.it
SUMMARY:Il maggio dei libri
DESCRIPTION:Letture per bambini da 6 a 11 anni \ne presentazione del concorso Superelle \nIngresso libero \n Info: 0342 684564 – biblioteca.delebio@gmail.com
URL:https://portedivaltellina.it/eventi/il-maggio-dei-libri-3/
LOCATION:Delebio – Biblioteca Comunale
ORGANIZER;CN="Biblioteca di Delebio":MAILTO:biblioteca.delebio@gmail.com
END:VEVENT
BEGIN:VEVENT
DTSTART;TZID=Europe/Rome:20250524T110000
DTEND;TZID=Europe/Rome:20250524T120000
DTSTAMP:20260419T191610
CREATED:20250516T110547Z
LAST-MODIFIED:20250516T110547Z
UID:10006221-1748084400-1748088000@portedivaltellina.it
SUMMARY:Buff&Sheen
DESCRIPTION:Schiuma\, gag e tanto divertimento \nDue imbranati pulitori di finestre arrivano a Morbegno per pulire la grande vetrata delle Biblioteca. \nSpettacolo della Compagnia Moonslide \nINGRESSO LIBERO \nInfo: Rami d’ora info.ramidora@gmail.com 
URL:https://portedivaltellina.it/eventi/buffsheen/
LOCATION:Morbegno – Biblioteca Civica Ezio Vanoni\, Via Cortivacci\, 4\, 23017
ORGANIZER;CN="Rami d'Ora":MAILTO:info.ramidora@gmail.com
END:VEVENT
BEGIN:VEVENT
DTSTART;TZID=Europe/Rome:20250524T170000
DTEND;TZID=Europe/Rome:20250524T173000
DTSTAMP:20260419T191610
CREATED:20250304T101854Z
LAST-MODIFIED:20250304T101854Z
UID:10005876-1748106000-1748107800@portedivaltellina.it
SUMMARY:Pillole di poesia
DESCRIPTION:30 minuti di letture e musica  \ncon la partecipazione di Massimo Spini\, Lucia Mescia e Thomas Acquistapace \nIntermezzi musicali di Stefano Ciapponi \nIngresso gratuito aperto a tutti \nInfo: www.evaltellina.com \n 
URL:https://portedivaltellina.it/eventi/pillole-di-poesia-3/
LOCATION:Morbegno – Biblioteca Civica Ezio Vanoni\, Via Cortivacci\, 4\, 23017
ORGANIZER;CN="Evaltellina":MAILTO:info@evaltellina.com
END:VEVENT
END:VCALENDAR