BEGIN:VCALENDAR
VERSION:2.0
PRODID:-//Porte di Valtellina - ECPv6.15.20//NONSGML v1.0//EN
CALSCALE:GREGORIAN
METHOD:PUBLISH
X-ORIGINAL-URL:https://portedivaltellina.it
X-WR-CALDESC:Eventi per Porte di Valtellina
REFRESH-INTERVAL;VALUE=DURATION:PT1H
X-Robots-Tag:noindex
X-PUBLISHED-TTL:PT1H
BEGIN:VTIMEZONE
TZID:Europe/Rome
BEGIN:DAYLIGHT
TZOFFSETFROM:+0100
TZOFFSETTO:+0200
TZNAME:CEST
DTSTART:20240331T010000
END:DAYLIGHT
BEGIN:STANDARD
TZOFFSETFROM:+0200
TZOFFSETTO:+0100
TZNAME:CET
DTSTART:20241027T010000
END:STANDARD
BEGIN:DAYLIGHT
TZOFFSETFROM:+0100
TZOFFSETTO:+0200
TZNAME:CEST
DTSTART:20250330T010000
END:DAYLIGHT
BEGIN:STANDARD
TZOFFSETFROM:+0200
TZOFFSETTO:+0100
TZNAME:CET
DTSTART:20251026T010000
END:STANDARD
BEGIN:DAYLIGHT
TZOFFSETFROM:+0100
TZOFFSETTO:+0200
TZNAME:CEST
DTSTART:20260329T010000
END:DAYLIGHT
BEGIN:STANDARD
TZOFFSETFROM:+0200
TZOFFSETTO:+0100
TZNAME:CET
DTSTART:20261025T010000
END:STANDARD
END:VTIMEZONE
BEGIN:VEVENT
DTSTART;VALUE=DATE:20250525
DTEND;VALUE=DATE:20250526
DTSTAMP:20260419T191736
CREATED:20250417T084917Z
LAST-MODIFIED:20250513T140911Z
UID:10006125-1748131200-1748217599@portedivaltellina.it
SUMMARY:Rassegna Mandamentale dei Costumi Tradizionali
DESCRIPTION:16esima edizione  \nPROGRAMMA \n\nAlle ore 8.45 ritrovo e accoglienza c/o area esterna della Casa delle Guide\nAlle ore 9.45 sfilata dei gruppi folkloristici lungo la ciclopedonale\, sulla destra orografica\nAlle ore 10.45 Santa Messa presso l’Area Alpini\, benedizione dei Gruppi in Costume e offertorio\nAlle ore 11.45 sfilata dei gruppi folkloristici lungo la ciclopedonale\, sulla sinistra orografica\, con rientro alla Casa delle Guide\nAlle ore 12.30 saluto delle autorità\nAlle ore 12.45 pranzo tipico in collaborazione con il Gruppo Alpini Val Masino\nDalle ore 14 alle ore 17 esibizioni dei gruppi folkloristici\nAlle ore 17.15 consegna degli attestati di partecipazione e conclusione della manifestazione\n\nInfo: Consorzio Turistico Porte di Valtellina 0342 601140 – infopoint@portedivaltellina.it \n 
URL:https://portedivaltellina.it/eventi/rassegna-mandamentale-dei-costumi-tradizionali-2/
LOCATION:Val Masino – Fraz. Filorera – Casa delle Guide\, Via Moss\, 1\, Val Masino\, 23010\, Italy
ORGANIZER;CN="Comunit%C3%A0 Montana Valtellina di Morbegno":MAILTO:amministrazione@cmmorbegno.it
END:VEVENT
BEGIN:VEVENT
DTSTART;VALUE=DATE:20250525
DTEND;VALUE=DATE:20250526
DTSTAMP:20260419T191736
CREATED:20250507T145337Z
LAST-MODIFIED:20250508T064856Z
UID:10006182-1748131200-1748217599@portedivaltellina.it
SUMMARY:Connessi con sé stessi e la natura
DESCRIPTION:Escursione per il benessere psico-fisico  \nin connessione con la natura e con noi stessi in un viaggio interiore alla scoperta dei propri talenti. \nCon la guida parco Rosanna Bertolini. \nInfo\, costi ed iscrizioni: Rosanna Bertolini 371 3271304 \n 
URL:https://portedivaltellina.it/eventi/connessi-con-se-stessi-e-la-natura/
LOCATION:Val Fabiolo
END:VEVENT
BEGIN:VEVENT
DTSTART;TZID=Europe/Rome:20250525T093000
DTEND;TZID=Europe/Rome:20250525T163000
DTSTAMP:20260419T191736
CREATED:20250521T150659Z
LAST-MODIFIED:20250521T150659Z
UID:10006230-1748165400-1748190600@portedivaltellina.it
SUMMARY:Foraging per tutti
DESCRIPTION:Museo tempo libero \nCorso in tre lezioni teorico/pratiche \nGiornata con attività pratica:  raccolta\, preparazione e pranzo tutti insieme. \nCosto € 11\,00 a lezione. \nIscrizioni: www.museostorianaturale.it. \nInfo: segreteriaventiventiaps@gmail.com  – 338 1702694 wa
URL:https://portedivaltellina.it/eventi/foraging-per-tutti-3/
LOCATION:Morbegno – Museo Civico di Storia naturale\, Via Cortivacci\, 2\, Italia
END:VEVENT
END:VCALENDAR