BEGIN:VCALENDAR
VERSION:2.0
PRODID:-//Porte di Valtellina - ECPv6.15.20//NONSGML v1.0//EN
CALSCALE:GREGORIAN
METHOD:PUBLISH
X-ORIGINAL-URL:https://portedivaltellina.it
X-WR-CALDESC:Eventi per Porte di Valtellina
REFRESH-INTERVAL;VALUE=DURATION:PT1H
X-Robots-Tag:noindex
X-PUBLISHED-TTL:PT1H
BEGIN:VTIMEZONE
TZID:Europe/Rome
BEGIN:DAYLIGHT
TZOFFSETFROM:+0100
TZOFFSETTO:+0200
TZNAME:CEST
DTSTART:20240331T010000
END:DAYLIGHT
BEGIN:STANDARD
TZOFFSETFROM:+0200
TZOFFSETTO:+0100
TZNAME:CET
DTSTART:20241027T010000
END:STANDARD
BEGIN:DAYLIGHT
TZOFFSETFROM:+0100
TZOFFSETTO:+0200
TZNAME:CEST
DTSTART:20250330T010000
END:DAYLIGHT
BEGIN:STANDARD
TZOFFSETFROM:+0200
TZOFFSETTO:+0100
TZNAME:CET
DTSTART:20251026T010000
END:STANDARD
BEGIN:DAYLIGHT
TZOFFSETFROM:+0100
TZOFFSETTO:+0200
TZNAME:CEST
DTSTART:20260329T010000
END:DAYLIGHT
BEGIN:STANDARD
TZOFFSETFROM:+0200
TZOFFSETTO:+0100
TZNAME:CET
DTSTART:20261025T010000
END:STANDARD
END:VTIMEZONE
BEGIN:VEVENT
DTSTART;VALUE=DATE:20250527
DTEND;VALUE=DATE:20250602
DTSTAMP:20260419T192216
CREATED:20250505T141736Z
LAST-MODIFIED:20250527T080815Z
UID:10006176-1748304000-1748822399@portedivaltellina.it
SUMMARY:Cycling Week
DESCRIPTION:Dal 27 maggio al 1 giugno una settimana dedicata a chi ama la bicicletta e l’energia dello sport all’aria aperta! \nPROGRAMMA: \nDal 27 al 29 maggio: L’evoluzione del ciclismo nel XX secolo\, una mostra di biciclette storiche all’interno del Chiostro di Sant’Antonio \n28 maggio: Raggi nella storia\, uno spettacolo di Gianfranco Busi seguito dalla presentazione del libro “Il Giro d’Italia illustrato” di Albano Marcarini\, a partire dalle ore 20.30 \n29 maggio: in Piazza Sant’Antonio la partenza della tappa 18 del Giro d’Italia \n30 maggio: Notte Rosa con negozi aperti e musica dal vivo in tutto il centro storico di Morbegno a partire dalle ore 21 \n31 maggio: Enjoy Stelvio fino al Passo San Marco\, con chiusura al traffico della SP8\, e inizio della Strava Challenge \n1 giugno: Giro in cantina\, un’escursione gratuita in eBike sulla Costiera dei Cech. Clicca QUI per maggiori informazioni. \nClicca QUI per poter scaricare la locandina ufficiale della settimana. \nLa manifestazione è realizzata con i contributi di: Comune di Morbegno\, Comunità Montana Valtellina di Morbegno\, Provincia Di Sondrio\, BIM\, Unione Commercianti Sezione di Morbegno. Con la partecipazione di: Pro Loco Morbegno APS\, APS Albaredo Promotion\, Èvaltellina\, 360 Valtellina Bike\, Costiera dei Cech\, Ski Stop Sport Service\, Agriturismo La Fiorida. \nMaggiori informazioni: infopoint@portedivaltellina.it – 0342 601140
URL:https://portedivaltellina.it/eventi/cycling-week/
LOCATION:Morbegno
END:VEVENT
BEGIN:VEVENT
DTSTART;TZID=Europe/Rome:20250528T163000
DTEND;TZID=Europe/Rome:20250528T183000
DTSTAMP:20260419T192216
CREATED:20250211T150627Z
LAST-MODIFIED:20250211T150627Z
UID:10005754-1748449800-1748457000@portedivaltellina.it
SUMMARY:Smartphone e mondo on line
DESCRIPTION:Seminario per genitori di ragazzi dai 10 ai 14 anni \nRelatore Dr. Salvatore Cammarata psicoterapeuta del CPS di Chiavenna \nPartecipazione gratuita\, non è necessaria la prenotazione \nInfo: centroperlafamiglia.mo@asst-val.it – 0342 643236 \n  \n  \n 
URL:https://portedivaltellina.it/eventi/smartphone-e-mondo-on-line/
LOCATION:Morbegno – Sala convegni\, Via Martinelli\, 13
END:VEVENT
BEGIN:VEVENT
DTSTART;TZID=Europe/Rome:20250528T203000
DTEND;TZID=Europe/Rome:20250528T223000
DTSTAMP:20260419T192216
CREATED:20250527T080749Z
LAST-MODIFIED:20250527T080749Z
UID:10006243-1748464200-1748471400@portedivaltellina.it
SUMMARY:Il Giro d'Italia è a Morbegno
DESCRIPTION:Albano Marcarini e Gino Cervi ce lo raccontano a colori nel loro nuovo libro \nIngresso libero
URL:https://portedivaltellina.it/eventi/il-giro-ditalia-e-a-morbegno/
LOCATION:Morbegno – Chiostro di Sant’Antonio
END:VEVENT
BEGIN:VEVENT
DTSTART;TZID=Europe/Rome:20250528T203000
DTEND;TZID=Europe/Rome:20250528T223000
DTSTAMP:20260419T192216
CREATED:20250528T134031Z
LAST-MODIFIED:20250528T134031Z
UID:10006251-1748464200-1748471400@portedivaltellina.it
SUMMARY:Raggi nella storia
DESCRIPTION:Uno spettacolo di Gianfranco Busi che segue la presentazione del libro “Il Giro d’Italia Illustrato”. \nIngresso libero
URL:https://portedivaltellina.it/eventi/raggi-nella-storia/
LOCATION:Morbegno – Chiostro di Sant’Antonio
END:VEVENT
END:VCALENDAR