BEGIN:VCALENDAR
VERSION:2.0
PRODID:-//Porte di Valtellina - ECPv6.15.20//NONSGML v1.0//EN
CALSCALE:GREGORIAN
METHOD:PUBLISH
X-ORIGINAL-URL:https://portedivaltellina.it
X-WR-CALDESC:Eventi per Porte di Valtellina
REFRESH-INTERVAL;VALUE=DURATION:PT1H
X-Robots-Tag:noindex
X-PUBLISHED-TTL:PT1H
BEGIN:VTIMEZONE
TZID:Europe/Rome
BEGIN:DAYLIGHT
TZOFFSETFROM:+0100
TZOFFSETTO:+0200
TZNAME:CEST
DTSTART:20240331T010000
END:DAYLIGHT
BEGIN:STANDARD
TZOFFSETFROM:+0200
TZOFFSETTO:+0100
TZNAME:CET
DTSTART:20241027T010000
END:STANDARD
BEGIN:DAYLIGHT
TZOFFSETFROM:+0100
TZOFFSETTO:+0200
TZNAME:CEST
DTSTART:20250330T010000
END:DAYLIGHT
BEGIN:STANDARD
TZOFFSETFROM:+0200
TZOFFSETTO:+0100
TZNAME:CET
DTSTART:20251026T010000
END:STANDARD
BEGIN:DAYLIGHT
TZOFFSETFROM:+0100
TZOFFSETTO:+0200
TZNAME:CEST
DTSTART:20260329T010000
END:DAYLIGHT
BEGIN:STANDARD
TZOFFSETFROM:+0200
TZOFFSETTO:+0100
TZNAME:CET
DTSTART:20261025T010000
END:STANDARD
END:VTIMEZONE
BEGIN:VEVENT
DTSTART;VALUE=DATE:20250527
DTEND;VALUE=DATE:20250602
DTSTAMP:20260419T191730
CREATED:20250505T141736Z
LAST-MODIFIED:20250527T080815Z
UID:10006176-1748304000-1748822399@portedivaltellina.it
SUMMARY:Cycling Week
DESCRIPTION:Dal 27 maggio al 1 giugno una settimana dedicata a chi ama la bicicletta e l’energia dello sport all’aria aperta! \nPROGRAMMA: \nDal 27 al 29 maggio: L’evoluzione del ciclismo nel XX secolo\, una mostra di biciclette storiche all’interno del Chiostro di Sant’Antonio \n28 maggio: Raggi nella storia\, uno spettacolo di Gianfranco Busi seguito dalla presentazione del libro “Il Giro d’Italia illustrato” di Albano Marcarini\, a partire dalle ore 20.30 \n29 maggio: in Piazza Sant’Antonio la partenza della tappa 18 del Giro d’Italia \n30 maggio: Notte Rosa con negozi aperti e musica dal vivo in tutto il centro storico di Morbegno a partire dalle ore 21 \n31 maggio: Enjoy Stelvio fino al Passo San Marco\, con chiusura al traffico della SP8\, e inizio della Strava Challenge \n1 giugno: Giro in cantina\, un’escursione gratuita in eBike sulla Costiera dei Cech. Clicca QUI per maggiori informazioni. \nClicca QUI per poter scaricare la locandina ufficiale della settimana. \nLa manifestazione è realizzata con i contributi di: Comune di Morbegno\, Comunità Montana Valtellina di Morbegno\, Provincia Di Sondrio\, BIM\, Unione Commercianti Sezione di Morbegno. Con la partecipazione di: Pro Loco Morbegno APS\, APS Albaredo Promotion\, Èvaltellina\, 360 Valtellina Bike\, Costiera dei Cech\, Ski Stop Sport Service\, Agriturismo La Fiorida. \nMaggiori informazioni: infopoint@portedivaltellina.it – 0342 601140
URL:https://portedivaltellina.it/eventi/cycling-week/
LOCATION:Morbegno
END:VEVENT
BEGIN:VEVENT
DTSTART;VALUE=DATE:20250531
DTEND;VALUE=DATE:20250615
DTSTAMP:20260419T191730
CREATED:20250411T093453Z
LAST-MODIFIED:20250812T151929Z
UID:10006568-1748649600-1749945599@portedivaltellina.it
SUMMARY:Mercatino hobbisti
DESCRIPTION:Ogni 2° sabato del mese \nnei giardinetti della Biblioteca Civica \na Morbegno
URL:https://portedivaltellina.it/eventi/mercatino-hobbisti/2025-05-31/
LOCATION:Morbegno – Biblioteca Civica Ezio Vanoni\, Via Cortivacci\, 4\, 23017
END:VEVENT
BEGIN:VEVENT
DTSTART;VALUE=DATE:20250531
DTEND;VALUE=DATE:20250615
DTSTAMP:20260419T191730
CREATED:20250725T071409Z
LAST-MODIFIED:20250725T071513Z
UID:10006572-1748649600-1749945599@portedivaltellina.it
SUMMARY:Mercatino hobbisti
DESCRIPTION:Ogni 2° sabato del mese \nnei giardinetti della Biblioteca Civica \na Morbegno
URL:https://portedivaltellina.it/eventi/mercatino-hobbisti-2/2025-05-31/
LOCATION:Morbegno – Biblioteca Civica Ezio Vanoni\, Via Cortivacci\, 4\, 23017
END:VEVENT
BEGIN:VEVENT
DTSTART;VALUE=DATE:20250531
DTEND;VALUE=DATE:20250616
DTSTAMP:20260419T191730
CREATED:20250524T072219Z
LAST-MODIFIED:20250524T072219Z
UID:10006239-1748649600-1750031999@portedivaltellina.it
SUMMARY:Roberto Bogialli
DESCRIPTION:Personale di pittura in ricordo di Roberto Bogialli \n\nda lunedì a venerdì 15.30/18.30\nsabato e domenica 10.00/12.00 – 15.00/19.00\nLunedì 2 giugno chiuso\n\nINGRESSO LIBERO \nInaugurazione sabato 31 maggio alle ore 18.00 \nInfo: www.evaltellina.com \n 
URL:https://portedivaltellina.it/eventi/roberto-bogialli/
LOCATION:Morbegno – Chiostro di Sant’Antonio
ORGANIZER;CN="Evaltellina":MAILTO:info@evaltellina.com
END:VEVENT
BEGIN:VEVENT
DTSTART;TZID=Europe/Rome:20250531T090000
DTEND;TZID=Europe/Rome:20250531T130000
DTSTAMP:20260419T191730
CREATED:20250313T162518Z
LAST-MODIFIED:20250528T091455Z
UID:10005909-1748682000-1748696400@portedivaltellina.it
SUMMARY:Enjoy Stelvio Passo San Marco
DESCRIPTION:Grazie all’iniziativa Enjoy Stelvio Valtellina potrai percorrere in bicicletta\, ma anche a piedi e con qualsiasi altro mezzo non motorizzato\, la strada che sale fino al Passo San Marco. La chiusura al traffico partirà alle ore 9.00 dal borgo di Albaredo per San Marco e terminerà alle ore 13.00. \nMetti alla prova gambe e cuore su questo bellissimo percorso di 26 km e 1.772 metri di dislivello verso uno dei grandi passi valtellinesi. Durante l’estate 2025 (dal 31/05 al 30/09) gli appassionati di ciclismo potranno sfidarsi con la Strava Challenge sul segmento Morbegno – Passo San Marco. QUI tutte le info. \nPer l’occasione i ristoranti di Albaredo per San Marco il tragitto proporranno menù dedicati ai ciclisti. \nLOCANDA CA’ PRIULA \n\nAntipasto all’italiana con salumi e formaggi valtellinesi e Valchiavennaschi\nUn primo a scelta tra tagliatelle fatte a mano con ragù di manzo tagliato al coltello e Pizzoccheri valtellinesi\nGrigliata di carne (salsicce\, costine\, tagliata di manzo) con patate al forno\nTorta di mele\n\nPrezzo a persona €35\,00 con bevande escluse\, per info e prenotazioni contattare 0342014688 \n  \nRISTORANTE LA FLORA \n\nAntipasto con sciatt di formaggio latteria su letto di insalatina e bresaola della Valtellina IGP\, verdurine in agrodolce\nPizzoccheri della tradizione Valtellinese\nBisciola\n1/2 lt acqua e caffè\n\nPrezzo a persone €28\,00\, per info e prenotazioni contattare +39 338 6779961 \n  \nRifugi: scavalcato il Passo San Marco trovi i Rifugi Cà San Marco (0345 86222) e San Marco 2000 (0345 86020) dove poter gustare prodotti tipici del territorio e rilassarti prima del rientro.
URL:https://portedivaltellina.it/eventi/passo-san-marco/
LOCATION:Passo San Marco\, Albaredo per San Marco\, 23010\, Italia
ORGANIZER;CN="Enjoy Stelvio Valtellina":MAILTO:enjoy@stelviopark.it
END:VEVENT
BEGIN:VEVENT
DTSTART;TZID=Europe/Rome:20250531T100000
DTEND;TZID=Europe/Rome:20250531T120000
DTSTAMP:20260419T191730
CREATED:20250524T071105Z
LAST-MODIFIED:20250524T071105Z
UID:10006238-1748685600-1748692800@portedivaltellina.it
SUMMARY:Quagià
DESCRIPTION:Saperi e sapori antichi \nLa lavorazione del formaggio con le tecniche della tradizione \nPROGRAMMA: \n\nOre 10.00 ritrovo e passaggio sul Ponte nel Cielo fino a Frasnino\nOre 10.15 dimostrazione della lavorazione del formaggio\, come nella tradizione della vita in alpeggio\n\nQuota di partecipazione € 15\,00 incluso passaggio sul Ponte nel cielo \nPrenotazione obbligatoria con posti limitati \nInfo e iscrizioni: www.forcolaweb.org/eventi
URL:https://portedivaltellina.it/eventi/quagia/
LOCATION:Val Tartano – Bivacco Parco Frasnino
END:VEVENT
BEGIN:VEVENT
DTSTART;TZID=Europe/Rome:20250531T150000
DTEND;TZID=Europe/Rome:20250531T163000
DTSTAMP:20260419T191730
CREATED:20250404T094509Z
LAST-MODIFIED:20250509T131324Z
UID:10006046-1748703600-1748709000@portedivaltellina.it
SUMMARY:Fior di roccia
DESCRIPTION:Museo in famiglia \nTutto sull’affascinante mondo dei minerali: forme\, colori\, come si formano… \nAttività per famiglie con bambini da 5 a 11 anni su prenotazione \nentro venerdì 30 aprile ore 16.00 \nCosto: € 3\,00 \nInfo: segreteriaventiventiaps@gmail.com – 338 1702694  Prenotazioni: www.museostorianaturale.it
URL:https://portedivaltellina.it/eventi/fior-di-roccia/
LOCATION:Morbegno – Museo Civico di Storia naturale\, Via Cortivacci\, 2\, Italia
END:VEVENT
BEGIN:VEVENT
DTSTART;TZID=Europe/Rome:20250531T203000
DTEND;TZID=Europe/Rome:20250531T223000
DTSTAMP:20260419T191730
CREATED:20250527T154124Z
LAST-MODIFIED:20250527T154124Z
UID:10006250-1748723400-1748730600@portedivaltellina.it
SUMMARY:In Concerto
DESCRIPTION:Coro Città di Morbegno\, diretto da Gioele Peruzzi \nCoro Misto Poschiavino\, diretto da Valter Mazzoni \nCoro Le Note Dolenti\, diretto da Raffaello Benedetti \nMaggiori informazioni: www.evaltellina.com \n 
URL:https://portedivaltellina.it/eventi/in-concerto-3/
LOCATION:Morbegno – Auditorium S. Antonio\, Piazza S. Antonio\, 23017\, Italia
END:VEVENT
BEGIN:VEVENT
DTSTART;TZID=Europe/Rome:20250531T210000
DTEND;TZID=Europe/Rome:20250531T230000
DTSTAMP:20260419T191730
CREATED:20250212T153423Z
LAST-MODIFIED:20250227T093606Z
UID:10005768-1748725200-1748732400@portedivaltellina.it
SUMMARY:Rassegna Teatrale 2025
DESCRIPTION:Compagnia “I solit Maraa” di Castello dell’Acqua \nQuanta pazienza\, sciur prevost \nIngresso con offerta libera
URL:https://portedivaltellina.it/eventi/rassegna-teatrale-2025-7/
LOCATION:Dazio – Sala Polifunzionale\, Via Vittorio Veneto 48\, Dazio\, 23010\, Italia
END:VEVENT
END:VCALENDAR