BEGIN:VCALENDAR
VERSION:2.0
PRODID:-//Porte di Valtellina - ECPv6.15.20//NONSGML v1.0//EN
CALSCALE:GREGORIAN
METHOD:PUBLISH
X-ORIGINAL-URL:https://portedivaltellina.it
X-WR-CALDESC:Eventi per Porte di Valtellina
REFRESH-INTERVAL;VALUE=DURATION:PT1H
X-Robots-Tag:noindex
X-PUBLISHED-TTL:PT1H
BEGIN:VTIMEZONE
TZID:Europe/Rome
BEGIN:DAYLIGHT
TZOFFSETFROM:+0100
TZOFFSETTO:+0200
TZNAME:CEST
DTSTART:20240331T010000
END:DAYLIGHT
BEGIN:STANDARD
TZOFFSETFROM:+0200
TZOFFSETTO:+0100
TZNAME:CET
DTSTART:20241027T010000
END:STANDARD
BEGIN:DAYLIGHT
TZOFFSETFROM:+0100
TZOFFSETTO:+0200
TZNAME:CEST
DTSTART:20250330T010000
END:DAYLIGHT
BEGIN:STANDARD
TZOFFSETFROM:+0200
TZOFFSETTO:+0100
TZNAME:CET
DTSTART:20251026T010000
END:STANDARD
BEGIN:DAYLIGHT
TZOFFSETFROM:+0100
TZOFFSETTO:+0200
TZNAME:CEST
DTSTART:20260329T010000
END:DAYLIGHT
BEGIN:STANDARD
TZOFFSETFROM:+0200
TZOFFSETTO:+0100
TZNAME:CET
DTSTART:20261025T010000
END:STANDARD
END:VTIMEZONE
BEGIN:VEVENT
DTSTART;VALUE=DATE:20250527
DTEND;VALUE=DATE:20250602
DTSTAMP:20260419T192217
CREATED:20250505T141736Z
LAST-MODIFIED:20250527T080815Z
UID:10006176-1748304000-1748822399@portedivaltellina.it
SUMMARY:Cycling Week
DESCRIPTION:Dal 27 maggio al 1 giugno una settimana dedicata a chi ama la bicicletta e l’energia dello sport all’aria aperta! \nPROGRAMMA: \nDal 27 al 29 maggio: L’evoluzione del ciclismo nel XX secolo\, una mostra di biciclette storiche all’interno del Chiostro di Sant’Antonio \n28 maggio: Raggi nella storia\, uno spettacolo di Gianfranco Busi seguito dalla presentazione del libro “Il Giro d’Italia illustrato” di Albano Marcarini\, a partire dalle ore 20.30 \n29 maggio: in Piazza Sant’Antonio la partenza della tappa 18 del Giro d’Italia \n30 maggio: Notte Rosa con negozi aperti e musica dal vivo in tutto il centro storico di Morbegno a partire dalle ore 21 \n31 maggio: Enjoy Stelvio fino al Passo San Marco\, con chiusura al traffico della SP8\, e inizio della Strava Challenge \n1 giugno: Giro in cantina\, un’escursione gratuita in eBike sulla Costiera dei Cech. Clicca QUI per maggiori informazioni. \nClicca QUI per poter scaricare la locandina ufficiale della settimana. \nLa manifestazione è realizzata con i contributi di: Comune di Morbegno\, Comunità Montana Valtellina di Morbegno\, Provincia Di Sondrio\, BIM\, Unione Commercianti Sezione di Morbegno. Con la partecipazione di: Pro Loco Morbegno APS\, APS Albaredo Promotion\, Èvaltellina\, 360 Valtellina Bike\, Costiera dei Cech\, Ski Stop Sport Service\, Agriturismo La Fiorida. \nMaggiori informazioni: infopoint@portedivaltellina.it – 0342 601140
URL:https://portedivaltellina.it/eventi/cycling-week/
LOCATION:Morbegno
END:VEVENT
BEGIN:VEVENT
DTSTART;VALUE=DATE:20250531
DTEND;VALUE=DATE:20250615
DTSTAMP:20260419T192217
CREATED:20250411T093453Z
LAST-MODIFIED:20250812T151929Z
UID:10006568-1748649600-1749945599@portedivaltellina.it
SUMMARY:Mercatino hobbisti
DESCRIPTION:Ogni 2° sabato del mese \nnei giardinetti della Biblioteca Civica \na Morbegno
URL:https://portedivaltellina.it/eventi/mercatino-hobbisti/2025-05-31/
LOCATION:Morbegno – Biblioteca Civica Ezio Vanoni\, Via Cortivacci\, 4\, 23017
END:VEVENT
BEGIN:VEVENT
DTSTART;VALUE=DATE:20250531
DTEND;VALUE=DATE:20250615
DTSTAMP:20260419T192217
CREATED:20250725T071409Z
LAST-MODIFIED:20250725T071513Z
UID:10006572-1748649600-1749945599@portedivaltellina.it
SUMMARY:Mercatino hobbisti
DESCRIPTION:Ogni 2° sabato del mese \nnei giardinetti della Biblioteca Civica \na Morbegno
URL:https://portedivaltellina.it/eventi/mercatino-hobbisti-2/2025-05-31/
LOCATION:Morbegno – Biblioteca Civica Ezio Vanoni\, Via Cortivacci\, 4\, 23017
END:VEVENT
BEGIN:VEVENT
DTSTART;VALUE=DATE:20250531
DTEND;VALUE=DATE:20250616
DTSTAMP:20260419T192217
CREATED:20250524T072219Z
LAST-MODIFIED:20250524T072219Z
UID:10006239-1748649600-1750031999@portedivaltellina.it
SUMMARY:Roberto Bogialli
DESCRIPTION:Personale di pittura in ricordo di Roberto Bogialli \n\nda lunedì a venerdì 15.30/18.30\nsabato e domenica 10.00/12.00 – 15.00/19.00\nLunedì 2 giugno chiuso\n\nINGRESSO LIBERO \nInaugurazione sabato 31 maggio alle ore 18.00 \nInfo: www.evaltellina.com \n 
URL:https://portedivaltellina.it/eventi/roberto-bogialli/
LOCATION:Morbegno – Chiostro di Sant’Antonio
ORGANIZER;CN="Evaltellina":MAILTO:info@evaltellina.com
END:VEVENT
BEGIN:VEVENT
DTSTART;VALUE=DATE:20250601
DTEND;VALUE=DATE:20250602
DTSTAMP:20260419T192217
CREATED:20250513T075717Z
LAST-MODIFIED:20250526T150655Z
UID:10006207-1748736000-1748822399@portedivaltellina.it
SUMMARY:Giro in Cantina
DESCRIPTION:Un’escursione gratuita in eBike da non perdere. Un percorso incredibilmente scenografico che attraversa vigneti\, borghi storici\, radure e boschi con panorami che abbracciano tutta la Bassa Valtellina e l’alto Lago di Como. \nIl percorso non presenta difficoltà tecniche ed è adatto a tutti i possessori di eBike che vogliono trascorrere una bellissima giornata in compagnia tra natura\, panorami mozzafiato e degustazioni di prodotti tipici del territorio. La lunghezza è di circa 30 km con 700 m di dislivello e Morbegno sarà sia il punto di partenza sia il punto di arrivo. \nClicca QUI per visualizzare il percorso. \nRiserva il tuo posto attraverso QUESTO LINK. Sarà possibile registrarsi a partire da mercoledì 14 fino alle ore 23 di sabato 31 maggio\, salvo esaurimento posti disponibili. \nPROGRAMMA: \n\nOre 9.30 ritrovo in Piazza Tre Fontane (Piazza Marconi) a Morbegno\nOre 10 partenza del tour\nOre 11.30 prima degustazione in cantina a Mello\nOre 13 seconda degustazione in cantina a Traona\nOre 15 rientro a Morbegno\n\nNON è disponibile il servizio di noleggio delle eBike. \nMaggiori informazioni: infopoint@portedivaltellina.it \n 
URL:https://portedivaltellina.it/eventi/giro-in-cantina/
LOCATION:Costiera dei Cech
ATTACH;FMTTYPE=image/jpeg:https://portedivaltellina.it/wp-content/uploads/2025/05/Giro-in-Cantina.jpg
END:VEVENT
BEGIN:VEVENT
DTSTART;TZID=Europe/Rome:20250601T083000
DTEND;TZID=Europe/Rome:20250601T120000
DTSTAMP:20260419T192217
CREATED:20250411T134052Z
LAST-MODIFIED:20250411T134052Z
UID:10006112-1748766600-1748779200@portedivaltellina.it
SUMMARY:Corsa in montagna
DESCRIPTION:Campionato italiano \ndi corsa in montagna a staffetta giovanile \nPartenza ed arrivo in Piazza S. Antonio \n\nOre 8.30 gare esordienti 10/ragazzi\nOre 10.00 gare campionato cadetti/allievi\n\nInfo: www.gscsimorbegno.org
URL:https://portedivaltellina.it/eventi/corsa-in-montagna/
LOCATION:Morbegno – Piazza S. Antonio\, 23017\, Italia
END:VEVENT
BEGIN:VEVENT
DTSTART;TZID=Europe/Rome:20250601T083000
DTEND;TZID=Europe/Rome:20250601T170000
DTSTAMP:20260419T192217
CREATED:20250508T074629Z
LAST-MODIFIED:20250508T074629Z
UID:10006183-1748766600-1748797200@portedivaltellina.it
SUMMARY:Vespa rock raduno Costiera dei Cech
DESCRIPTION:V edizione  \nRaduno per gli appassionati della Vespa. \nPROGRAMMA: \n\nOre 9.30 ritrovo al Bar Break\, colazione e iscrizioni\nPartenza del tour e a Caspano aperitivo presso Gruppo Sportivo S. Bartolomeo\nAlle 12.30 pranzo presso Al Pianone con polenta taragna\, salsiccia\, formaggio\, vino e acqua\nNel pomeriggio musica dal vivo\n\nIn caso di pioggia l’evento sarà rimandato a data da destinarsi \nCosto: tour e pranzo € 35\,00 –  solo pranzo € 20\,00 \nÈ gradita la prenotazione: Bar Al Pianone 345 0907238 – 366 8003935 – baralpianone@gmail.com.
URL:https://portedivaltellina.it/eventi/vespa-rock-raduno-costiera-dei-cech/
LOCATION:Costiera dei Cech
END:VEVENT
BEGIN:VEVENT
DTSTART;TZID=Europe/Rome:20250601T090000
DTEND;TZID=Europe/Rome:20250601T170000
DTSTAMP:20260419T192217
CREATED:20250529T101118Z
LAST-MODIFIED:20250529T101118Z
UID:10006252-1748768400-1748797200@portedivaltellina.it
SUMMARY:Grotta del Beck
DESCRIPTION:Inaugurazione \nRitrovo ore 9.00 al piazzale di Pescegallo \nAperto a tutti.  \nDonazione libera pro chiodature \nMateriale necessario: corda\, rinvii\, casco\, imbrago\, picozze\, ramponi o scarpette da dry. \nSlinzega\, formaggio e birra per accompagnare i tiri di corda! \nInfo: www.valgerolaonline.it  \n  \n 
URL:https://portedivaltellina.it/eventi/grotta-del-beck/
LOCATION:Gerola Alta – Fraz. Pescegallo
ORGANIZER;CN="Ecomuseo della Valgerola":MAILTO:info@valgerolaonline.it
END:VEVENT
BEGIN:VEVENT
DTSTART;TZID=Europe/Rome:20250601T100000
DTEND;TZID=Europe/Rome:20250601T180000
DTSTAMP:20260419T192217
CREATED:20250509T135932Z
LAST-MODIFIED:20250509T135932Z
UID:10006198-1748772000-1748800800@portedivaltellina.it
SUMMARY:Kids meet alps
DESCRIPTION:Mostra-gioco per famiglie e bambini \nProgetto educativo\, culturale e sociale per conoscere i paesaggi alpini attraverso l’arte \nDieci installazioni con attività per favorire la libera sperimentazione e il gioco \n Accesso libero \nIn caso di maltempo\, l’evento sarà rinviato al 22 giugno \nInfo: www.kidsmeetalps.com
URL:https://portedivaltellina.it/eventi/kids-meet-alps/
LOCATION:Tartano\, Tartano\, 23010\, Italia
ORGANIZER;CN="Erigenta Aps":MAILTO:associazione@erigenta.it
END:VEVENT
BEGIN:VEVENT
DTSTART;TZID=Europe/Rome:20250601T153000
DTEND;TZID=Europe/Rome:20250601T223000
DTSTAMP:20260419T192217
CREATED:20250523T093428Z
LAST-MODIFIED:20250523T134559Z
UID:10006234-1748791800-1748817000@portedivaltellina.it
SUMMARY:Motogiro
DESCRIPTION:Dal mare alle Alpi \nRaduno di veicoli storici \nAppuntamento con la grande storia del marchio Benelli \n\ndalle 15.30 esposizione auto e moto storiche in piazza S. Marco\ndalle 18.00 aperitivo storico\ndalle 20.00 cena delle eccellenze valtellinesi alla Locanda Cà Priula\n\nIngresso libero \nIscrizioni Motogiro: talamona.classicmotors@gmail.com 
URL:https://portedivaltellina.it/eventi/motogiro/
LOCATION:Albaredo per San Marco\, Ul Salòt di Bariloc'
END:VEVENT
BEGIN:VEVENT
DTSTART;TZID=Europe/Rome:20250601T210000
DTEND;TZID=Europe/Rome:20250601T223000
DTSTAMP:20260419T192217
CREATED:20250514T100403Z
LAST-MODIFIED:20250514T100816Z
UID:10006215-1748811600-1748817000@portedivaltellina.it
SUMMARY:Concerto per il cielo
DESCRIPTION:Concerto in ricordo di Anna  \npresso l’abbazia di San Pietro \nIngresso ad offerta libera \nIl ricavato sarà devoluto a favore dell’asilo nido “I pulcini” di Regoledo \nServizio di bus navetta disponibile con partenza dalle scuole di Piagno e dalla Piazza della Chiesa \nIn caso di maltempo l’evento sarà rinviato a data da destinarsi
URL:https://portedivaltellina.it/eventi/concerto-per-il-cielo/
LOCATION:Abbazia di S. Pietro in Vallate\, Fraz. Piagno\, Cosio Valtellino\, 23013\, Italia
END:VEVENT
BEGIN:VEVENT
DTSTART;TZID=Europe/Rome:20250601T210000
DTEND;TZID=Europe/Rome:20250601T223000
DTSTAMP:20260419T192217
CREATED:20250523T151952Z
LAST-MODIFIED:20250523T151952Z
UID:10006237-1748811600-1748817000@portedivaltellina.it
SUMMARY:Concerto di primavera
DESCRIPTION:Corpo musicale di Delebio  \ncon la partecipazione degli allievi della scuola di musica \nDirettore: Alessandro Pacco \nPresidente: Giampiero Dell’Oca \nIngresso libero
URL:https://portedivaltellina.it/eventi/concerto-di-primavera/
LOCATION:Delebio – Oratorio Giovanni Paolo II\, Via G. Verdi\, Delebio\, 23014\, Italy
END:VEVENT
END:VCALENDAR