BEGIN:VCALENDAR
VERSION:2.0
PRODID:-//Porte di Valtellina - ECPv6.15.20//NONSGML v1.0//EN
CALSCALE:GREGORIAN
METHOD:PUBLISH
X-WR-CALNAME:Porte di Valtellina
X-ORIGINAL-URL:https://portedivaltellina.it
X-WR-CALDESC:Eventi per Porte di Valtellina
REFRESH-INTERVAL;VALUE=DURATION:PT1H
X-Robots-Tag:noindex
X-PUBLISHED-TTL:PT1H
BEGIN:VTIMEZONE
TZID:Europe/Rome
BEGIN:DAYLIGHT
TZOFFSETFROM:+0100
TZOFFSETTO:+0200
TZNAME:CEST
DTSTART:20240331T010000
END:DAYLIGHT
BEGIN:STANDARD
TZOFFSETFROM:+0200
TZOFFSETTO:+0100
TZNAME:CET
DTSTART:20241027T010000
END:STANDARD
BEGIN:DAYLIGHT
TZOFFSETFROM:+0100
TZOFFSETTO:+0200
TZNAME:CEST
DTSTART:20250330T010000
END:DAYLIGHT
BEGIN:STANDARD
TZOFFSETFROM:+0200
TZOFFSETTO:+0100
TZNAME:CET
DTSTART:20251026T010000
END:STANDARD
BEGIN:DAYLIGHT
TZOFFSETFROM:+0100
TZOFFSETTO:+0200
TZNAME:CEST
DTSTART:20260329T010000
END:DAYLIGHT
BEGIN:STANDARD
TZOFFSETFROM:+0200
TZOFFSETTO:+0100
TZNAME:CET
DTSTART:20261025T010000
END:STANDARD
END:VTIMEZONE
BEGIN:VEVENT
DTSTART;VALUE=DATE:20250531
DTEND;VALUE=DATE:20250615
DTSTAMP:20260420T071012
CREATED:20250411T093453Z
LAST-MODIFIED:20250812T151929Z
UID:10006568-1748649600-1749945599@portedivaltellina.it
SUMMARY:Mercatino hobbisti
DESCRIPTION:Ogni 2° sabato del mese \nnei giardinetti della Biblioteca Civica \na Morbegno
URL:https://portedivaltellina.it/eventi/mercatino-hobbisti/2025-05-31/
LOCATION:Morbegno – Biblioteca Civica Ezio Vanoni\, Via Cortivacci\, 4\, 23017
END:VEVENT
BEGIN:VEVENT
DTSTART;VALUE=DATE:20250531
DTEND;VALUE=DATE:20250615
DTSTAMP:20260420T071012
CREATED:20250725T071409Z
LAST-MODIFIED:20250725T071513Z
UID:10006572-1748649600-1749945599@portedivaltellina.it
SUMMARY:Mercatino hobbisti
DESCRIPTION:Ogni 2° sabato del mese \nnei giardinetti della Biblioteca Civica \na Morbegno
URL:https://portedivaltellina.it/eventi/mercatino-hobbisti-2/2025-05-31/
LOCATION:Morbegno – Biblioteca Civica Ezio Vanoni\, Via Cortivacci\, 4\, 23017
END:VEVENT
BEGIN:VEVENT
DTSTART;VALUE=DATE:20250531
DTEND;VALUE=DATE:20250616
DTSTAMP:20260420T071012
CREATED:20250524T072219Z
LAST-MODIFIED:20250524T072219Z
UID:10006239-1748649600-1750031999@portedivaltellina.it
SUMMARY:Roberto Bogialli
DESCRIPTION:Personale di pittura in ricordo di Roberto Bogialli \n\nda lunedì a venerdì 15.30/18.30\nsabato e domenica 10.00/12.00 – 15.00/19.00\nLunedì 2 giugno chiuso\n\nINGRESSO LIBERO \nInaugurazione sabato 31 maggio alle ore 18.00 \nInfo: www.evaltellina.com \n 
URL:https://portedivaltellina.it/eventi/roberto-bogialli/
LOCATION:Morbegno – Chiostro di Sant’Antonio
ORGANIZER;CN="Evaltellina":MAILTO:info@evaltellina.com
END:VEVENT
BEGIN:VEVENT
DTSTART;VALUE=DATE:20250606
DTEND;VALUE=DATE:20250608
DTSTAMP:20260420T071012
CREATED:20250510T105543Z
LAST-MODIFIED:20250510T105543Z
UID:10006204-1749168000-1749340799@portedivaltellina.it
SUMMARY:Andalo Rock
DESCRIPTION:20ª edizione  \nTorna il festival rock ad Andalo. \nQuest’anno sul palco Maziglia\, Without Pushin’ Uncle con molti altri gruppi: tanto rock e tanto divertimento \nProssimamente il programma  \nIngresso libero
URL:https://portedivaltellina.it/eventi/andalo-rock/
LOCATION:Andalo – Centro sportivo Camillo De Rossi
END:VEVENT
BEGIN:VEVENT
DTSTART;VALUE=DATE:20250607
DTEND;VALUE=DATE:20250608
DTSTAMP:20260420T071012
CREATED:20250527T084353Z
LAST-MODIFIED:20250527T084353Z
UID:10006247-1749254400-1749340799@portedivaltellina.it
SUMMARY:Pascoli di Primavera
DESCRIPTION:Con la Guida Parco Alfredo Dell’Agosto \nRaggiunto il nucleo di Tartano\, si prosegue per la Val Lunga lungo l’antico sentiero d’alpeggio. \nInfo e prenotazioni: +39 348 5529865
URL:https://portedivaltellina.it/eventi/pascoli-di-primavera/
LOCATION:Val Tartano
END:VEVENT
BEGIN:VEVENT
DTSTART;VALUE=DATE:20250607
DTEND;VALUE=DATE:20250609
DTSTAMP:20260420T071012
CREATED:20250524T095428Z
LAST-MODIFIED:20250524T095428Z
UID:10006242-1749254400-1749427199@portedivaltellina.it
SUMMARY:Enjoy Cup
DESCRIPTION:XII edizione del torneo di calcio a 5 \npiù grande della Valtellina con 80 squadre di ogni livello: pulcini\, femminile\, green volley \nNon solo sport\, ma anche solidarietà\, tanto divertimento e il meglio della cucina valtellinese \nInfo e iscrizioni: info@enjoyvaltellina.it – www.enjoyvaltellinacup.com – 339 8098531 \n 
URL:https://portedivaltellina.it/eventi/enjoy-cup/
LOCATION:Talamona  e  Selvetta
END:VEVENT
BEGIN:VEVENT
DTSTART;VALUE=DATE:20250607
DTEND;VALUE=DATE:20250609
DTSTAMP:20260420T071012
CREATED:20250605T081201Z
LAST-MODIFIED:20250605T144236Z
UID:10006154-1749254400-1749427199@portedivaltellina.it
SUMMARY:Handimals
DESCRIPTION:Mostra di Guido Daniele \nSabato 5 aprile alle ore 11 inaugurazione con body painting dal vivo dell’artista. \nOrari di apertura: martedì\, giovedì\, sabato e domenica dalle ore 9 alle ore 12 e dalle ore 14.30 alle ore 17.30 \nIngresso gratuito \nPrenotazione per l’inaugurazione sul sito www.museostorianaturale.it
URL:https://portedivaltellina.it/eventi/handimals-2-2/2025-06-07/1/
LOCATION:Morbegno – Museo Civico di Storia naturale\, Via Cortivacci\, 2\, Italia
END:VEVENT
BEGIN:VEVENT
DTSTART;VALUE=DATE:20250607
DTEND;VALUE=DATE:20250608
DTSTAMP:20260420T071012
CREATED:20250605T081201Z
LAST-MODIFIED:20250605T144236Z
UID:10006273-1749283200-1749315600@portedivaltellina.it
SUMMARY:Handimals
DESCRIPTION:Mostra di Guido Daniele \nSabato 5 aprile alle ore 11 inaugurazione con body painting dal vivo dell’artista. \nOrari di apertura: martedì\, giovedì\, sabato e domenica dalle ore 9 alle ore 12 e dalle ore 14.30 alle ore 17.30 \nIngresso gratuito \nPrenotazione per l’inaugurazione sul sito www.museostorianaturale.it
URL:https://portedivaltellina.it/eventi/handimals-2-2/2025-06-07/2/
LOCATION:Morbegno – Museo Civico di Storia naturale\, Via Cortivacci\, 2\, Italia
END:VEVENT
BEGIN:VEVENT
DTSTART;TZID=Europe/Rome:20250607T140000
DTEND;TZID=Europe/Rome:20250607T180000
DTSTAMP:20260420T071012
CREATED:20250523T074803Z
LAST-MODIFIED:20250523T074803Z
UID:10006233-1749304800-1749319200@portedivaltellina.it
SUMMARY:Swap party
DESCRIPTION:Vieni a scambiare abiti\, accessori\, borse e tanto altro! \nciò che non verrà scambiato potrai ritirarlo o sarà dato in beneficienza \nSe vuoi porta cibo da condividere\, bevande e stoviglie antispreco per condividere una merenda in compagnia \nUn pomeriggio eco-friendly e divertente!
URL:https://portedivaltellina.it/eventi/swap-party-2/
LOCATION:Morbegno – Il Sentiero nell’Isola\, Via della Bonifica\, Morbegno\, 23017\, Italy
END:VEVENT
BEGIN:VEVENT
DTSTART;TZID=Europe/Rome:20250607T163000
DTEND;TZID=Europe/Rome:20250607T200000
DTSTAMP:20260420T071012
CREATED:20250603T130006Z
LAST-MODIFIED:20250603T130006Z
UID:10006263-1749313800-1749326400@portedivaltellina.it
SUMMARY:Evolvere
DESCRIPTION:Momento di riflessione \nsui crimini di guerra nei confronti del popolo palestinese dove i partecipanti saranno coinvolti alla creazione di un’istallazione artistica \nSi invita a portare un oggetto simbolico di colore bianco o frasi o poesie \nIngresso libero \nInfo: www.evaltellina.com \n 
URL:https://portedivaltellina.it/eventi/evolvere/
LOCATION:Morbegno – Chiostro di Sant’Antonio
ORGANIZER;CN="Evaltellina":MAILTO:info@evaltellina.com
END:VEVENT
BEGIN:VEVENT
DTSTART;TZID=Europe/Rome:20250607T170000
DTEND;TZID=Europe/Rome:20250607T173000
DTSTAMP:20260420T071012
CREATED:20250304T101947Z
LAST-MODIFIED:20250304T102042Z
UID:10005877-1749315600-1749317400@portedivaltellina.it
SUMMARY:Pillole di poesia
DESCRIPTION:30 minuti di letture e musica  \ncon la partecipazione di Cesare Ciapponi\, Giuliano Luzzi e Samuele Passerini \nIntermezzi musicali di Stefano Ciapponi \nIngresso gratuito aperto a tutti \nInfo: www.evaltellina.com \n 
URL:https://portedivaltellina.it/eventi/pillole-di-poesia-4/
LOCATION:Morbegno – Biblioteca Civica Ezio Vanoni\, Via Cortivacci\, 4\, 23017
ORGANIZER;CN="Evaltellina":MAILTO:info@evaltellina.com
END:VEVENT
BEGIN:VEVENT
DTSTART;TZID=Europe/Rome:20250607T180000
DTEND;TZID=Europe/Rome:20250607T193000
DTSTAMP:20260420T071012
CREATED:20250521T093206Z
LAST-MODIFIED:20250521T093206Z
UID:10006228-1749319200-1749324600@portedivaltellina.it
SUMMARY:Rock island Rave
DESCRIPTION:Concerto \nSpettacolare concerto di fine corso degli allievi Artesuono \nIngresso gratuito \nPer i più golosi birra e salsicce \nIn caso di pioggia l’evento si terrà persso l’auditorium Don Roberto \n Info: www.arte-suono.it \n 
URL:https://portedivaltellina.it/eventi/rock-island-rave/
LOCATION:Cosio Valt.no – Isola della pescaia\, Pista ciclabile
END:VEVENT
BEGIN:VEVENT
DTSTART;TZID=Europe/Rome:20250607T210000
DTEND;TZID=Europe/Rome:20250607T223000
DTSTAMP:20260420T071012
CREATED:20250603T100843Z
LAST-MODIFIED:20250603T100843Z
UID:10006262-1749330000-1749335400@portedivaltellina.it
SUMMARY:Filarmonica di Morbegno
DESCRIPTION:Filarmonica di Morbegno e Lorenzo Della Fonte \nIN CONCERTO \nMusiche e trascrizioni di Lorenzo Della Fonte \n\nCiapponi Pietro – pianoforte\nZecca Simone – Banjo\n\nDirettore artistico: Eugenio Arrigoni \nInfo: www.filarmonicamorbegno.it \n  \n 
URL:https://portedivaltellina.it/eventi/filarmonica-di-morbegno/
LOCATION:Morbegno – Auditorium Sant’Antonio
END:VEVENT
END:VCALENDAR