BEGIN:VCALENDAR
VERSION:2.0
PRODID:-//Porte di Valtellina - ECPv6.15.20//NONSGML v1.0//EN
CALSCALE:GREGORIAN
METHOD:PUBLISH
X-ORIGINAL-URL:https://portedivaltellina.it
X-WR-CALDESC:Eventi per Porte di Valtellina
REFRESH-INTERVAL;VALUE=DURATION:PT1H
X-Robots-Tag:noindex
X-PUBLISHED-TTL:PT1H
BEGIN:VTIMEZONE
TZID:Europe/Rome
BEGIN:DAYLIGHT
TZOFFSETFROM:+0100
TZOFFSETTO:+0200
TZNAME:CEST
DTSTART:20240331T010000
END:DAYLIGHT
BEGIN:STANDARD
TZOFFSETFROM:+0200
TZOFFSETTO:+0100
TZNAME:CET
DTSTART:20241027T010000
END:STANDARD
BEGIN:DAYLIGHT
TZOFFSETFROM:+0100
TZOFFSETTO:+0200
TZNAME:CEST
DTSTART:20250330T010000
END:DAYLIGHT
BEGIN:STANDARD
TZOFFSETFROM:+0200
TZOFFSETTO:+0100
TZNAME:CET
DTSTART:20251026T010000
END:STANDARD
BEGIN:DAYLIGHT
TZOFFSETFROM:+0100
TZOFFSETTO:+0200
TZNAME:CEST
DTSTART:20260329T010000
END:DAYLIGHT
BEGIN:STANDARD
TZOFFSETFROM:+0200
TZOFFSETTO:+0100
TZNAME:CET
DTSTART:20261025T010000
END:STANDARD
END:VTIMEZONE
BEGIN:VEVENT
DTSTART;VALUE=DATE:20250531
DTEND;VALUE=DATE:20250615
DTSTAMP:20260420T232029
CREATED:20250411T093453Z
LAST-MODIFIED:20250812T151929Z
UID:10006568-1748649600-1749945599@portedivaltellina.it
SUMMARY:Mercatino hobbisti
DESCRIPTION:Ogni 2° sabato del mese \nnei giardinetti della Biblioteca Civica \na Morbegno
URL:https://portedivaltellina.it/eventi/mercatino-hobbisti/2025-05-31/
LOCATION:Morbegno – Biblioteca Civica Ezio Vanoni\, Via Cortivacci\, 4\, 23017
END:VEVENT
BEGIN:VEVENT
DTSTART;VALUE=DATE:20250531
DTEND;VALUE=DATE:20250615
DTSTAMP:20260420T232029
CREATED:20250725T071409Z
LAST-MODIFIED:20250725T071513Z
UID:10006572-1748649600-1749945599@portedivaltellina.it
SUMMARY:Mercatino hobbisti
DESCRIPTION:Ogni 2° sabato del mese \nnei giardinetti della Biblioteca Civica \na Morbegno
URL:https://portedivaltellina.it/eventi/mercatino-hobbisti-2/2025-05-31/
LOCATION:Morbegno – Biblioteca Civica Ezio Vanoni\, Via Cortivacci\, 4\, 23017
END:VEVENT
BEGIN:VEVENT
DTSTART;VALUE=DATE:20250531
DTEND;VALUE=DATE:20250616
DTSTAMP:20260420T232029
CREATED:20250524T072219Z
LAST-MODIFIED:20250524T072219Z
UID:10006239-1748649600-1750031999@portedivaltellina.it
SUMMARY:Roberto Bogialli
DESCRIPTION:Personale di pittura in ricordo di Roberto Bogialli \n\nda lunedì a venerdì 15.30/18.30\nsabato e domenica 10.00/12.00 – 15.00/19.00\nLunedì 2 giugno chiuso\n\nINGRESSO LIBERO \nInaugurazione sabato 31 maggio alle ore 18.00 \nInfo: www.evaltellina.com \n 
URL:https://portedivaltellina.it/eventi/roberto-bogialli/
LOCATION:Morbegno – Chiostro di Sant’Antonio
ORGANIZER;CN="Evaltellina":MAILTO:info@evaltellina.com
END:VEVENT
BEGIN:VEVENT
DTSTART;VALUE=DATE:20250612
DTEND;VALUE=DATE:20250701
DTSTAMP:20260420T232029
CREATED:20250612T131032Z
LAST-MODIFIED:20250612T131032Z
UID:10006311-1749686400-1751327999@portedivaltellina.it
SUMMARY:Rock Club '25
DESCRIPTION:Corso estivo di musica Pop-Rock per bambini e ragazzi dai 5 ai 15 anni \nBasso\, batteria\, canto\, chitarra\, pianoforte\, tastiere\, musica d’insieme; anche per chi non ha mai suonato uno strumento. \nPropedeutica musicale per bambini dai 5 agli 8 anni. \nDal 7 all’11 luglio\, dalle 9 alle 12. \nCosto iscrizione €40\,00\, il resto è coperto dal contributo della Fondazione Mattei. \nIscrizioni entro il 30 giugno\, posti limitati. \nInfo e iscrizioni: 4rtesuono@gmail.com – +39 328 4640416
URL:https://portedivaltellina.it/eventi/rock-club-25/
LOCATION:Morbegno – Scuole via Ambrosetti\, Via Ambrosetti\, Morbegno\, 23017\, Italia
END:VEVENT
BEGIN:VEVENT
DTSTART;VALUE=DATE:20250613
DTEND;VALUE=DATE:20250616
DTSTAMP:20260420T232029
CREATED:20250418T131121Z
LAST-MODIFIED:20250526T102756Z
UID:10006131-1749772800-1750031999@portedivaltellina.it
SUMMARY:Festa del gnocco fritto
DESCRIPTION:Tre giorni di festa al Polifunzionale \n\nVenerdì sera fritto misto e musica live con Joe di Mello\nSabato sera gnocco fritto e musica live con orchestra Saverio Masolini\nDomenica sera piadina romagnola e musica live con Sempre Max\, tribute band 883\n\nL’evento si terrà anche in caso di maltempo \nL’intero ricavato verrà utilizzato per le attività di volontariato del Gruppo della Gioia. \nInfo: Proloco Talamona 333 1581646
URL:https://portedivaltellina.it/eventi/festa-del-gnocco-fritto/
LOCATION:Talamona – Polifunzionale
END:VEVENT
END:VCALENDAR