BEGIN:VCALENDAR
VERSION:2.0
PRODID:-//Porte di Valtellina - ECPv6.15.20//NONSGML v1.0//EN
CALSCALE:GREGORIAN
METHOD:PUBLISH
X-WR-CALNAME:Porte di Valtellina
X-ORIGINAL-URL:https://portedivaltellina.it
X-WR-CALDESC:Eventi per Porte di Valtellina
REFRESH-INTERVAL;VALUE=DURATION:PT1H
X-Robots-Tag:noindex
X-PUBLISHED-TTL:PT1H
BEGIN:VTIMEZONE
TZID:Europe/Rome
BEGIN:DAYLIGHT
TZOFFSETFROM:+0100
TZOFFSETTO:+0200
TZNAME:CEST
DTSTART:20250330T010000
END:DAYLIGHT
BEGIN:STANDARD
TZOFFSETFROM:+0200
TZOFFSETTO:+0100
TZNAME:CET
DTSTART:20251026T010000
END:STANDARD
BEGIN:DAYLIGHT
TZOFFSETFROM:+0100
TZOFFSETTO:+0200
TZNAME:CEST
DTSTART:20260329T010000
END:DAYLIGHT
BEGIN:STANDARD
TZOFFSETFROM:+0200
TZOFFSETTO:+0100
TZNAME:CET
DTSTART:20261025T010000
END:STANDARD
BEGIN:DAYLIGHT
TZOFFSETFROM:+0100
TZOFFSETTO:+0200
TZNAME:CEST
DTSTART:20270328T010000
END:DAYLIGHT
BEGIN:STANDARD
TZOFFSETFROM:+0200
TZOFFSETTO:+0100
TZNAME:CET
DTSTART:20271031T010000
END:STANDARD
END:VTIMEZONE
BEGIN:VEVENT
DTSTART;VALUE=DATE:20260314
DTEND;VALUE=DATE:20260504
DTSTAMP:20260425T012727
CREATED:20260220T092103Z
LAST-MODIFIED:20260331T135126Z
UID:10007919-1773446400-1777852799@portedivaltellina.it
SUMMARY:Meraviglie da salvare
DESCRIPTION:Mostra fotografica  \nMostra  LIPU sugli uccelli in pericolo\, in particolare su alcune specie in forte declino\, per promuovere la necessità di attivarsi per offrire loro una tutela adeguata \n Inaugurazione Sabato 14 Marzo alle ore 16.00 \nOrari di apertura: \n\nmartedì\, giovedì\, sabato\, domenica e festivi\n9.00/12.00 – 14.30/17.30\n\nIngresso gratuito \nInfo: www.museostorianaturale.it \n 
URL:https://portedivaltellina.it/eventi/meraviglie-da-salvare/
LOCATION:Morbegno – Museo Civico di Storia naturale\, Via Cortivacci\, 2\, Italia
ATTACH;FMTTYPE=image/jpeg:https://portedivaltellina.it/wp-content/uploads/2026/02/20260314_05_mostra_lipu.jpg
END:VEVENT
BEGIN:VEVENT
DTSTART;VALUE=DATE:20260418
DTEND;VALUE=DATE:20260504
DTSTAMP:20260425T012727
CREATED:20260320T144155Z
LAST-MODIFIED:20260320T144155Z
UID:10008012-1776470400-1777852799@portedivaltellina.it
SUMMARY:Amicizia
DESCRIPTION:Mostra artistica di pittura  \nGiovanna Maria Cavallo e Laura Brocco \nOrari di apertura \n\nda martedì a venerdì 15.00 /18.00\n sabato 10.00/12.00 e 15.00/18.00\ndomenica 10.00/12.00\n\n Ingresso libero \nInfo: www.evaltellina.com \n 
URL:https://portedivaltellina.it/eventi/amicizia/
LOCATION:Morbegno – Salotto Boffi\, Piazza S. Giovanni
ATTACH;FMTTYPE=image/jpeg:https://portedivaltellina.it/wp-content/uploads/2026/03/202604_gmcavallolbrocco-scaled.jpg
ORGANIZER;CN="Evaltellina":MAILTO:info@evaltellina.com
END:VEVENT
BEGIN:VEVENT
DTSTART;TZID=Europe/Rome:20260425T083000
DTEND;TZID=Europe/Rome:20260425T150000
DTSTAMP:20260425T012727
CREATED:20260414T074133Z
LAST-MODIFIED:20260414T074133Z
UID:10008090-1777105800-1777129200@portedivaltellina.it
SUMMARY:Mostra zootecnica della capra orobica
DESCRIPTION:Programma piazzale San Carlo: \n\nore 08:30 arrivo degli animali\nore 09:30 inizio valutazione del bestiame\nore 13:00 pranzo\nore 14:00 premiazioni\n\nSarà possibile pranzare insieme ai caprai con menù a base di polenta taragna e salsiccia\, acqua\, vino\, caffè e dolce : ADULTI € 15\,00 – BAMBINI € 10\,00 \nE’ gradita la prenotazione al numero  3394154056 \nDurante la manifestazione sarà possibile giri in carrozza.
URL:https://portedivaltellina.it/eventi/mostra-zootecnica-della-capra-orobica/
LOCATION:Talamona – Piazzale San Carlo
ATTACH;FMTTYPE=image/jpeg:https://portedivaltellina.it/wp-content/uploads/2026/04/20260425_capra-orobica-talamona.jpg
END:VEVENT
BEGIN:VEVENT
DTSTART;TZID=Europe/Rome:20260425T083000
DTEND;TZID=Europe/Rome:20260425T170000
DTSTAMP:20260425T012727
CREATED:20260324T111557Z
LAST-MODIFIED:20260324T111557Z
UID:10008022-1777105800-1777136400@portedivaltellina.it
SUMMARY:Lilt running
DESCRIPTION:16ª edizione della camminata per sole donne di 7 Km \nPROGRAMMA: \n\nAlle ore 8.30 ritrovo al polo fieristico per le iscrizioni\nAlle ore 9.30 riscaldamento con Sabrina e partenza per la camminata\nAlle ore 10.00 tappa presso la Cooperativa Il sentiero dell’isola e rientro\nAlle ore 12.30 pranzo aperto a tutti al Polo fieristico\nNel pomeriggio esibizione del gruppo Free Bears country friends\n\nCosto iscrizione:  € 15\,00 \n Info: Lilt Sondrio 0342 219413 – 349 4595006 – 328 7338374
URL:https://portedivaltellina.it/eventi/lilt-running-2/
LOCATION:Morbegno – Polo Fieristico\, Via Strada comunale di campagna\, 2
ATTACH;FMTTYPE=image/jpeg:https://portedivaltellina.it/wp-content/uploads/2026/03/20260425_lilt-running.jpg
END:VEVENT
BEGIN:VEVENT
DTSTART;TZID=Europe/Rome:20260425T100000
DTEND;TZID=Europe/Rome:20260425T230000
DTSTAMP:20260425T012727
CREATED:20260330T101250Z
LAST-MODIFIED:20260414T065910Z
UID:10008082-1777111200-1777158000@portedivaltellina.it
SUMMARY:Festa degli antichi Borghi
DESCRIPTION:Camminando sul sentiero dei tre Borghi: Traona\, Cercino\, Cino \nTra panorami vista lago\, terrazzamenti vitati\, rievocazioni medievali\, storia locale e gusto! \n\nPasseggiate e tour in eBike\nSagre e degustazioni\nAppuntamenti da non perdere\n\nClicca QUI per visualizzare il programma completo. \nPresto sarà sarà possibile iscriversi alle attività e alle esperienze attraverso il sito www.costieradeicech.com \n 
URL:https://portedivaltellina.it/eventi/festa-degli-antichi-borghi/2026-04-25/
LOCATION:Costiera dei Cech
ATTACH;FMTTYPE=image/jpeg:https://portedivaltellina.it/wp-content/uploads/2026/03/Locandina-def-scaled.jpg
END:VEVENT
BEGIN:VEVENT
DTSTART;TZID=Europe/Rome:20260425T103000
DTEND;TZID=Europe/Rome:20260425T124500
DTSTAMP:20260425T012727
CREATED:20260410T082243Z
LAST-MODIFIED:20260413T151738Z
UID:10008074-1777113000-1777121100@portedivaltellina.it
SUMMARY:81° ANNIVERSARIO DELLA LIBERAZIONE 1945-2026
DESCRIPTION:81° anniversario della Liberazione 1945-2026 \nProgramma – Morbegno: \n\nOre 10:30 S. Messa in Collegiata S. Giovanni con la partecipazione delle autorità e delle rappresentanze e a seguire sfilata lungo le vie della città.\nOre 11:20 Sosta al museo dei Caduti e ripresa del corteo fino alle scuole in Via Ambrosetti\nOre 12:00 Cerimonia ufficiale e deposizione della corona al monumento alla Resistenza\nOre 12:45 termine della cerimonia\n\n  \n  \n  \n 
URL:https://portedivaltellina.it/eventi/81-anniversario-della-liberazione-1945-2026/
LOCATION:Morbegno
ATTACH;FMTTYPE=image/jpeg:https://portedivaltellina.it/wp-content/uploads/2026/04/20260425_25-aprile.jpeg
END:VEVENT
BEGIN:VEVENT
DTSTART;TZID=Europe/Rome:20260425T103000
DTEND;TZID=Europe/Rome:20260425T180000
DTSTAMP:20260425T012727
CREATED:20260421T153126Z
LAST-MODIFIED:20260421T153531Z
UID:10008116-1777113000-1777140000@portedivaltellina.it
SUMMARY:Festa di San Marco
DESCRIPTION:Con la collaborazione della Pro Loco e degli Alpini \nOre 10.30 Santa Messa\, a seguire vendita torte e miele \nOre 12:30 pranzo con polenta e salsiccia o panini con salsiccia e patatine fritte \nSeguirà nel pomeriggio torneo di briscola e musica \nInfo e prenotazioni entro il 22 aprile: Chantal 3478959428  Alberto 3356499132 \n 
URL:https://portedivaltellina.it/eventi/festa-di-san-marco/
LOCATION:Mantello – Campo sportivo
ATTACH;FMTTYPE=image/jpeg:https://portedivaltellina.it/wp-content/uploads/2026/04/20260425_san-marco.jpg
END:VEVENT
BEGIN:VEVENT
DTSTART;TZID=Europe/Rome:20260425T130000
DTEND;TZID=Europe/Rome:20260425T230000
DTSTAMP:20260425T012727
CREATED:20260415T075844Z
LAST-MODIFIED:20260415T075844Z
UID:10008098-1777122000-1777158000@portedivaltellina.it
SUMMARY:Festa della Liberazione
DESCRIPTION:Festa della Liberazione al Ricircolo \nDopo il corteo provinciale \n\nAlle ore 13.00 Pranzo a buffet con pasta tricolore e dolci. Consigliata la prenotazione\nAlle ore 15.00 Talk “Dalla resistenza alla costituzione: percorsi di costruzione democratica”\nDalle 18.00 alle 23.00 all’arengario musica\, cibo e servizio bar. In caso di pioggia la serata si svolgerà al ricircolo\n\n Info e prenotazioni pranzo: Tel: 348 0607840
URL:https://portedivaltellina.it/eventi/festa-della-liberazione/
LOCATION:Morbegno – RiCircolo\, Via Beato Andrea\, 16\, Morbegno\, 23017\, Italia
ATTACH;FMTTYPE=image/jpeg:https://portedivaltellina.it/wp-content/uploads/2026/04/20260425_25-aprile-localino.jpeg
END:VEVENT
BEGIN:VEVENT
DTSTART;TZID=Europe/Rome:20260425T140000
DTEND;TZID=Europe/Rome:20260425T180000
DTSTAMP:20260425T012727
CREATED:20260320T160233Z
LAST-MODIFIED:20260320T160240Z
UID:10008013-1777125600-1777140000@portedivaltellina.it
SUMMARY:Trofeo morbegnese
DESCRIPTION:37ª  edizione  \nGara nazionale di corsa su strada \n\nAlle ore 14.00 partenza gare giovanili\nAlle ore 16.00 partenza gara di Km 10\n\nInfo e iscrizioni: www.gscsimorbegno.org
URL:https://portedivaltellina.it/eventi/trofeo-morbegnese-2/
LOCATION:Morbegno
ATTACH;FMTTYPE=image/jpeg:https://portedivaltellina.it/wp-content/uploads/2026/03/20260425_gara-Morbegno.jpg
ORGANIZER;CN="GS CSI Morbegno":MAILTO:info@gscimorbegno.org
END:VEVENT
BEGIN:VEVENT
DTSTART;TZID=Europe/Rome:20260425T180000
DTEND;TZID=Europe/Rome:20260425T220000
DTSTAMP:20260425T012727
CREATED:20260401T100616Z
LAST-MODIFIED:20260401T100616Z
UID:10008058-1777140000-1777154400@portedivaltellina.it
SUMMARY:Serata Pizza
DESCRIPTION:Serata in compagnia  \naperitivo\, pizza e intrattenimento \nCosto € 10\,00 \nPrenotazione obbligatoria entro il 22/4 tramite whatsapp \nChi lo desidera può portare un dolce da condividere!!! \nSerata aperta a tutti \n Info e prenotazioni: Veronica 339 4774983 – Pamela 340 5904748
URL:https://portedivaltellina.it/eventi/serata-pizza/
LOCATION:Piantedo – Oratorio\, Via Europa\, 140
ATTACH;FMTTYPE=image/jpeg:https://portedivaltellina.it/wp-content/uploads/2026/04/20260425_pizza-oratorio.jpg
ORGANIZER;CN="Andepianero":MAILTO:associazioneandepianero@gmail.com
END:VEVENT
BEGIN:VEVENT
DTSTART;TZID=Europe/Rome:20260425T203000
DTEND;TZID=Europe/Rome:20260425T223000
DTSTAMP:20260425T012727
CREATED:20260402T141023Z
LAST-MODIFIED:20260414T070307Z
UID:10008060-1777149000-1777156200@portedivaltellina.it
SUMMARY:Fantasma all’ora del the
DESCRIPTION:Spettacolo teatrale \nIl Piccolo Teatro delle Valli in collaborazione con EValtellina presentano un’opera liberamente ispirata a “Il fantasma di Canterville” di Oscar Wilde. \n Regia di G.R.Davare \nIngresso con offerta libera \nInfo: www.evaletllina.com \n 
URL:https://portedivaltellina.it/eventi/fantasma-allora-del-the/
LOCATION:Morbegno – Auditorium Sant’Antonio
ATTACH;FMTTYPE=image/jpeg:https://portedivaltellina.it/wp-content/uploads/2026/04/20260425_un-fantasma-allora-del-te.jpeg
ORGANIZER;CN="Evaltellina":MAILTO:info@evaltellina.com
END:VEVENT
END:VCALENDAR