BEGIN:VCALENDAR
VERSION:2.0
PRODID:-//Porte di Valtellina - ECPv6.15.20//NONSGML v1.0//EN
CALSCALE:GREGORIAN
METHOD:PUBLISH
X-ORIGINAL-URL:https://portedivaltellina.it
X-WR-CALDESC:Eventi per Porte di Valtellina
REFRESH-INTERVAL;VALUE=DURATION:PT1H
X-Robots-Tag:noindex
X-PUBLISHED-TTL:PT1H
BEGIN:VTIMEZONE
TZID:Europe/Rome
BEGIN:DAYLIGHT
TZOFFSETFROM:+0100
TZOFFSETTO:+0200
TZNAME:CEST
DTSTART:20240331T010000
END:DAYLIGHT
BEGIN:STANDARD
TZOFFSETFROM:+0200
TZOFFSETTO:+0100
TZNAME:CET
DTSTART:20241027T010000
END:STANDARD
BEGIN:DAYLIGHT
TZOFFSETFROM:+0100
TZOFFSETTO:+0200
TZNAME:CEST
DTSTART:20250330T010000
END:DAYLIGHT
BEGIN:STANDARD
TZOFFSETFROM:+0200
TZOFFSETTO:+0100
TZNAME:CET
DTSTART:20251026T010000
END:STANDARD
BEGIN:DAYLIGHT
TZOFFSETFROM:+0100
TZOFFSETTO:+0200
TZNAME:CEST
DTSTART:20260329T010000
END:DAYLIGHT
BEGIN:STANDARD
TZOFFSETFROM:+0200
TZOFFSETTO:+0100
TZNAME:CET
DTSTART:20261025T010000
END:STANDARD
END:VTIMEZONE
BEGIN:VEVENT
DTSTART;TZID=Europe/Rome:20250830T153000
DTEND;TZID=Europe/Rome:20250830T233000
DTSTAMP:20260421T131507
CREATED:20250805T152050Z
LAST-MODIFIED:20250805T152623Z
UID:10006618-1756567800-1756596600@portedivaltellina.it
SUMMARY:"A vele spiegate"
DESCRIPTION:Giornata di intrattenimento e solidarietà con la Navicella \nProgramma: \n\nDalle 15.30 Inaugurazione panchina rossa e attività di fitness musicale\, inBalance\, autodifesa\, calisthenics\, Body&mind\, yoga…\n16.30 Nutella party\nDalle 17.30 alle 18.30 giochi e laboratori creativi per bambini\n18.30 Recycled fashion night\nDalle 19.00 cena (paella\, sciatt\, panini salsiccia\, patatine\, burger vegani\, dolci)\nDalle 19.00 alle 24.00 DJ vinil show con DJ Morgan e DJ set sotto le stelle\n\nTutto il ricavato della manifestazione andrà a sostegno delle attività della Cooperativa La Breva e Associazione Navicella \nInfo: eventi@labreva.org – cel.335 5290368
URL:https://portedivaltellina.it/eventi/a-vele-spiegate/
LOCATION:Traona – Centro Polifunzionale – Fraz. La Valletta\, Via Palotta\, 116\, Traona\, 23019\, Italia
END:VEVENT
BEGIN:VEVENT
DTSTART;TZID=Europe/Rome:20250830T153000
DTEND;TZID=Europe/Rome:20250830T233000
DTSTAMP:20260421T131507
CREATED:20250819T125117Z
LAST-MODIFIED:20250819T125257Z
UID:10006650-1756567800-1756596600@portedivaltellina.it
SUMMARY:ReD CECH
DESCRIPTION:Evento dedicato alla sensibilizzazione contro la violenza sulle donne attraverso attività\, incontri e momenti di condivisione. \nProgramma della giornata: \n\nOre 15:30 ritrovo presso il parcheggio delle Poste\nOre 15:45 inaugurazione panchina rossa\nOre 16:30 inizio attività diffuse\nOre 17:45 ritrovo al Polifunzionale della valletta\nOre 18:00 convegno “La violenza sulle donne: prevenzione\, riconoscimento e percorsi di fuoriuscita”\nOre 18:30 Festa a Vele spiegate\n\nOfferta libera: il ricavato verrà devoluto in beneficienza a “Il Coraggio di Frida” \nL’evento si terrà anche in caso di maltempo in luoghi coperti \nPer maggiori informazioni: prolocotraona@gmail.com \n 
URL:https://portedivaltellina.it/eventi/red-cech/
LOCATION:Traona
END:VEVENT
BEGIN:VEVENT
DTSTART;TZID=Europe/Rome:20250830T203000
DTEND;TZID=Europe/Rome:20250830T213000
DTSTAMP:20260421T131507
CREATED:20250617T154014Z
LAST-MODIFIED:20250730T123639Z
UID:10006423-1756585800-1756589400@portedivaltellina.it
SUMMARY:Morbegno la sera è viva
DESCRIPTION:Una passeggiata a Delebio tra cesure\, culundei… e molto altro \nVisita guidata gratuita della durata di circa un’ora a cura di Flavia Tonelli e Sandro Dell’Oca. \nRitrovo in Piazza San Carpoforo. \nMaggiori informazioni: biblioteca@comune.morbegno.so.it – 0342 610323
URL:https://portedivaltellina.it/eventi/morbegno-la-sera-e-viva-39/
LOCATION:Delebio – Piazza San Carpoforo
END:VEVENT
BEGIN:VEVENT
DTSTART;TZID=Europe/Rome:20250830T210000
DTEND;TZID=Europe/Rome:20250830T210000
DTSTAMP:20260421T131507
CREATED:20250827T080910Z
LAST-MODIFIED:20250827T081011Z
UID:10006664-1756587600-1756587600@portedivaltellina.it
SUMMARY:Concerto Mastercem
DESCRIPTION:Concerto dei ragazzi del Campo estivo musicale \n22ª edizione \nMusica originale per concert band\, poemi sinfonici\, classica\, pop rock e… tanti giocattoli \nDirettore: Eugenio Arrigoni \nIngresso libero \nInfo: www.filarmonicadimorbegno.it 
URL:https://portedivaltellina.it/eventi/concerto-mastercem/
LOCATION:Morbegno – Auditorium S. Antonio\, Piazza S. Antonio\, 23017\, Italia
END:VEVENT
BEGIN:VEVENT
DTSTART;TZID=Europe/Rome:20250831T053000
DTEND;TZID=Europe/Rome:20250831T073000
DTSTAMP:20260421T131507
CREATED:20250830T092641Z
LAST-MODIFIED:20250830T092641Z
UID:10006677-1756618200-1756625400@portedivaltellina.it
SUMMARY:Concerto all'Alba
DESCRIPTION:Concerto all’aperto \nTorna il concerto al Tempietto degli alpini\, con gli Ottoni dell’Orchestra Antonio Vivaldi\, diretti dal maestro Lorenzo Passerini. \nIngresso con offerta libera \nInfo: comunicazione.orchestravivaldi@gmail.com Tel. 349 185 7442
URL:https://portedivaltellina.it/eventi/concerto-allalba/
LOCATION:Morbegno – Tempietto degli alpini\, Via Strada per San Marco\, Morbegno\, 23017\, Italia
END:VEVENT
BEGIN:VEVENT
DTSTART;TZID=Europe/Rome:20250831T083000
DTEND;TZID=Europe/Rome:20250831T183000
DTSTAMP:20260421T131507
CREATED:20250409T130858Z
LAST-MODIFIED:20250605T150637Z
UID:10006096-1756629000-1756665000@portedivaltellina.it
SUMMARY:Mercatino
DESCRIPTION:Mercatino per hobbisti e creativi  \nnel centro di San Martino \n\nA Pasquetta\, la 1ª e la 3ª domenica di Maggio\, Giugno e Luglio\nTutte le domeniche di Agosto\n\nDalle 8.30 alle 18.30
URL:https://portedivaltellina.it/eventi/mercatino-3/2025-08-31/
LOCATION:Val Masino – San Martino\, Sala Beni Frazionali\, Val Masino\, 23010\, Italia
END:VEVENT
BEGIN:VEVENT
DTSTART;TZID=Europe/Rome:20250831T180000
DTEND;TZID=Europe/Rome:20250831T200000
DTSTAMP:20260421T131507
CREATED:20250830T095510Z
LAST-MODIFIED:20250830T095510Z
UID:10006679-1756663200-1756670400@portedivaltellina.it
SUMMARY:Concerto nel Cielo
DESCRIPTION:Concerto sul Ponte Tibetano \ncon gli Ottoni dell’Orchestra Antonio Vivaldi \nDirettore: Maestro Lorenzo Passerini. \nIngresso libero \nInfo: comunicazione.orchestravivaldi@gmail.com – Tel. 349 185 7442
URL:https://portedivaltellina.it/eventi/concerto-nel-cielo/
LOCATION:Campo Tartano
END:VEVENT
BEGIN:VEVENT
DTSTART;TZID=Europe/Rome:20250901T190000
DTEND;TZID=Europe/Rome:20250901T230000
DTSTAMP:20260421T131507
CREATED:20250828T075846Z
LAST-MODIFIED:20250828T075846Z
UID:10006669-1756753200-1756767600@portedivaltellina.it
SUMMARY:Aperitivo veg
DESCRIPTION:Last summer’s vibes \nLa terrazza di Locanda Via Priula si anima con un aperitivo in collaborazione con L’Alternativa Vegetale. \nGusto\, freschezza e creatività vegetale per brindare insieme all’estate che se ne va \nInfo e prenotazioni: 0342 1980105 \n 
URL:https://portedivaltellina.it/eventi/aperitivo-veg/
LOCATION:Morbegno – Locanda Via Priula\, Via Ospital Vecchio\, 17\, Morbegno\, 23017\, Italia
ORGANIZER;CN="Locanda Via Priula":MAILTO:booking@locandaviapriula.it
END:VEVENT
BEGIN:VEVENT
DTSTART;VALUE=DATE:20250904
DTEND;VALUE=DATE:20250929
DTSTAMP:20260421T131507
CREATED:20250806T095056Z
LAST-MODIFIED:20250830T100137Z
UID:10006621-1756944000-1759103999@portedivaltellina.it
SUMMARY:Jungla
DESCRIPTION:Mostra sulle sexy eroine censurate del fumetto \ndurante gli orari di apertura del museo: \n\nMartedì\, Giovedì\, Sabato e Domenica\ndalle 9.00 alle 12.00 e dalle 14.30 alle 17.30\n\nIngresso  libero \nIl 13 settembre visita guidata alla mostra con il curatore Luca Villa \nConsigliato per ragazzi e adulti \nInfo: 3381702694 (wa) –  segreteriaventiventiaps@gmail.com \n 
URL:https://portedivaltellina.it/eventi/jungla-2/
LOCATION:Morbegno – Museo Civico di Storia naturale\, Via Cortivacci\, 2\, Italia
END:VEVENT
BEGIN:VEVENT
DTSTART;TZID=Europe/Rome:20250904T080000
DTEND;TZID=Europe/Rome:20250904T170000
DTSTAMP:20260421T131507
CREATED:20250904T160327Z
LAST-MODIFIED:20250904T160517Z
UID:10006691-1756972800-1757005200@portedivaltellina.it
SUMMARY:Ul dì la Noso
DESCRIPTION:Torna la grande festa di Talamona \nAlle ore 10.00 Messa grande e processione \nDalle 11.00 alle 24.00 tanto divertimento per grandi e piccoli \n\nbancarelle\ngonfiabili\npesca e giochi in oratorio\ntruccabimbi e palloncini\ndimostrazione di tiro alla fune\n\nAlle ore 15.30 aperitivo letterario in biblioteca \nAlle ore 16.00 balli di gruppo con Roberta Ferrara \nBar e negozi aperti con aperitivi\, cibo\, birra e tanto ancora \nDiretta radio e intrattenimento musicale con Radio Station One \nInfo: Pro Loco Talamona 333 1581646 \n 
URL:https://portedivaltellina.it/eventi/ul-di-la-noso/
END:VEVENT
BEGIN:VEVENT
DTSTART;TZID=Europe/Rome:20250904T110000
DTEND;TZID=Europe/Rome:20250904T120000
DTSTAMP:20260421T131507
CREATED:20250903T141452Z
LAST-MODIFIED:20250903T141452Z
UID:10006684-1756983600-1756987200@portedivaltellina.it
SUMMARY:Conferenza stampa Certificazione forestale
DESCRIPTION:PROGRAMMA \n\nAlle ore 11: l’esperienza del territorio\nAlle ore 11.20: la rilevanza delle relazioni locali nelle strategie di intervento\nAlle ore 11.30: sfide e opportunità della certificazione\nAlle ore 11.40: l’esperienza della certificazione e le evoluzioni nel tempo\nAlle ore 11.50: saluti finali\n\nClicca QUI per visualizzare la locandina ufficiale.
URL:https://portedivaltellina.it/eventi/conferenza-stampa-certificazione-forestale/
LOCATION:San Martino – Sala Beni Frazionali\, Via Carnevali\, Val Masino\, 23010\, Italia
END:VEVENT
BEGIN:VEVENT
DTSTART;TZID=Europe/Rome:20250904T203000
DTEND;TZID=Europe/Rome:20250904T213000
DTSTAMP:20260421T131507
CREATED:20250617T154128Z
LAST-MODIFIED:20250730T123621Z
UID:10006424-1757017800-1757021400@portedivaltellina.it
SUMMARY:Morbegno la sera è viva
DESCRIPTION:Morbegno racconta Guglielmo Felice Damiani: una passeggiata tra arte e poesia \nVisita guidata gratuita della durata di circa un’ora a cura di Valentina Menghi. \nRitrovo presso il cimitero di Morbegno\, per un percorso di circa 2 km. \nMaggiori informazioni: biblioteca@comune.morbegno.so.it – 0342 610323
URL:https://portedivaltellina.it/eventi/morbegno-la-sera-e-viva-40/
LOCATION:Morbegno – Cimitero\, Via San Martino\, Morbegno\, 23017\, Italia
END:VEVENT
BEGIN:VEVENT
DTSTART;VALUE=DATE:20250905
DTEND;VALUE=DATE:20250908
DTSTAMP:20260421T131507
CREATED:20250903T154003Z
LAST-MODIFIED:20250903T154003Z
UID:10006686-1757030400-1757289599@portedivaltellina.it
SUMMARY:Panta rei
DESCRIPTION:Avventura\, natura e divertimento! \nTre giorni di raduno di torrentismo \nVenerdì 5 settembre vieni a scoprire il canyoning: se sei anche solo curioso puoi assistere ad una presentazione di foto e video alla scoperta di questa affascinante attività! \n  \n  \n 
URL:https://portedivaltellina.it/eventi/panta-rei/
LOCATION:Delebio – Loc. Gera
END:VEVENT
BEGIN:VEVENT
DTSTART;VALUE=DATE:20250905
DTEND;VALUE=DATE:20250907
DTSTAMP:20260421T131507
CREATED:20250903T092038Z
LAST-MODIFIED:20250903T092038Z
UID:10006680-1757030400-1757203199@portedivaltellina.it
SUMMARY:Trofeo internazionale ginnastica ritmica
DESCRIPTION:A.S.D. VERA \norganizza il torneo internazionale di ginnastica ritmica \npresso il Polo Fieristico \nInfo: A.S.D.  V.E.R.A. 339 1375584 \n 
URL:https://portedivaltellina.it/eventi/trofeo-internazionale-ginnastica-ritmica/
LOCATION:Morbegno – Polo Fieristico\, Via Strada comunale di campagna\, 2
ORGANIZER;CN="A.S.D. V.E.R.A.":MAILTO:v.e.r.a.ginnastica@gmail.com
END:VEVENT
BEGIN:VEVENT
DTSTART;VALUE=DATE:20250905
DTEND;VALUE=DATE:20250908
DTSTAMP:20260421T131507
CREATED:20250814T131743Z
LAST-MODIFIED:20250819T075132Z
UID:10006647-1757030400-1757289599@portedivaltellina.it
SUMMARY:Festa di Paniga
DESCRIPTION:Tre giorni di pura festa con musica live\, dj set\, spettacoli\, eventi sportivi\, camminata\, area bimbi e tanto divertimento! \nVENERDÌ: Spritz party\, cena e a seguire musica dal vivoSABATO: Cena tipica\, orchestra dal vivo e dj setDOMENICA: Pomeriggio con gara di boscaioli\, banda musicale\, crossfit\, arrampicata\, camminata non competitiva e gran cena finale con musica live \nGonfiabili per bambini attivi tutti i giorni! \nPer ulteriori informazioni: prolocopaniga@gmail.com
URL:https://portedivaltellina.it/eventi/festa-di-paniga/
LOCATION:Paniga
END:VEVENT
BEGIN:VEVENT
DTSTART;TZID=Europe/Rome:20250905T200000
DTEND;TZID=Europe/Rome:20250905T220000
DTSTAMP:20260421T131507
CREATED:20250829T101643Z
LAST-MODIFIED:20250829T101643Z
UID:10006676-1757102400-1757109600@portedivaltellina.it
SUMMARY:Natura e benessere
DESCRIPTION:Bat-walk  – La notte prende vita!\n\nEVENTO RIMANDATAO A VENERDì 5 SETTEMBRE CAUSA MALTEMPO \nUn tuffo nel mistero della notte per esplorare il mondo dei pipistrelli insieme al naturalista Pietro Martinucci \nRicorda di portare una torcia \nEventi gratuiti aperti a tutti dai 6 anni \nPrenotazione obbligatoria fino ad esaurimento posti \nInfo e prenotazioni: 0344 84251 – 347 9291512 – info@piandispagna.it  \n  \n 
URL:https://portedivaltellina.it/eventi/natura-e-benessere-3/
LOCATION:Dubino – Fraz. Nuova Olonio – Via Casello sette
ORGANIZER;CN="Riserva Naturale del Pian di Spagna e Lago di Novate Mezzola":MAILTO:info@piandispagna.it
END:VEVENT
BEGIN:VEVENT
DTSTART;TZID=Europe/Rome:20250905T203000
DTEND;TZID=Europe/Rome:20250905T213000
DTSTAMP:20260421T131507
CREATED:20250617T154255Z
LAST-MODIFIED:20250730T123605Z
UID:10006425-1757104200-1757107800@portedivaltellina.it
SUMMARY:Morbegno la sera è viva
DESCRIPTION:Andar per piazze: un itinerario nel centro storico di Morbegno \nVisita guidata gratuita della durata di circa un’ora a cura di Renzo Fallati. \nRitrovo in Piazza III Novembre\, davanti al Bar Folcher. \nMaggiori informazioni: biblioteca@comune.morbegno.so.it – 0342 610323
URL:https://portedivaltellina.it/eventi/morbegno-la-sera-e-viva-41/
LOCATION:Morbegno – Piazza III Novembre\, Piazza III Novembre\, Morbegno\, 23017\, Italy
END:VEVENT
BEGIN:VEVENT
DTSTART;TZID=Europe/Rome:20250905T203000
DTEND;TZID=Europe/Rome:20250905T220000
DTSTAMP:20260421T131507
CREATED:20250827T142222Z
LAST-MODIFIED:20250827T142222Z
UID:10006668-1757104200-1757109600@portedivaltellina.it
SUMMARY:La fede nell'arte
DESCRIPTION:Presentazione del libro \nLa fede nell’arte in bassa Valtellina \ncon l’autrice Sonia Barini \nIngresso libero \nPrenota la tua copia: www.marcellopinizzottoeditore.it – soniabarini@gmail.com  \nInfo: www.evaltellina.com \n 
URL:https://portedivaltellina.it/eventi/la-fede-nellarte-2/
LOCATION:Morbegno – Palazzo Malacrida\, Via Malacrida
ORGANIZER;CN="Evaltellina":MAILTO:info@evaltellina.com
END:VEVENT
BEGIN:VEVENT
DTSTART;TZID=Europe/Rome:20250905T210000
DTEND;TZID=Europe/Rome:20250906T170000
DTSTAMP:20260421T131507
CREATED:20250820T081204Z
LAST-MODIFIED:20250820T083202Z
UID:10006651-1757106000-1757178000@portedivaltellina.it
SUMMARY:Il 5° Alpini
DESCRIPTION:Il raduno del 5° Alpini torna Morbegno  \nProgramma: \nVenerdì: ore 21.00 Relazione pubblica dal titolo “Gli Alpini del 5° oggi”. \nSabato: ore 11.00 Ritrovo in Piazza San Giovanni per l’ammassamento\, seguito da alzabandiera\, deposizione della corona al monumento ai Caduti\, sfilamento del corteo\, concerto e discorsi ufficiali. \nInfo: Associazione Nazionale Alpini Tel. 0262410200
URL:https://portedivaltellina.it/eventi/il-5-alpini/
LOCATION:Morbegno
ORGANIZER;CN="Gruppo Alpini Morbegno":MAILTO:morbegno.valtellinese@ana.it
END:VEVENT
BEGIN:VEVENT
DTSTART;VALUE=DATE:20250906
DTEND;VALUE=DATE:20250907
DTSTAMP:20260421T131507
CREATED:20250808T100125Z
LAST-MODIFIED:20250808T100125Z
UID:10006632-1757116800-1757203199@portedivaltellina.it
SUMMARY:Con le guide sulle montagne di Lombardia
DESCRIPTION:Festa delle guide in Val Masino \nProgramma: \n\nEscursione alla cascata del Ferro\nEscursione in Val di Mello\nArrampicata nell’area del Sasso Remenno\nPercorso avventura Sentiero dei Ciclopi\n\nIn caso di maltempo la festa verrà rinviata a sabato 20 settembre. \nPer info e prenotazioni www.guidealpine.lombardia.it \n 
URL:https://portedivaltellina.it/eventi/con-le-guide-sulle-montagne-di-lombardia/
LOCATION:Val Masino
END:VEVENT
BEGIN:VEVENT
DTSTART;VALUE=DATE:20250906
DTEND;VALUE=DATE:20250908
DTSTAMP:20260421T131507
CREATED:20250703T090447Z
LAST-MODIFIED:20250703T090454Z
UID:10006477-1757116800-1757289599@portedivaltellina.it
SUMMARY:Orobie in cartolina
DESCRIPTION:Mostra collezionistica  \n\nSabato 6\n\nLuca Ruffoni e Luca Villa raccontano \nMomenti di montagna 100 anni fa  \nIngresso libero \nInfo: www.evaltellina.com
URL:https://portedivaltellina.it/eventi/orobie-in-cartolina/
LOCATION:Rasura – Polifunzionale\, Via Ticc\, 1
ORGANIZER;CN="Evaltellina":MAILTO:info@evaltellina.com
END:VEVENT
BEGIN:VEVENT
DTSTART;TZID=Europe/Rome:20250906T100000
DTEND;TZID=Europe/Rome:20250907T180000
DTSTAMP:20260421T131507
CREATED:20250805T083734Z
LAST-MODIFIED:20250805T083734Z
UID:10006612-1757152800-1757268000@portedivaltellina.it
SUMMARY:Arriva lo sbaracco
DESCRIPTION:2ª edizione \nLungo le vie del centro storico di Morbegno con bancarelle\, musica\, balli e molto altro! \nInoltre debutta lo “Sbaracco young” dedicato ai bambini. \nInfo: info@prolocomorbegno.it  – 39 351 5817328
URL:https://portedivaltellina.it/eventi/arriva-lo-sbaracco/
LOCATION:Morbegno
ORGANIZER;CN="Proloco Morbegno":MAILTO:info@prolocomorbegno.it
END:VEVENT
BEGIN:VEVENT
DTSTART;TZID=Europe/Rome:20250906T103000
DTEND;TZID=Europe/Rome:20250913T190000
DTSTAMP:20260421T131507
CREATED:20250904T095902Z
LAST-MODIFIED:20250904T095902Z
UID:10006687-1757154600-1757790000@portedivaltellina.it
SUMMARY:Di rose e di spine
DESCRIPTION:Mostra artistica \nIn occasione dell’annuale appuntamento con Tango festival\, esposizione artistica di illustrazioni e grafiche di \nDonatella De Rosa e DoraPoi \na cura di Iacopo Pesenti \nInaugurazione sabato 6 settembre ore 17.30 \n Orari: \n\nsabato 10.30-12.30/15.00-23.00\ndomenica 10.30-12.30/15.00-19.00\nferiali su prenotazione\n\nIngresso libero \nInfo e prenotazioni: 339 4644689 \n 
URL:https://portedivaltellina.it/eventi/di-rose-e-di-spine/
LOCATION:Morbegno – Sant’Antonio\, Piazza Sant'Antonio\, Morbegno\, 23017\, Italia
END:VEVENT
BEGIN:VEVENT
DTSTART;TZID=Europe/Rome:20250906T150000
DTEND;TZID=Europe/Rome:20250907T180000
DTSTAMP:20260421T131507
CREATED:20250704T101711Z
LAST-MODIFIED:20250704T101711Z
UID:10006491-1757170800-1757268000@portedivaltellina.it
SUMMARY:Ci vediamo al museo
DESCRIPTION:Apertura estiva  \n“La casa del Tempo” e “La nostra storia” a Gerola Alta \n“La quadreria” a Sacco \nI sabato e la domenica dalle 15.00 alle 18.00 \nIngresso con offerta libera \nInfo: info@valgerolaonline.it – 393 8644223 \n 
URL:https://portedivaltellina.it/eventi/ci-vediamo-al-museo/2025-09-06/
LOCATION:Gerola Alta
ORGANIZER;CN="Ecomuseo della Valgerola":MAILTO:info@valgerolaonline.it
END:VEVENT
BEGIN:VEVENT
DTSTART;TZID=Europe/Rome:20250906T170000
DTEND;TZID=Europe/Rome:20250906T230000
DTSTAMP:20260421T131507
CREATED:20250904T101243Z
LAST-MODIFIED:20250904T101243Z
UID:10006688-1757178000-1757199600@portedivaltellina.it
SUMMARY:Tombolata
DESCRIPTION:….aspettando la Rosetta Skyrace \nTombolata di beneficenza \nPROGRAMMA: \n\nore 17.00 – 18.45 consegna pettorali di gara\nore 20.45 Momenti di montagna 100 anni fa: racconti di Luca Ruffoni e Luca Villa\nore 21.30 tombolata di beneficenza con numerosi premi in palio!\n\nL’intero ricavato sarà devoluto alla ricerca sul melanoma e all’associazione “Siro Mauro” per le cure palliative in provincia di Sondrio \nSabato 6 e domenica 7 mostra collezionistica “Orobie in cartolina” \nInfo: info@sportracevaltellina.info 
URL:https://portedivaltellina.it/eventi/tombolata-2/
LOCATION:Rasura – Polifunzionale\, Via Ticc\, 1
END:VEVENT
BEGIN:VEVENT
DTSTART;TZID=Europe/Rome:20250906T170000
DTEND;TZID=Europe/Rome:20250907T150000
DTSTAMP:20260421T131507
CREATED:20250825T151923Z
LAST-MODIFIED:20250825T151923Z
UID:10006661-1757178000-1757257200@portedivaltellina.it
SUMMARY:International Rosetta Skyrace 
DESCRIPTION:Programma: \nSabato 6 settembre  \n\nOre 17:00 – 18:45 Consegna pettorale di gara\nOre 20:45 Momenti di Montagna 100 anni fa\nOre 21:30 Tombolata di beneficienza\n\nDomenica 7 settembre \n\nOre 8:30 Partenza\nOre 10:00 Arrivo primi concorrenti\nOre 11:45 Pranzo con prodotti tipici locali\nOre 14:45 Premiazioni\n\nInfo: info@valgerolaonline.it – Tel. 393 864 42 23
URL:https://portedivaltellina.it/eventi/international-rosetta-skyrace/
LOCATION:Rasura
END:VEVENT
BEGIN:VEVENT
DTSTART;TZID=Europe/Rome:20250906T180000
DTEND;TZID=Europe/Rome:20250906T190000
DTSTAMP:20260421T131507
CREATED:20250617T154410Z
LAST-MODIFIED:20250730T123551Z
UID:10006426-1757181600-1757185200@portedivaltellina.it
SUMMARY:Morbegno la sera è viva
DESCRIPTION:La Guerra dei Trent’anni a Morbegno: la spedizione del duca di Rohan \nVisita guidata gratuita della durata di circa un’ora a cura di Paola Passerini e Mauro Orlandi. \nRitrovo presso il Santuario dell’Assunta. \nMaggiori informazioni: biblioteca@comune.morbegno.so.it – 0342 610323
URL:https://portedivaltellina.it/eventi/morbegno-la-sera-e-viva-42/
LOCATION:Morbegno – Santuario dell’Assunta
END:VEVENT
BEGIN:VEVENT
DTSTART;TZID=Europe/Rome:20250906T210000
DTEND;TZID=Europe/Rome:20250906T230000
DTSTAMP:20260421T131507
CREATED:20250903T123936Z
LAST-MODIFIED:20250903T123936Z
UID:10006683-1757192400-1757199600@portedivaltellina.it
SUMMARY:Alpi Sonanti
DESCRIPTION:La Rosa dei venti \nBorea e la sciolta chioma\, da dove approdano i carri trainati dai cigni \nNicolò Cafaro al pianoforte \nIngresso con offerta libera. \nIn caso di maltempo l’evento si terrà all’intero dell’Auditorium. \nMaggiori informazioni: info@seratemusicali.net – +39 347 4370595
URL:https://portedivaltellina.it/eventi/alpi-sonanti/
LOCATION:Morbegno – Chiostro di Sant’Antonio
ORGANIZER;CN="Associazione Serate Musicali":MAILTO:info@seratemusicali.net
END:VEVENT
BEGIN:VEVENT
DTSTART;TZID=Europe/Rome:20250907T143000
DTEND;TZID=Europe/Rome:20250907T180000
DTSTAMP:20260421T131507
CREATED:20250819T074739Z
LAST-MODIFIED:20250819T074739Z
UID:10006648-1757255400-1757268000@portedivaltellina.it
SUMMARY:Camminata della Gioia
DESCRIPTION: 34ª Festa di Paniga\, Camminata non competitiva \nPercorsi disponibili: \n\n7 km (percorso lungo)\n4 km (percorso corto)\n\nProgramma della giornata: \n\nOre 14:30 – Ritrovo e iscrizioni presso il campo sportivo di Paniga\nOre 15:30 – Partenza della camminata\nOre 17:00 – Premiazioni\n\nQuota di iscrizione: € 10\,00 La manifestazione si terrà anche in caso di maltempo. \nIl ricavato sarà desstinato al Gruppo della Gioia di Talamona \nPer ulteriori informazioni: prolocopaniga@gmail.com
URL:https://portedivaltellina.it/eventi/camminata-della-gioia/
LOCATION:Paniga
END:VEVENT
BEGIN:VEVENT
DTSTART;TZID=Europe/Rome:20250907T150000
DTEND;TZID=Europe/Rome:20250907T170000
DTSTAMP:20260421T131507
CREATED:20250801T125839Z
LAST-MODIFIED:20250801T125839Z
UID:10006603-1757257200-1757264400@portedivaltellina.it
SUMMARY:Passeggiata con gusto
DESCRIPTION:Passeggiate in Valgerola \nDomenica 7 settembre – ore 15.00 \n\nPasseggiata con gusto\n\nVisita al centro storica di Gerola con degustazione finale. \nRitrovo all’Infopoint \nSi consiglia la prenotazione presso l’infopoint \nOfferta libera \nInfo: 393 8644223
URL:https://portedivaltellina.it/eventi/passeggiata-con-gusto-3/
LOCATION:Gerola Alta – Infopoint
ORGANIZER;CN="Ecomuseo della Valgerola":MAILTO:info@valgerolaonline.it
END:VEVENT
END:VCALENDAR