BEGIN:VCALENDAR
VERSION:2.0
PRODID:-//Porte di Valtellina - ECPv6.15.20//NONSGML v1.0//EN
CALSCALE:GREGORIAN
METHOD:PUBLISH
X-ORIGINAL-URL:https://portedivaltellina.it
X-WR-CALDESC:Eventi per Porte di Valtellina
REFRESH-INTERVAL;VALUE=DURATION:PT1H
X-Robots-Tag:noindex
X-PUBLISHED-TTL:PT1H
BEGIN:VTIMEZONE
TZID:Europe/Rome
BEGIN:DAYLIGHT
TZOFFSETFROM:+0100
TZOFFSETTO:+0200
TZNAME:CEST
DTSTART:20240331T010000
END:DAYLIGHT
BEGIN:STANDARD
TZOFFSETFROM:+0200
TZOFFSETTO:+0100
TZNAME:CET
DTSTART:20241027T010000
END:STANDARD
BEGIN:DAYLIGHT
TZOFFSETFROM:+0100
TZOFFSETTO:+0200
TZNAME:CEST
DTSTART:20250330T010000
END:DAYLIGHT
BEGIN:STANDARD
TZOFFSETFROM:+0200
TZOFFSETTO:+0100
TZNAME:CET
DTSTART:20251026T010000
END:STANDARD
BEGIN:DAYLIGHT
TZOFFSETFROM:+0100
TZOFFSETTO:+0200
TZNAME:CEST
DTSTART:20260329T010000
END:DAYLIGHT
BEGIN:STANDARD
TZOFFSETFROM:+0200
TZOFFSETTO:+0100
TZNAME:CET
DTSTART:20261025T010000
END:STANDARD
END:VTIMEZONE
BEGIN:VEVENT
DTSTART;VALUE=DATE:20250927
DTEND;VALUE=DATE:20250928
DTSTAMP:20260423T174249
CREATED:20250723T152657Z
LAST-MODIFIED:20250723T152657Z
UID:10006563-1758931200-1759017599@portedivaltellina.it
SUMMARY:CulturStrike25
DESCRIPTION:Be smart be aware \nDue giornate di conferenze. La manifestazione affronta temi culturali legati alla “Cultura della Difesa”\, con uno sguardo rivolto alla tecnologia e all’innovazione. Un’occasione per stimolare il dialogo tra scuola\, imprese e cittadinanza. \nPROGRAMMA \n\nDigitalShields: sfide e opportunità di carriera nella cybersicurezza\nCyber Defense: AI\, crittografia quantistica\, normative ed opportunità per le imprese\nItaliani nello spazio: eccellenza extra atmosferica\n\nOrario delle conferenze: dalle ore 9.30 alle ore 12.30\, dalle ore 15.30 alle ore 18.30\, dalle ore 21 alle ore 23.30. \nMaggiori informazioni: info@eventsengineering.com – www.culturstrike.it – +39 366 3321285
URL:https://portedivaltellina.it/eventi/culturstrike25/
LOCATION:Morbegno – Auditorium S. Antonio\, Piazza S. Antonio\, 23017\, Italia
END:VEVENT
BEGIN:VEVENT
DTSTART;TZID=Europe/Rome:20250927T094500
DTEND;TZID=Europe/Rome:20250927T170000
DTSTAMP:20260423T174249
CREATED:20250905T123925Z
LAST-MODIFIED:20250905T123925Z
UID:10006694-1758966300-1758992400@portedivaltellina.it
SUMMARY:Sentieri danzanti
DESCRIPTION:Escursione e pratiche artistiche sull’Alpe Pedroria \nUn alpeggio abbandonato\, silente memoria di un tempo che fu \nAttività a pagamento con prenotazione obbligatoria \nInfo e prenotazioni: Guida Parco Giorgio Tanzi 340 7054267 – Performance Erica Meucci 333 567765
URL:https://portedivaltellina.it/eventi/sentieri-danzanti/
LOCATION:Alpe Pedroria\, Talamona\, 23018\, Italia
END:VEVENT
BEGIN:VEVENT
DTSTART;TZID=Europe/Rome:20250927T140000
DTEND;TZID=Europe/Rome:20250927T193000
DTSTAMP:20260423T174249
CREATED:20250923T101119Z
LAST-MODIFIED:20250923T101119Z
UID:10006739-1758981600-1759001400@portedivaltellina.it
SUMMARY:Talamona vive
DESCRIPTION:Alla scoperta di Talamona \nper un turismo che non consuma ma racconta \nStorie\, suoni e sapori del nostro patrimonio \n\nDalle 14.00 alle 17.00\nBiblioteca\n\nINGRESSO LIBERO \nConcerto del Coro Valtellina  \n\nAlle ore 18.00\nal Curtìf di Mazzun (Cortile Mazzoni) in Via Mazzoni\n\nInfo: www.valtellinavirtual.org  \n 
URL:https://portedivaltellina.it/eventi/talamona-vive/
LOCATION:Talamona – Biblioteca Comunale Ines Busnarda Luzzi\, Via Don Cusini\, 49\, Talamona\, 23018\, Italia
END:VEVENT
BEGIN:VEVENT
DTSTART;TZID=Europe/Rome:20250927T150000
DTEND;TZID=Europe/Rome:20250927T163000
DTSTAMP:20260423T174249
CREATED:20250806T101850Z
LAST-MODIFIED:20250806T101850Z
UID:10006623-1758985200-1758990600@portedivaltellina.it
SUMMARY:Museo in famiglia
DESCRIPTION:Architetture\, L’arte di costruire \nIn occasione delle Giornate Europee del Patrimonio (GEP)\, scopriamo chi sono i più grandi bioarchitetti del pianeta. \nAttività\, su prenotazione e a numero chiuso\, per famiglie con bambini da 5 a 11 anni – Costo 3 euro cad. \nMaggiori informazioni: segreteriaventiventiaps@gmail.com – 3381702694 (wa) \nIscrizioni dei bimbi e degli adulti accompagnatori\, entro le 16.00 di venerdì 26 settembre   sul sito museostorianaturale.it
URL:https://portedivaltellina.it/eventi/museo-in-famiglia/
LOCATION:Morbegno – Museo Civico di Storia naturale\, Via Cortivacci\, 2\, Italia
END:VEVENT
BEGIN:VEVENT
DTSTART;TZID=Europe/Rome:20250927T150000
DTEND;TZID=Europe/Rome:20250927T200000
DTSTAMP:20260423T174249
CREATED:20250923T142352Z
LAST-MODIFIED:20250923T142352Z
UID:10006738-1758985200-1759003200@portedivaltellina.it
SUMMARY:I giovani e il lavoro che cambia
DESCRIPTION:Giornata di incontri e intrattenimento \nAperto a tutti \nProgramma: \n\n15:30 Dialogo con gli esperti con l’aiuto di testi\, performance teatrali\, dati\n17:00 Momento partecipativo\n18:30 Momento di confronto\n19:00 Aperitivo e musica dal vivo\n\nAttività: \n\nPerformance teatrale con Elena Riva\nLaboratori e Workshop con Alberto Vedovatti\nMusica con i Locomotion\n\nPrenotazione consigliata tramite QR code sulla locandina o al numero +39 334 9978388 \n  \n  \n  \n 
URL:https://portedivaltellina.it/eventi/i-giovani-e-il-lavoro-che-cambia/
LOCATION:Talamona – Oratorio\, Via Gavazzeni\, 21\, Talamona\, 23018\, Italy
ORGANIZER;CN="ACLI Talamona":MAILTO:circoloacli.talamona@gmail.com
END:VEVENT
BEGIN:VEVENT
DTSTART;TZID=Europe/Rome:20250928T093000
DTEND;TZID=Europe/Rome:20250928T170000
DTSTAMP:20260423T174249
CREATED:20250909T140449Z
LAST-MODIFIED:20250909T140449Z
UID:10006703-1759051800-1759078800@portedivaltellina.it
SUMMARY:Architetture: l'arte di costruire
DESCRIPTION:Giornate europee del patrimonio \nEscursione dedicata alle architetture rurali per scoprire le tradizioni e le storie di comunità e di vita alpina. \n\nOre 9.30 partenza con la guida dalla Porta del Parco fino a Dosso Chierico.\nOre 13.00 rientro\nA seguire pranzo alpino e visita del Museo della Porta del Parco\n\nDislivello +210 m. \nEscursione adatta a tutti \nInfo e iscrizioni: 339 8314467 – info@ecomuseoalbaredo.it
URL:https://portedivaltellina.it/eventi/architetture-larte-di-costruire/
LOCATION:Albaredo per San Marco\, Ul Salòt di Bariloc'
ORGANIZER;CN="Ecomuseo Valli del Bitto":MAILTO:ecomuseo@vallidelbitto.it
END:VEVENT
BEGIN:VEVENT
DTSTART;TZID=Europe/Rome:20251002T200000
DTEND;TZID=Europe/Rome:20251002T220000
DTSTAMP:20260423T174249
CREATED:20250925T090609Z
LAST-MODIFIED:20250925T090609Z
UID:10006748-1759435200-1759442400@portedivaltellina.it
SUMMARY:Festa dell'angelo custode
DESCRIPTION:Contrada Scimicà \nTradizionale festa della contrada \nPROGRAMMA: \n\nOre 20.00 S.Messa nella chiesa dell’Angelo Custode\nOre 20.45 Castagnata\, giochi e musica in Piazza 3 Fontane\n\nPROGRAMMA GIOCHI: \n\nOre 20.30 Iscrizioni\nOre 20.45 Corsa delle carriole (dai 3 ai 5 anni)\nOre 21.15 Corsa coi sacchi (dai 6 ai 10 anni)\nOre 21.30 Tiro alla fune e giochi “di una volta”\n\nIscrizione ai giochi richiedendo il modulo a \nIn caso di maltempo la manifestazione sarà rimandata al giorno successivo \n 
URL:https://portedivaltellina.it/eventi/festa-dellangelo-custode/
LOCATION:Morbegno – Contrada Scimicà
END:VEVENT
BEGIN:VEVENT
DTSTART;TZID=Europe/Rome:20251003T200000
DTEND;TZID=Europe/Rome:20251003T220000
DTSTAMP:20260423T174249
CREATED:20250924T081923Z
LAST-MODIFIED:20250924T081923Z
UID:10006744-1759521600-1759528800@portedivaltellina.it
SUMMARY:Camminata in rosa
DESCRIPTION:Uniti per la prevenzione \nTorna l’ottobre in rosa per sensibilizzare contro il tumore al seno \n\nOre 20.00 ritrovo presso l’area Proloco e iscrizione\nOre 20.30 partenza per un percorso di circa 4 Km fra le vie del paese con al termine ristoro e accompagnamento musicale\n\nAPERTO A TUTTI \nSiete invitati ad illuminare le vie del paese ed indossare qualcosa di luminoso e colorato. \nPossibilità di acquistare bulbi di tulipano. \nLa manifestazione si terrà anche in caso di pioggia \n 
URL:https://portedivaltellina.it/eventi/camminata-in-rosa/
LOCATION:Delebio – Loc. Gera
ORGANIZER;CN="Pro Loco Delebio":MAILTO:prolocodelebio@libero.it
END:VEVENT
BEGIN:VEVENT
DTSTART;VALUE=DATE:20251004
DTEND;VALUE=DATE:20251005
DTSTAMP:20260423T174249
CREATED:20250723T152835Z
LAST-MODIFIED:20250723T152835Z
UID:10006564-1759536000-1759622399@portedivaltellina.it
SUMMARY:CulturStrike25
DESCRIPTION:Be smart be aware \nDue giornate di conferenze. La manifestazione affronta temi culturali legati alla “Cultura della Difesa”\, con uno sguardo rivolto alla tecnologia e all’innovazione. Un’occasione per stimolare il dialogo tra scuola\, imprese e cittadinanza. \nPROGRAMMA \n\nEnergia\, sicurezza e prosperità: il futuro energetico italiano e opportunità di carriera\nItalia e Mediterraneo allargato: strategie per la sicurezza energetica e l’innovazione\nVivere tra gli “inganni non ingannati”: la manipolazione della mente nell’era delle informazioni\n\nOrario delle conferenze: dalle ore 9.30 alle ore 12.30\, dalle ore 15.30 alle ore 18.30\, dalle ore 21 alle ore 23.30. \nMaggiori informazioni: info@eventsengineering.com – www.culturstrike.it – +39 366 3321285
URL:https://portedivaltellina.it/eventi/culturstrike25-2/
LOCATION:Morbegno – Auditorium S. Antonio\, Piazza S. Antonio\, 23017\, Italia
END:VEVENT
BEGIN:VEVENT
DTSTART;VALUE=DATE:20251004
DTEND;VALUE=DATE:20251006
DTSTAMP:20260423T174249
CREATED:20250919T081518Z
LAST-MODIFIED:20250919T081518Z
UID:10006712-1759536000-1759708799@portedivaltellina.it
SUMMARY:Sagra della Castagna
DESCRIPTION:Torna la sagra del frutto autunnale per eccellenza. \n2 giorni di festa con piatti a base di castagne e prodotti locali. \nMusica dal vivo\, balli\, e dj set. \nInoltre mercatini\, escursioni e attività collaterali. \nInfo: Pro Loco Rasura e Mellarolo 0342 616073  – prolocorasura@waltellina.it  – info@valgerolaonline.it – 393 8644223
URL:https://portedivaltellina.it/eventi/sagra-della-castagna/
LOCATION:Rasura – Polifunzionale\, Via Ticc\, 1
ORGANIZER;CN="Proloco Rasura Mellarolo":MAILTO:prolocorasura@waltellina.it
END:VEVENT
BEGIN:VEVENT
DTSTART;VALUE=DATE:20251004
DTEND;VALUE=DATE:20251006
DTSTAMP:20260423T174249
CREATED:20250919T143824Z
LAST-MODIFIED:20250919T143824Z
UID:10006735-1759536000-1759708799@portedivaltellina.it
SUMMARY:Sotto una coperta di stelle
DESCRIPTION:Escursione con le guide del Parco delle Orobie Valtellinesi \n2 giorni alla scoperta della Valle dello Storico Ribelle con le sue peculiarità ambientali\, antropiche e il suo cielo \ncon la guida parco Elsa Giumelli e un esperto astrofilo. \nInfo\, costi e iscrizioni: Elsa Giumelli 333 3435997
URL:https://portedivaltellina.it/eventi/sotto-una-coperta-di-stelle/
LOCATION:Valle del Bitto di Albaredo
END:VEVENT
BEGIN:VEVENT
DTSTART;TZID=Europe/Rome:20251004T143000
DTEND;TZID=Europe/Rome:20251004T170000
DTSTAMP:20260423T174249
CREATED:20250927T100035Z
LAST-MODIFIED:20251008T082226Z
UID:10006667-1759588200-1759597200@portedivaltellina.it
SUMMARY:Natura e benessere
DESCRIPTION:Dipingiamo la natura\n\nEsplora le tecniche dell’acquarello insieme all’illustratrice Beatrice Scaramella \nEsprimi la tua creatività! \nEventi gratuiti aperti a tutti dai 6 anni \nPrenotazione obbligatoria fino ad esaurimento posti \nInfo e prenotazioni: 0344 84251 – 347 9291512 – info@piandispagna.it  \n  \n 
URL:https://portedivaltellina.it/eventi/natura-e-benessere-2-3/
LOCATION:Dubino – Fraz. Nuova Olonio – Via Casello sette
ORGANIZER;CN="Riserva Naturale del Pian di Spagna e Lago di Novate Mezzola":MAILTO:info@piandispagna.it
END:VEVENT
BEGIN:VEVENT
DTSTART;TZID=Europe/Rome:20251004T160000
DTEND;TZID=Europe/Rome:20251004T220000
DTSTAMP:20260423T174249
CREATED:20250801T131702Z
LAST-MODIFIED:20251001T140223Z
UID:10006758-1759593600-1759615200@portedivaltellina.it
SUMMARY:Morbegno in cantina 2025
DESCRIPTION:Torna il tanto atteso evento autunnale per gli amanti del buon vino \ne delle tipicità locali nelle caratteristiche cantine di Morbegno \nTre weekend \n\n 27 e  28 settembre\n4 e  5 ottobre\n11 e 12 ottobre\n\nApertura delle cantine:  \n\ndalle ore 16.00 alle ore 22.00 il sabato\ndalle ore 12.00 alle ore 18.00 la domenica\n\nQuattro giri:  \n\nGiro Rosso: Nebbiolo di carattere\, dal vitignolo al bicchiere.\nGiro Bolle\, Bianchi e Rossi: per chi flirta con il bianco\, ma ama il rosso.\nGiro Oro ’26: calici da standing ovation\nGiro Rock: nebbiolo alternativo e calici fuori scala\n\nScopri tutte le novità e acquista il tuo pass direttamente sul sito www.morbegnoincantina.info \nInfo: Consorzio turistico Porte di Valtellina 0342 601140 – cantine@portedivaltellina.it  \n 
URL:https://portedivaltellina.it/eventi/morbegno-in-cantina-2025/2025-10-04/
LOCATION:Morbegno
END:VEVENT
BEGIN:VEVENT
DTSTART;TZID=Europe/Rome:20251005T120000
DTEND;TZID=Europe/Rome:20251006T180000
DTSTAMP:20260423T174249
CREATED:20250801T131702Z
LAST-MODIFIED:20251001T140223Z
UID:10006760-1759665600-1759773600@portedivaltellina.it
SUMMARY:Morbegno in cantina 2025
DESCRIPTION:Torna il tanto atteso evento autunnale per gli amanti del buon vino \ne delle tipicità locali nelle caratteristiche cantine di Morbegno \nTre weekend \n\n 27 e  28 settembre\n4 e  5 ottobre\n11 e 12 ottobre\n\nApertura delle cantine:  \n\ndalle ore 16.00 alle ore 22.00 il sabato\ndalle ore 12.00 alle ore 18.00 la domenica\n\nQuattro giri:  \n\nGiro Rosso: Nebbiolo di carattere\, dal vitignolo al bicchiere.\nGiro Bolle\, Bianchi e Rossi: per chi flirta con il bianco\, ma ama il rosso.\nGiro Oro ’26: calici da standing ovation\nGiro Rock: nebbiolo alternativo e calici fuori scala\n\nScopri tutte le novità e acquista il tuo pass direttamente sul sito www.morbegnoincantina.info \nInfo: Consorzio turistico Porte di Valtellina 0342 601140 – cantine@portedivaltellina.it  \n 
URL:https://portedivaltellina.it/eventi/morbegno-in-cantina-2025/2025-10-05/
LOCATION:Morbegno
END:VEVENT
BEGIN:VEVENT
DTSTART;TZID=Europe/Rome:20251005T140000
DTEND;TZID=Europe/Rome:20251005T170000
DTSTAMP:20260423T174249
CREATED:20251002T073721Z
LAST-MODIFIED:20251002T073721Z
UID:10006764-1759672800-1759683600@portedivaltellina.it
SUMMARY:Castagnata a Lavisolo
DESCRIPTION:Giornata in compagnia \nPROGRAMMA: \n\nOre 14.00 Consegna delle castagne\nOre 14.30 Giochi in legno con l’associazione Il Tarlo e dimostrazione di tiro con l’arco\nOre 16.00 Castagne e frittelle\n\nRaggiungi Lavisolo a piedi lungo queste tappe: Chiesa della Sirta – La Caurga palestra di roccia – Prim Gisòol – Lavisolo \nLa località è raggiungibile anche in auto da Salvetta senza permesso \nInfo: info@prolocoforcola.it 
URL:https://portedivaltellina.it/eventi/castagnata-a-lavisolo/
LOCATION:Forcola – Loc. Lavisolo
END:VEVENT
BEGIN:VEVENT
DTSTART;TZID=Europe/Rome:20251005T153000
DTEND;TZID=Europe/Rome:20251005T183000
DTSTAMP:20260423T174249
CREATED:20251001T154652Z
LAST-MODIFIED:20251001T154652Z
UID:10006763-1759678200-1759689000@portedivaltellina.it
SUMMARY:Swap party
DESCRIPTION:Torna lo scambio antispreco autunnale \nPuoi portare abiti da uomo\, donna o bambino\, accessori e giocattoli e scambiarli con altri. \nMassimo 5 oggetti per categoria \nI capi non scambiati potranno essere ritirati dai proprietari o andranno in beneficenza. \nSiete tutti invitati!
URL:https://portedivaltellina.it/eventi/swap-party-3/
LOCATION:Morbegno – giardini Cortivacci\, Via Rivolta
END:VEVENT
BEGIN:VEVENT
DTSTART;TZID=Europe/Rome:20251005T163000
DTEND;TZID=Europe/Rome:20251005T180000
DTSTAMP:20260423T174249
CREATED:20250924T085001Z
LAST-MODIFIED:20250924T085001Z
UID:10006745-1759681800-1759687200@portedivaltellina.it
SUMMARY:Yoga insieme
DESCRIPTION:Uniti per la prevenzione \nTorna l’ottobre in rosa per sensibilizzare contro il tumore al seno \nLezione di Yoga per ragazze e donne con Giulia Fumagalli \n\nDalle ore 16.30 alle 17.30\nPrenotazione obbligatoria\nPorta un tappetino e una coperta\n\nA seguire rinfresco per tutti \nOFFERTA LIBERA: l’intero ricavato sarà devoluto alla associazione Amazzoni \nInfo e prenotazioni (solo WA): 346 5341739 \n  \n 
URL:https://portedivaltellina.it/eventi/yoga-insieme/
LOCATION:Andalo Valtellino – Auditorium\, Via alla Chiesa\, 1\, Andalo Valtellino\, 23014\, Italia
ORGANIZER;CN="Pro Loco Delebio":MAILTO:prolocodelebio@libero.it
END:VEVENT
BEGIN:VEVENT
DTSTART;TZID=Europe/Rome:20251006T203000
DTEND;TZID=Europe/Rome:20251006T220000
DTSTAMP:20260423T174249
CREATED:20250929T144704Z
LAST-MODIFIED:20250929T144704Z
UID:10006754-1759782600-1759788000@portedivaltellina.it
SUMMARY:L’oppressione e la resistenza nell’Iran dello Scià
DESCRIPTION:2° incontro culturale sul cinema \n Mattia Corbellini presenta: L’oppressione e la resistenza nell’Iran dello Scià nel cinema di Masoud Kimiai \nIngresso libero \nInfo: 0342 684564 – biblioteca.delebio@gmail.com \n 
URL:https://portedivaltellina.it/eventi/loppressione-e-la-resistenza-nelliran-dello-scia/
LOCATION:Delebio – Biblioteca Comunale
ORGANIZER;CN="Biblioteca di Delebio":MAILTO:biblioteca.delebio@gmail.com
END:VEVENT
BEGIN:VEVENT
DTSTART;TZID=Europe/Rome:20251008T183000
DTEND;TZID=Europe/Rome:20251008T203000
DTSTAMP:20260423T174249
CREATED:20250927T104355Z
LAST-MODIFIED:20250927T104407Z
UID:10006753-1759948200-1759955400@portedivaltellina.it
SUMMARY:Arz-up
DESCRIPTION:Gara vertical notturna a scopo benefico \nPROGRAMMA: \n\nOre 18.30 ritrovo al Bar Tavernetta per la distribuzione pettorali\nOre 20.00 partenza gara in linea\nAll’arrivo panino con salsiccia e bibita per tutti i partecipanti e premiazioni al campo sportivo di Arzo\n\nDistanza 2\,4 Km – Dislivello + 455 m. \n Iscrizione:  € 10\,00 entro lunedì 6 ore 22.00 \nObbligatoria lampada frontale\, vietato l’uso dei bastoncini. \nIn caso di maltempo la gara sarà rinviata a giovedì 9. \nInfo e iscrizioni: www.teamvaltellina.com – iscrizioni@teamvaltellina.com
URL:https://portedivaltellina.it/eventi/arz-up/
LOCATION:Morbegno
END:VEVENT
BEGIN:VEVENT
DTSTART;VALUE=DATE:20251011
DTEND;VALUE=DATE:20251012
DTSTAMP:20260423T174249
CREATED:20250919T154300Z
LAST-MODIFIED:20250919T154300Z
UID:10006736-1760140800-1760227199@portedivaltellina.it
SUMMARY:L’autunno ai laghi di porcile
DESCRIPTION:Escursione naturalistica e fotografica in Val Tartano \nUn anello tra sentieri\, laghi\, panorami e larici\, fino ai laghi di Porcile e al Passo Tartano per catturare i primi colori dell’autunno \nMerenda al rifugio Il Pirata. \nInfo\, costi e iscrizioni: Guida parco Davide Adamo 347 3863474 \n 
URL:https://portedivaltellina.it/eventi/lautunno-ai-laghi-di-porcile/
LOCATION:Val Tartano
END:VEVENT
BEGIN:VEVENT
DTSTART;VALUE=DATE:20251011
DTEND;VALUE=DATE:20251012
DTSTAMP:20260423T174249
CREATED:20250725T071409Z
LAST-MODIFIED:20250725T071513Z
UID:10006575-1760169600-1760202000@portedivaltellina.it
SUMMARY:Mercatino hobbisti
DESCRIPTION:Ogni 2° sabato del mese \nnei giardinetti della Biblioteca Civica \na Morbegno
URL:https://portedivaltellina.it/eventi/mercatino-hobbisti-2/2025-10-11/
LOCATION:Morbegno – Biblioteca Civica Ezio Vanoni\, Via Cortivacci\, 4\, 23017
END:VEVENT
BEGIN:VEVENT
DTSTART;TZID=Europe/Rome:20251011T090000
DTEND;TZID=Europe/Rome:20251011T150000
DTSTAMP:20260423T174249
CREATED:20251002T084047Z
LAST-MODIFIED:20251008T080617Z
UID:10006765-1760173200-1760194800@portedivaltellina.it
SUMMARY:Fiera del bestiame
DESCRIPTION:Mostra provinciale giovane bestiame di razza bruna  \nPROGRAMMA: \n\nDalle ore 9.00 arrivo\, registrazione e valutazione animali\nore 12.30 proclamazione Campionessa e Regina\na seguire pranzo finale in tensostruttura\n\nInfo: info@prolocodelebio@libero.it 
URL:https://portedivaltellina.it/eventi/fiera-del-bestiame/
LOCATION:Delebio – Loc. Gera
ORGANIZER;CN="Pro Loco Delebio":MAILTO:prolocodelebio@libero.it
END:VEVENT
BEGIN:VEVENT
DTSTART;TZID=Europe/Rome:20251011T143000
DTEND;TZID=Europe/Rome:20251011T170000
DTSTAMP:20260423T174249
CREATED:20250927T080657Z
LAST-MODIFIED:20251008T082931Z
UID:10006666-1760193000-1760202000@portedivaltellina.it
SUMMARY:Natura e benessere
DESCRIPTION:Dipingiamo la natura \nA causa delle condizioni di tempo avverse l’evento del 27 settembre è RIMANDATO a  \n\nsabato 11 ottobre \n\nEsplora le tecniche dell’acquarello insieme all’illustratrice Beatrice Scaramella \nEsprimi la tua creatività! \nEventi gratuiti aperti a tutti dai 6 anni \nPrenotazione obbligatoria fino ad esaurimento posti \nInfo e prenotazioni: 0344 84251 – 347 9291512 – info@piandispagna.it  \n  \n 
URL:https://portedivaltellina.it/eventi/natura-e-benessere-2-2/
LOCATION:Dubino – Fraz. Nuova Olonio – Via Casello sette
ORGANIZER;CN="Riserva Naturale del Pian di Spagna e Lago di Novate Mezzola":MAILTO:info@piandispagna.it
END:VEVENT
BEGIN:VEVENT
DTSTART;TZID=Europe/Rome:20251011T160000
DTEND;TZID=Europe/Rome:20251011T220000
DTSTAMP:20260423T174249
CREATED:20250801T131702Z
LAST-MODIFIED:20251001T140223Z
UID:10006759-1760198400-1760220000@portedivaltellina.it
SUMMARY:Morbegno in cantina 2025
DESCRIPTION:Torna il tanto atteso evento autunnale per gli amanti del buon vino \ne delle tipicità locali nelle caratteristiche cantine di Morbegno \nTre weekend \n\n 27 e  28 settembre\n4 e  5 ottobre\n11 e 12 ottobre\n\nApertura delle cantine:  \n\ndalle ore 16.00 alle ore 22.00 il sabato\ndalle ore 12.00 alle ore 18.00 la domenica\n\nQuattro giri:  \n\nGiro Rosso: Nebbiolo di carattere\, dal vitignolo al bicchiere.\nGiro Bolle\, Bianchi e Rossi: per chi flirta con il bianco\, ma ama il rosso.\nGiro Oro ’26: calici da standing ovation\nGiro Rock: nebbiolo alternativo e calici fuori scala\n\nScopri tutte le novità e acquista il tuo pass direttamente sul sito www.morbegnoincantina.info \nInfo: Consorzio turistico Porte di Valtellina 0342 601140 – cantine@portedivaltellina.it  \n 
URL:https://portedivaltellina.it/eventi/morbegno-in-cantina-2025/2025-10-11/
LOCATION:Morbegno
END:VEVENT
BEGIN:VEVENT
DTSTART;TZID=Europe/Rome:20251011T210000
DTEND;TZID=Europe/Rome:20251011T230000
DTSTAMP:20260423T174249
CREATED:20250924T100222Z
LAST-MODIFIED:20250924T100618Z
UID:10006746-1760216400-1760223600@portedivaltellina.it
SUMMARY:45 giri d’amore
DESCRIPTION:Concerto di Music & Friends \nIngresso € 10\,00  – € 5\,00 under 14 \nIl biglietto dà diritto ad una estrazione a premi. \nIl ricavato verrà devoluto all’opera missionaria di Padre Giboli in Mozambico. \nInfo e prevendite: Anna 328 3109781 – Agnese 340 5595330 – Fabio 342 3851185 – Mirella 340 7628134 \n 
URL:https://portedivaltellina.it/eventi/45-giri-damore-4/
LOCATION:Piantedo – Palestra comunale\, Via Europa\, 104
END:VEVENT
BEGIN:VEVENT
DTSTART;TZID=Europe/Rome:20251012T083000
DTEND;TZID=Europe/Rome:20251012T183000
DTSTAMP:20260423T174249
CREATED:20251001T143008Z
LAST-MODIFIED:20251002T072648Z
UID:10006762-1760257800-1760293800@portedivaltellina.it
SUMMARY:Castagne in campo
DESCRIPTION:Percorso in 8 tappe  \ntra le contrade degustando antichi e nuovi sapori a base di castagne \nPrenotazione obbligatoria \nCosto adulti € 25\,00 –  bambini fino 14 anni € 15\,00 \nIn caso di maltempo la manifestazione sarà rimandata a domenica 19 \nInfo: www.quintasensa.org –  gruppoquintasensa@gmail.com
URL:https://portedivaltellina.it/eventi/castagne-in-campo/
LOCATION:Tartano – Fraz. Campo
ORGANIZER;CN="quintasensa":MAILTO:gruppoquintasensa@gmail.com
END:VEVENT
BEGIN:VEVENT
DTSTART;TZID=Europe/Rome:20251012T110000
DTEND;TZID=Europe/Rome:20251012T160000
DTSTAMP:20260423T174249
CREATED:20250930T151032Z
LAST-MODIFIED:20250930T151032Z
UID:10006757-1760266800-1760284800@portedivaltellina.it
SUMMARY:Uniti per la prevenzione
DESCRIPTION:Ottobre in rosa \nAvis Morbegno\, Aido Sondrio e Admo Lombardia \norganizzano uno stand informativo per promuovere la donazione e diffondere informazioni e consigli \ndurante la manifestazione Castagne in Campo \nDomenica 12 ottobre dalle 11.00 alle 16.00 \n 
URL:https://portedivaltellina.it/eventi/uniti-per-la-prevenzione/
LOCATION:Tartano – Fraz. Campo
END:VEVENT
BEGIN:VEVENT
DTSTART;TZID=Europe/Rome:20251012T120000
DTEND;TZID=Europe/Rome:20251012T180000
DTSTAMP:20260423T174249
CREATED:20250801T131702Z
LAST-MODIFIED:20251001T140223Z
UID:10006761-1760270400-1760292000@portedivaltellina.it
SUMMARY:Morbegno in cantina 2025
DESCRIPTION:Torna il tanto atteso evento autunnale per gli amanti del buon vino \ne delle tipicità locali nelle caratteristiche cantine di Morbegno \nTre weekend \n\n 27 e  28 settembre\n4 e  5 ottobre\n11 e 12 ottobre\n\nApertura delle cantine:  \n\ndalle ore 16.00 alle ore 22.00 il sabato\ndalle ore 12.00 alle ore 18.00 la domenica\n\nQuattro giri:  \n\nGiro Rosso: Nebbiolo di carattere\, dal vitignolo al bicchiere.\nGiro Bolle\, Bianchi e Rossi: per chi flirta con il bianco\, ma ama il rosso.\nGiro Oro ’26: calici da standing ovation\nGiro Rock: nebbiolo alternativo e calici fuori scala\n\nScopri tutte le novità e acquista il tuo pass direttamente sul sito www.morbegnoincantina.info \nInfo: Consorzio turistico Porte di Valtellina 0342 601140 – cantine@portedivaltellina.it  \n 
URL:https://portedivaltellina.it/eventi/morbegno-in-cantina-2025/2025-10-12/
LOCATION:Morbegno
END:VEVENT
BEGIN:VEVENT
DTSTART;TZID=Europe/Rome:20251012T143000
DTEND;TZID=Europe/Rome:20251012T153000
DTSTAMP:20260423T174249
CREATED:20250930T100418Z
LAST-MODIFIED:20250930T100418Z
UID:10006755-1760279400-1760283000@portedivaltellina.it
SUMMARY:Leggere una chiesa
DESCRIPTION:Visita guidata \nVisita gratuita alla chiesa di San Martino \ncon Piera Ruffoni guida dell’ecomuseo della Valgerola \nIngresso libero aperto a tutti
URL:https://portedivaltellina.it/eventi/leggere-una-chiesa/
LOCATION:Cosio Valt.no – Piazza S. Martino
END:VEVENT
BEGIN:VEVENT
DTSTART;TZID=Europe/Rome:20251015T203000
DTEND;TZID=Europe/Rome:20251015T213000
DTSTAMP:20260423T174249
CREATED:20251007T110357Z
LAST-MODIFIED:20251007T110357Z
UID:10006775-1760560200-1760563800@portedivaltellina.it
SUMMARY:Il caffè letterario
DESCRIPTION:Gruppo di lettura “Il caffè letterario” \nRitorna l’appuntamento aperto a tutti con partecipazione libera e gratuita\, per condividere la passione per la lettura e discutere del libro proposto \nPrimo appuntamento della stagione il 15 ottobre \n\nPresso il bar dell‘Oratorio di Cosio Valtellino\nMercoledì ore 20.30 a settimane alterne\n\n  \nInfo e iscrizioni: Fabio Fiorini 3458550419 – fabio.fio@hotmail.it
URL:https://portedivaltellina.it/eventi/il-caffe-letterario-2/2025-10-15/
LOCATION:cosio Valt.no – Oratorio
END:VEVENT
END:VCALENDAR