BEGIN:VCALENDAR
VERSION:2.0
PRODID:-//Porte di Valtellina - ECPv6.15.20//NONSGML v1.0//EN
CALSCALE:GREGORIAN
METHOD:PUBLISH
X-WR-CALNAME:Porte di Valtellina
X-ORIGINAL-URL:https://portedivaltellina.it
X-WR-CALDESC:Eventi per Porte di Valtellina
REFRESH-INTERVAL;VALUE=DURATION:PT1H
X-Robots-Tag:noindex
X-PUBLISHED-TTL:PT1H
BEGIN:VTIMEZONE
TZID:Europe/Rome
BEGIN:DAYLIGHT
TZOFFSETFROM:+0100
TZOFFSETTO:+0200
TZNAME:CEST
DTSTART:20250330T010000
END:DAYLIGHT
BEGIN:STANDARD
TZOFFSETFROM:+0200
TZOFFSETTO:+0100
TZNAME:CET
DTSTART:20251026T010000
END:STANDARD
BEGIN:DAYLIGHT
TZOFFSETFROM:+0100
TZOFFSETTO:+0200
TZNAME:CEST
DTSTART:20260329T010000
END:DAYLIGHT
BEGIN:STANDARD
TZOFFSETFROM:+0200
TZOFFSETTO:+0100
TZNAME:CET
DTSTART:20261025T010000
END:STANDARD
BEGIN:DAYLIGHT
TZOFFSETFROM:+0100
TZOFFSETTO:+0200
TZNAME:CEST
DTSTART:20270328T010000
END:DAYLIGHT
BEGIN:STANDARD
TZOFFSETFROM:+0200
TZOFFSETTO:+0100
TZNAME:CET
DTSTART:20271031T010000
END:STANDARD
END:VTIMEZONE
BEGIN:VEVENT
DTSTART;TZID=Europe/Rome:20260422T170000
DTEND;TZID=Europe/Rome:20260422T190000
DTSTAMP:20260425T000231
CREATED:20260421T150734Z
LAST-MODIFIED:20260421T151025Z
UID:10008115-1776877200-1776884400@portedivaltellina.it
SUMMARY:Donne che curano le donne
DESCRIPTION:Ginecologia oggi: la salute delle donne tra passato e futuro \nSandra Morano\, specialista in ginecologia e ostetricia dialoga con \nEleonora Pulerà e Alessia Limena ginecologhe ASST Niguarda \nIngresso libero \nInfo: www.argonaute.org 
URL:https://portedivaltellina.it/eventi/donne-che-curano-le-donne/
LOCATION:Morbegno – Auditorium Sant’Antonio
ATTACH;FMTTYPE=image/jpeg:https://portedivaltellina.it/wp-content/uploads/2026/04/20260422_argonaute.jpg
END:VEVENT
BEGIN:VEVENT
DTSTART;TZID=Europe/Rome:20260422T183000
DTEND;TZID=Europe/Rome:20260422T210000
DTSTAMP:20260425T000231
CREATED:20260410T080126Z
LAST-MODIFIED:20260410T080126Z
UID:10008042-1776882600-1776891600@portedivaltellina.it
SUMMARY:1ª Cagnello Vertical
DESCRIPTION:Circuito di gare vertical GoinUp \nCorsa del circuito di gare vertical 2026 a scopo benefico con partecipazione aperta ad amatori e camminatori \nPIUSSOGNO – CAGNELLO \nPROGRAMMA: \n\nOre 18.30 ritrovo\nOre 20.00 partenza da Piussogno alle ore 20.00 fino alla frazione di Fiesso ed arrivo a Cagnello davanti alla Casa degli Alpini\n\nCosto iscrizione € 10\,00  che include panino con formaggio o salsiccia e bibita. \nObbligatoria lampada frontale\, vietato l’uso dei bastoncini. \nIn caso di cattivo tempo la gara si terrà giovedì 23 aprile. \nInfo gara: 348 5937460 – 339 8584136  \nInfo e iscrizioni: goinupvertival@gmail.com – www.goinupvertical.it \n 
URL:https://portedivaltellina.it/eventi/1a-cagnello-vertical/
LOCATION:Piussogno
ATTACH;FMTTYPE=image/png:https://portedivaltellina.it/wp-content/uploads/2026/04/20260422_cagnello.png
ORGANIZER;CN="Goinup":MAILTO:goinupvertical@gmail.com
END:VEVENT
BEGIN:VEVENT
DTSTART;TZID=Europe/Rome:20260422T203000
DTEND;TZID=Europe/Rome:20260422T213000
DTSTAMP:20260425T000231
CREATED:20260411T082330Z
LAST-MODIFIED:20260411T082330Z
UID:10008078-1776889800-1776893400@portedivaltellina.it
SUMMARY:Cosa metti nel piatto?
DESCRIPTION:Incontro in biblioteca \nUna guida semplice tra equilibrio\, prevenzione e benessere. \nIncontro con la Dott.ssa Beatrice Da Prada  \nIngresso libero \nInfo: Comune  di Buglio in Monte 0342 620020 \n 
URL:https://portedivaltellina.it/eventi/cosa-metti-nel-piatto/
LOCATION:Buglio in Monte – Biblioteca\, Via Roma
ATTACH;FMTTYPE=image/jpeg:https://portedivaltellina.it/wp-content/uploads/2026/04/20260422_Biblio-Poletti.jpeg
END:VEVENT
BEGIN:VEVENT
DTSTART;TZID=Europe/Rome:20260423T161500
DTEND;TZID=Europe/Rome:20260423T173000
DTSTAMP:20260425T000231
CREATED:20260414T090026Z
LAST-MODIFIED:20260414T093220Z
UID:10008094-1776960900-1776965400@portedivaltellina.it
SUMMARY:Aprile in biblioteca
DESCRIPTION:Giornata del libro – Gruppo di lettura \nLetture e laboratorio per bambini \nInfo: tel: 0342682193 – mail: biblioteca@comune.piantedo.so.it \n  \n 
URL:https://portedivaltellina.it/eventi/aprile-in-biblioteca-4/
LOCATION:Piantedo – Biblioteca\, Piazza Papa Giovanni XXII\, 104
ATTACH;FMTTYPE=image/jpeg:https://portedivaltellina.it/wp-content/uploads/2026/04/202604_biblio-piantedo.jpg
END:VEVENT
BEGIN:VEVENT
DTSTART;TZID=Europe/Rome:20260424T203000
DTEND;TZID=Europe/Rome:20260424T213000
DTSTAMP:20260425T000231
CREATED:20260417T093029Z
LAST-MODIFIED:20260417T093029Z
UID:10008109-1777062600-1777066200@portedivaltellina.it
SUMMARY:Lorenzo Della Fonte
DESCRIPTION:Una primavera candida e vermiglia \nLorenzo Della Fonte presenta il suo ultimo lavoro letterario \nIngresso libero \nInfo: biblioteca@comune.talamona.so.it  \n 
URL:https://portedivaltellina.it/eventi/lorenzo-della-fonte/
LOCATION:Talamona – Biblioteca Comunale Ines Busnarda Luzzi\, Via Don Cusini\, 49\, Talamona\, 23018\, Italia
ATTACH;FMTTYPE=image/jpeg:https://portedivaltellina.it/wp-content/uploads/2026/04/20260424_lorenzo-della-fonte.jpeg
ORGANIZER;CN="Biblioteca Talamona":MAILTO:biblioteca@comune.talamona.so.it
END:VEVENT
BEGIN:VEVENT
DTSTART;TZID=Europe/Rome:20260424T203000
DTEND;TZID=Europe/Rome:20260424T223000
DTSTAMP:20260425T000231
CREATED:20260409T102131Z
LAST-MODIFIED:20260409T102131Z
UID:10008073-1777062600-1777069800@portedivaltellina.it
SUMMARY:PNRR Cech-in: evento finale
DESCRIPTION:Cech-in e Costiera 2030: bilanci e prospettive per il territorio \nIncontro pubblico organizzato da Fondazione Politecnico di Milano e Politecnico di Milano\, evento finale del progetto Borghi. \nPROGRAMMA \n\nIntroduzione istituzionale a cura del Professore Davide Del Curto\, Prorettore del Politecnico di Milano\nPresentazione del masterplan Cech-in a cura del gruppo della Professoressa Guya Grazia Bertelli\, architetto e professore ordinario presso il Politecnico di Milano\nTavola rotonda conclusiva con la partecipazione dei sindaci Maurizio Papini\, Basilio Lipari e Daniele De Pianto\, del Presidente della Provincia Davide Menegola e dei due professori intervenuti in precedenza\n\nUn’occasione di confronto e restituzione pubblica\, promuovendo dialogo e partecipazione con la comunità locale.
URL:https://portedivaltellina.it/eventi/pnrr-cech-in-evento-finale/
LOCATION:Traona – Auditorium comunale\, PIazza Caduti\, 29\, Traona\, 23019
ATTACH;FMTTYPE=image/jpeg:https://portedivaltellina.it/wp-content/uploads/2026/04/20260424_Borghi-scaled.jpg
END:VEVENT
BEGIN:VEVENT
DTSTART;TZID=Europe/Rome:20260425T083000
DTEND;TZID=Europe/Rome:20260425T150000
DTSTAMP:20260425T000231
CREATED:20260414T074133Z
LAST-MODIFIED:20260414T074133Z
UID:10008090-1777105800-1777129200@portedivaltellina.it
SUMMARY:Mostra zootecnica della capra orobica
DESCRIPTION:Programma piazzale San Carlo: \n\nore 08:30 arrivo degli animali\nore 09:30 inizio valutazione del bestiame\nore 13:00 pranzo\nore 14:00 premiazioni\n\nSarà possibile pranzare insieme ai caprai con menù a base di polenta taragna e salsiccia\, acqua\, vino\, caffè e dolce : ADULTI € 15\,00 – BAMBINI € 10\,00 \nE’ gradita la prenotazione al numero  3394154056 \nDurante la manifestazione sarà possibile giri in carrozza.
URL:https://portedivaltellina.it/eventi/mostra-zootecnica-della-capra-orobica/
LOCATION:Talamona – Piazzale San Carlo
ATTACH;FMTTYPE=image/jpeg:https://portedivaltellina.it/wp-content/uploads/2026/04/20260425_capra-orobica-talamona.jpg
END:VEVENT
BEGIN:VEVENT
DTSTART;TZID=Europe/Rome:20260425T083000
DTEND;TZID=Europe/Rome:20260425T170000
DTSTAMP:20260425T000231
CREATED:20260324T111557Z
LAST-MODIFIED:20260324T111557Z
UID:10008022-1777105800-1777136400@portedivaltellina.it
SUMMARY:Lilt running
DESCRIPTION:16ª edizione della camminata per sole donne di 7 Km \nPROGRAMMA: \n\nAlle ore 8.30 ritrovo al polo fieristico per le iscrizioni\nAlle ore 9.30 riscaldamento con Sabrina e partenza per la camminata\nAlle ore 10.00 tappa presso la Cooperativa Il sentiero dell’isola e rientro\nAlle ore 12.30 pranzo aperto a tutti al Polo fieristico\nNel pomeriggio esibizione del gruppo Free Bears country friends\n\nCosto iscrizione:  € 15\,00 \n Info: Lilt Sondrio 0342 219413 – 349 4595006 – 328 7338374
URL:https://portedivaltellina.it/eventi/lilt-running-2/
LOCATION:Morbegno – Polo Fieristico\, Via Strada comunale di campagna\, 2
ATTACH;FMTTYPE=image/jpeg:https://portedivaltellina.it/wp-content/uploads/2026/03/20260425_lilt-running.jpg
END:VEVENT
BEGIN:VEVENT
DTSTART;TZID=Europe/Rome:20260425T100000
DTEND;TZID=Europe/Rome:20260425T230000
DTSTAMP:20260425T000231
CREATED:20260330T101250Z
LAST-MODIFIED:20260414T065910Z
UID:10008082-1777111200-1777158000@portedivaltellina.it
SUMMARY:Festa degli antichi Borghi
DESCRIPTION:Camminando sul sentiero dei tre Borghi: Traona\, Cercino\, Cino \nTra panorami vista lago\, terrazzamenti vitati\, rievocazioni medievali\, storia locale e gusto! \n\nPasseggiate e tour in eBike\nSagre e degustazioni\nAppuntamenti da non perdere\n\nClicca QUI per visualizzare il programma completo. \nPresto sarà sarà possibile iscriversi alle attività e alle esperienze attraverso il sito www.costieradeicech.com \n 
URL:https://portedivaltellina.it/eventi/festa-degli-antichi-borghi/2026-04-25/
LOCATION:Costiera dei Cech
ATTACH;FMTTYPE=image/jpeg:https://portedivaltellina.it/wp-content/uploads/2026/03/Locandina-def-scaled.jpg
END:VEVENT
BEGIN:VEVENT
DTSTART;TZID=Europe/Rome:20260425T103000
DTEND;TZID=Europe/Rome:20260425T124500
DTSTAMP:20260425T000231
CREATED:20260410T082243Z
LAST-MODIFIED:20260413T151738Z
UID:10008074-1777113000-1777121100@portedivaltellina.it
SUMMARY:81° ANNIVERSARIO DELLA LIBERAZIONE 1945-2026
DESCRIPTION:81° anniversario della Liberazione 1945-2026 \nProgramma – Morbegno: \n\nOre 10:30 S. Messa in Collegiata S. Giovanni con la partecipazione delle autorità e delle rappresentanze e a seguire sfilata lungo le vie della città.\nOre 11:20 Sosta al museo dei Caduti e ripresa del corteo fino alle scuole in Via Ambrosetti\nOre 12:00 Cerimonia ufficiale e deposizione della corona al monumento alla Resistenza\nOre 12:45 termine della cerimonia\n\n  \n  \n  \n 
URL:https://portedivaltellina.it/eventi/81-anniversario-della-liberazione-1945-2026/
LOCATION:Morbegno
ATTACH;FMTTYPE=image/jpeg:https://portedivaltellina.it/wp-content/uploads/2026/04/20260425_25-aprile.jpeg
END:VEVENT
BEGIN:VEVENT
DTSTART;TZID=Europe/Rome:20260425T103000
DTEND;TZID=Europe/Rome:20260425T180000
DTSTAMP:20260425T000231
CREATED:20260421T153126Z
LAST-MODIFIED:20260421T153531Z
UID:10008116-1777113000-1777140000@portedivaltellina.it
SUMMARY:Festa di San Marco
DESCRIPTION:Con la collaborazione della Pro Loco e degli Alpini \nOre 10.30 Santa Messa\, a seguire vendita torte e miele \nOre 12:30 pranzo con polenta e salsiccia o panini con salsiccia e patatine fritte \nSeguirà nel pomeriggio torneo di briscola e musica \nInfo e prenotazioni entro il 22 aprile: Chantal 3478959428  Alberto 3356499132 \n 
URL:https://portedivaltellina.it/eventi/festa-di-san-marco/
LOCATION:Mantello – Campo sportivo
ATTACH;FMTTYPE=image/jpeg:https://portedivaltellina.it/wp-content/uploads/2026/04/20260425_san-marco.jpg
END:VEVENT
BEGIN:VEVENT
DTSTART;TZID=Europe/Rome:20260425T130000
DTEND;TZID=Europe/Rome:20260425T230000
DTSTAMP:20260425T000231
CREATED:20260415T075844Z
LAST-MODIFIED:20260415T075844Z
UID:10008098-1777122000-1777158000@portedivaltellina.it
SUMMARY:Festa della Liberazione
DESCRIPTION:Festa della Liberazione al Ricircolo \nDopo il corteo provinciale \n\nAlle ore 13.00 Pranzo a buffet con pasta tricolore e dolci. Consigliata la prenotazione\nAlle ore 15.00 Talk “Dalla resistenza alla costituzione: percorsi di costruzione democratica”\nDalle 18.00 alle 23.00 all’arengario musica\, cibo e servizio bar. In caso di pioggia la serata si svolgerà al ricircolo\n\n Info e prenotazioni pranzo: Tel: 348 0607840
URL:https://portedivaltellina.it/eventi/festa-della-liberazione/
LOCATION:Morbegno – RiCircolo\, Via Beato Andrea\, 16\, Morbegno\, 23017\, Italia
ATTACH;FMTTYPE=image/jpeg:https://portedivaltellina.it/wp-content/uploads/2026/04/20260425_25-aprile-localino.jpeg
END:VEVENT
BEGIN:VEVENT
DTSTART;TZID=Europe/Rome:20260425T140000
DTEND;TZID=Europe/Rome:20260425T180000
DTSTAMP:20260425T000231
CREATED:20260320T160233Z
LAST-MODIFIED:20260320T160240Z
UID:10008013-1777125600-1777140000@portedivaltellina.it
SUMMARY:Trofeo morbegnese
DESCRIPTION:37ª  edizione  \nGara nazionale di corsa su strada \n\nAlle ore 14.00 partenza gare giovanili\nAlle ore 16.00 partenza gara di Km 10\n\nInfo e iscrizioni: www.gscsimorbegno.org
URL:https://portedivaltellina.it/eventi/trofeo-morbegnese-2/
LOCATION:Morbegno
ATTACH;FMTTYPE=image/jpeg:https://portedivaltellina.it/wp-content/uploads/2026/03/20260425_gara-Morbegno.jpg
ORGANIZER;CN="GS CSI Morbegno":MAILTO:info@gscimorbegno.org
END:VEVENT
BEGIN:VEVENT
DTSTART;TZID=Europe/Rome:20260425T180000
DTEND;TZID=Europe/Rome:20260425T220000
DTSTAMP:20260425T000231
CREATED:20260401T100616Z
LAST-MODIFIED:20260401T100616Z
UID:10008058-1777140000-1777154400@portedivaltellina.it
SUMMARY:Serata Pizza
DESCRIPTION:Serata in compagnia  \naperitivo\, pizza e intrattenimento \nCosto € 10\,00 \nPrenotazione obbligatoria entro il 22/4 tramite whatsapp \nChi lo desidera può portare un dolce da condividere!!! \nSerata aperta a tutti \n Info e prenotazioni: Veronica 339 4774983 – Pamela 340 5904748
URL:https://portedivaltellina.it/eventi/serata-pizza/
LOCATION:Piantedo – Oratorio\, Via Europa\, 140
ATTACH;FMTTYPE=image/jpeg:https://portedivaltellina.it/wp-content/uploads/2026/04/20260425_pizza-oratorio.jpg
ORGANIZER;CN="Andepianero":MAILTO:associazioneandepianero@gmail.com
END:VEVENT
BEGIN:VEVENT
DTSTART;TZID=Europe/Rome:20260425T203000
DTEND;TZID=Europe/Rome:20260425T223000
DTSTAMP:20260425T000231
CREATED:20260402T141023Z
LAST-MODIFIED:20260414T070307Z
UID:10008060-1777149000-1777156200@portedivaltellina.it
SUMMARY:Fantasma all’ora del the
DESCRIPTION:Spettacolo teatrale \nIl Piccolo Teatro delle Valli in collaborazione con EValtellina presentano un’opera liberamente ispirata a “Il fantasma di Canterville” di Oscar Wilde. \n Regia di G.R.Davare \nIngresso con offerta libera \nInfo: www.evaletllina.com \n 
URL:https://portedivaltellina.it/eventi/fantasma-allora-del-the/
LOCATION:Morbegno – Auditorium Sant’Antonio
ATTACH;FMTTYPE=image/jpeg:https://portedivaltellina.it/wp-content/uploads/2026/04/20260425_un-fantasma-allora-del-te.jpeg
ORGANIZER;CN="Evaltellina":MAILTO:info@evaltellina.com
END:VEVENT
BEGIN:VEVENT
DTSTART;VALUE=DATE:20260426
DTEND;VALUE=DATE:20260427
DTSTAMP:20260425T000231
CREATED:20260418T070443Z
LAST-MODIFIED:20260418T070443Z
UID:10008111-1777161600-1777247999@portedivaltellina.it
SUMMARY:Racquet Day
DESCRIPTION:Una giornata\, tre racchette \nsport\, passione\, divertimento! \nEvento aperto a tutti\, con tavoli all’aperto\, musica\, birra alla spine e il Chorizo del Tio Walter \nDalle ore 9.00  \nProve gratuite di tennis\, padel e pkcklball con istruttori FITP \nIn caso di maltempo l’evento si svolgeraà il 3 maggio \nInfo e iscrizioni: info@tcmorbegno.it 
URL:https://portedivaltellina.it/eventi/racquet-day/
LOCATION:Morbegno – Tennis club\, Strada comunale di campagna\, 8 
ATTACH;FMTTYPE=image/jpeg:https://portedivaltellina.it/wp-content/uploads/2026/04/20260426_racquet-day.jpeg
ORGANIZER;CN="Tennis club Morbegno":MAILTO:info@tcmorbegno.it
END:VEVENT
BEGIN:VEVENT
DTSTART;TZID=Europe/Rome:20260426T090000
DTEND;TZID=Europe/Rome:20260426T180000
DTSTAMP:20260425T000231
CREATED:20260413T082538Z
LAST-MODIFIED:20260414T070101Z
UID:10008079-1777194000-1777226400@portedivaltellina.it
SUMMARY:Giro delle Chiese 2026
DESCRIPTION:Programma: \n\nDalle ore 09:00 alle ore 18:00 ci sarà la possibilità di visitare le Chiese della Comunità pastorale di Desco\, Paniga e Campovico\nAd accoglierti ci sarà un volontario che timbrerà il tuo libretto (disponibile nella Chiesa nuova di Paniga)\nIl giro proposto seguirà questa progressione: Chiesa Nuova Paniga – Cimitero di Paniga – Chiesa di Santa Maria Maddalena Desco – Cappelletta dei caduti – Chiesa Vecchia Paniga – Torchi Bianchi – Chiesa visitazione della B.V. Maria di Campovico\nAlle ore 10:30 a Paniga verrà celebrata la S. Messa del Pellegrino\n\nIl giro è percorribile in bicicletta.
URL:https://portedivaltellina.it/eventi/giro-delle-chiese-2026/
LOCATION:Paniga – Chiesa di Santa Maria delle Grazie\, Via Pietro Paolo Parravicini\, 30\, Morbegno\, 23017
ATTACH;FMTTYPE=image/jpeg:https://portedivaltellina.it/wp-content/uploads/2026/04/20260426_giro-delle-chiese.jpeg
END:VEVENT
BEGIN:VEVENT
DTSTART;TZID=Europe/Rome:20260426T100000
DTEND;TZID=Europe/Rome:20260426T180000
DTSTAMP:20260425T000231
CREATED:20260330T101250Z
LAST-MODIFIED:20260414T065910Z
UID:10008083-1777197600-1777226400@portedivaltellina.it
SUMMARY:Festa degli antichi Borghi
DESCRIPTION:Camminando sul sentiero dei tre Borghi: Traona\, Cercino\, Cino \nTra panorami vista lago\, terrazzamenti vitati\, rievocazioni medievali\, storia locale e gusto! \n\nPasseggiate e tour in eBike\nSagre e degustazioni\nAppuntamenti da non perdere\n\nClicca QUI per visualizzare il programma completo. \nPresto sarà sarà possibile iscriversi alle attività e alle esperienze attraverso il sito www.costieradeicech.com \n 
URL:https://portedivaltellina.it/eventi/festa-degli-antichi-borghi/2026-04-26/
LOCATION:Costiera dei Cech
ATTACH;FMTTYPE=image/jpeg:https://portedivaltellina.it/wp-content/uploads/2026/03/Locandina-def-scaled.jpg
END:VEVENT
BEGIN:VEVENT
DTSTART;TZID=Europe/Rome:20260428T163000
DTEND;TZID=Europe/Rome:20260428T180000
DTSTAMP:20260425T000231
CREATED:20260416T132345Z
LAST-MODIFIED:20260418T082212Z
UID:10008104-1777393800-1777399200@portedivaltellina.it
SUMMARY:Corso base di acquarello
DESCRIPTION:Corso base di acquarello \n5 lezioni  \naperto a bambini/e dai 6 anni in su \nPer info e prenotazioni: biblioteca@comune.talamona.so.it \n 
URL:https://portedivaltellina.it/eventi/corso-base-di-acquarello/2026-04-28/
LOCATION:Talamona – Biblioteca Comunale Ines Busnarda Luzzi\, Via Don Cusini\, 49\, Talamona\, 23018\, Italia
ATTACH;FMTTYPE=image/jpeg:https://portedivaltellina.it/wp-content/uploads/2026/04/20260428_corso-acquerello.jpg
ORGANIZER;CN="Biblioteca Talamona":MAILTO:biblioteca@comune.talamona.so.it
END:VEVENT
BEGIN:VEVENT
DTSTART;TZID=Europe/Rome:20260428T203000
DTEND;TZID=Europe/Rome:20260428T220000
DTSTAMP:20260425T000231
CREATED:20260226T093225Z
LAST-MODIFIED:20260319T155508Z
UID:10007939-1777408200-1777413600@portedivaltellina.it
SUMMARY:Bugonia
DESCRIPTION:Cineforum  \nProiezione del film “Bugonia” al Cinema Iris \nRegia di Yorgos Lanthimos \nIngresso € 7\,00 \n2 spettacoli: Ore 18.00 e ore 20.30 – \nInfo: www.cinegest.it \n 
URL:https://portedivaltellina.it/eventi/father-mother-sister-brother/
LOCATION:Morbegno – cinema Iris\, Via Ambrosetti
ATTACH;FMTTYPE=image/jpeg:https://portedivaltellina.it/wp-content/uploads/2026/02/20260428_cineforum-bugonia.jpg
END:VEVENT
BEGIN:VEVENT
DTSTART;TZID=Europe/Rome:20260428T203000
DTEND;TZID=Europe/Rome:20260428T220000
DTSTAMP:20260425T000231
CREATED:20260422T152649Z
LAST-MODIFIED:20260422T152649Z
UID:10008124-1777408200-1777413600@portedivaltellina.it
SUMMARY:Disabilità mentale: quali diritti?
DESCRIPTION:Convegno con il Professor Benedetto Saraceno \ngià direttore del Dipartimento di salute mentale presso l’OMS \nIngresso libero \nSala capitolare – Complesso Sant’Antonio \nInfo: Associazione La navicella info@navicella.org 
URL:https://portedivaltellina.it/eventi/disabilita-mentale-quali-diritti/
LOCATION:Morbegno – Sala Capitolare – Complesso S. Antonio\, Piazza S. Antonio
ATTACH;FMTTYPE=image/jpeg:https://portedivaltellina.it/wp-content/uploads/2026/04/20260428_SALUTE-MENTALE.jpg
END:VEVENT
BEGIN:VEVENT
DTSTART;VALUE=DATE:20260429
DTEND;VALUE=DATE:20260430
DTSTAMP:20260425T000231
CREATED:20260418T082828Z
LAST-MODIFIED:20260418T082828Z
UID:10008112-1777420800-1777507199@portedivaltellina.it
SUMMARY:Pietro vertical
DESCRIPTION:7ª edizione \nGara vertical amiche \nfuori circuito delle gare Goinup a scopo benefico \nPartecipazione aperta a tutti \nInfo e iscrizioni: www.goinupvertical.it – goinupvertical@gmail.com
URL:https://portedivaltellina.it/eventi/pietro-vertical/
LOCATION:Ardenno
ATTACH;FMTTYPE=image/jpeg:https://portedivaltellina.it/wp-content/uploads/2026/03/GOIN-UP-8-EDIZIONE-2026-scaled.jpg
ORGANIZER;CN="Goinup":MAILTO:goinupvertical@gmail.com
END:VEVENT
BEGIN:VEVENT
DTSTART;TZID=Europe/Rome:20260429T203000
DTEND;TZID=Europe/Rome:20260429T223000
DTSTAMP:20260425T000231
CREATED:20260421T142745Z
LAST-MODIFIED:20260421T142745Z
UID:10008114-1777494600-1777501800@portedivaltellina.it
SUMMARY:Il potere dell'ombra
DESCRIPTION:I fili invisibili che manovrano le meccaniche della politica mondiale: una serata in compagnia dei libri di Giuliano da Empoli \n\nGli ingegneri del caos\nIl mago del Cremlino\nL’ora dei predatori\n\nRelatore della serata Simone Benazzo. \n 
URL:https://portedivaltellina.it/eventi/il-potere-dellombra/
LOCATION:Cosio Valtellino – Auditorium Don Roberto Malgesini – Fraz. Regoledo\, Via Nervi\, 23013
ATTACH;FMTTYPE=image/jpeg:https://portedivaltellina.it/wp-content/uploads/2026/04/20260429_cosio.jpg
ORGANIZER;CN="Libreria Piccolo Principe - Morbegno":MAILTO:libr.piccoloprincipe@libero.it
END:VEVENT
BEGIN:VEVENT
DTSTART;TZID=Europe/Rome:20260430T183000
DTEND;TZID=Europe/Rome:20260430T230000
DTSTAMP:20260425T000231
CREATED:20260413T090628Z
LAST-MODIFIED:20260413T151635Z
UID:10008080-1777573800-1777590000@portedivaltellina.it
SUMMARY:XV Notturna Talamonese
DESCRIPTION:Il Gruppo Podistico Talamona organizza la XV Notturna Talamonese – gara regionale di corsa su strada \nProgramma: \n\nRitrovo ore 18:30;\nInizio gare giovanili ore 19:30;\nPremiazioni cat. giovanili ore 20:30;\nGara assoluta femminile + allieve 3 km ore 21:00;\nGara assoluta maschile + 5 km ore 21:30;\nPremiazioni categorie assolute\n\nStreet food durante tutta la manifestazione by Gastronomia 4 Stagioni & Birra Revertis \nPer info –> gptalamona@gmail.com \n 
URL:https://portedivaltellina.it/eventi/xv-notturna-talamonese/
LOCATION:Talamona
ATTACH;FMTTYPE=image/jpeg:https://portedivaltellina.it/wp-content/uploads/2026/04/20260430_notturna-talamonese.jpg
END:VEVENT
BEGIN:VEVENT
DTSTART;TZID=Europe/Rome:20260430T193000
DTEND;TZID=Europe/Rome:20260501T223000
DTSTAMP:20260425T000231
CREATED:20260410T085329Z
LAST-MODIFIED:20260413T151512Z
UID:10008076-1777577400-1777674600@portedivaltellina.it
SUMMARY:Festa del 1° maggio 2026
DESCRIPTION:Festa del 1° maggio 2026 \nAspettando il primo maggio… – Giovedì 30 aprile \n\nOre 19:30 inizio festa e apertura bar – cena con gnocchetti valchiavennaschi\, polletto\, hot dog. sciatt\, panini e patatine\nOre 21:30 musica live con il gruppo XI° Comandamento\nOre 23.30 Dj set con Freddy Barri\nOre 01:00 Chiusura Festa\n\nLa serata si svolgerà in qualsiasi condizioni meteo. \nFesta del primo maggio… – Venerdì 01 maggio \n\nOre 14:00 apertura bar\nOre 14:30 inizio festa con giochi per bambini\, sfilata degli ASINI ACROBATI della CUCCAGNA\, angolo giochi per tutti\nOre 19:15 cena tipica valtellinese\nOre 21:30 serata danzante con l’orchestra Antonella Russo\nOre 22:30 intervallo per estrazione lotteria\n\nPrenotazione tavoli solo per la serata del 30 aprile al numero: 3496106653 \nIl ricavato della festa sarà utilizzato per opere di beneficenza e per bisogni dell’oratorio parrocchiale.
URL:https://portedivaltellina.it/eventi/festa-del-1-maggio-2026/
LOCATION:Tensostruttura – Nuova Olonio\, Dubino\, 23015\, Italia
ATTACH;FMTTYPE=image/jpeg:https://portedivaltellina.it/wp-content/uploads/2026/04/20260501_festa1maggio.jpg
END:VEVENT
BEGIN:VEVENT
DTSTART;TZID=Europe/Rome:20260430T210000
DTEND;TZID=Europe/Rome:20260430T220000
DTSTAMP:20260425T000231
CREATED:20260423T070717Z
LAST-MODIFIED:20260423T070717Z
UID:10008125-1777582800-1777586400@portedivaltellina.it
SUMMARY:La parrocchiale di Sant'Abbondio
DESCRIPTION:Visita guidata alla chiesa di Rogolo \ndedicata a Sant’Abbondio con il Dr. Renzo Fallati \nUn interessante approfondimento che esplora l’architettura\, la storia  e la spiritualità di questo luogo. \ningresso libero \nA cura del circolo culturale dell’oratorio di Delebio
URL:https://portedivaltellina.it/eventi/la-parrocchiale-di-santabbondio/
LOCATION:Rogolo – Chiesa di Sant’Abbondio\, Via Roma\, 11
ATTACH;FMTTYPE=image/jpeg:https://portedivaltellina.it/wp-content/uploads/2026/04/20260430_rogolo-con-Fallati.jpeg
END:VEVENT
BEGIN:VEVENT
DTSTART;TZID=Europe/Rome:20260501T080000
DTEND;TZID=Europe/Rome:20260501T130000
DTSTAMP:20260425T000231
CREATED:20260414T100436Z
LAST-MODIFIED:20260414T100436Z
UID:10008097-1777622400-1777640400@portedivaltellina.it
SUMMARY:47° Camminata Morbegnese e 11° Trofeo Martina Ceciliani
DESCRIPTION:47° Camminata Morbegnese e 11° Trofeo Martina Ceciliani – Primo Maggio \nIscrizioni presso: \n\nCasetta Piazza S. Antonio dal 25 al 30 aprile\nSede Avis in orario di apertura: Lun-Mer-Ven il mattino dalle ore 09:00 alle ore 11:00\, il pomeriggio dalle 14:00 alle 16:00\nPiazza S. Antonio il 1° maggio\n\nLa quota di iscrizione è di € 8\,00 \nProgramma: \n\nRitrovo presso Piazza S. Antonio ore 08:00\nPartenza ore 09:30\nArrivo Piazza S. Giovanni\nRistoro Ponte di Ganda e Oratorio S. Luigi\n\nPer info e contatti visita il sito avismorbegno.it
URL:https://portedivaltellina.it/eventi/47-camminata-morbegnese-e-11-trofeo-martina-ceciliani/
LOCATION:Morbegno – Piazza S. Antonio\, 23017\, Italia
ATTACH;FMTTYPE=image/jpeg:https://portedivaltellina.it/wp-content/uploads/2026/04/20260105_camminata-morbegnese.jpg
END:VEVENT
BEGIN:VEVENT
DTSTART;TZID=Europe/Rome:20260501T093000
DTEND;TZID=Europe/Rome:20260501T170000
DTSTAMP:20260425T000231
CREATED:20260325T152722Z
LAST-MODIFIED:20260325T152722Z
UID:10008027-1777627800-1777654800@portedivaltellina.it
SUMMARY:Sostila e la Val Fabiolo
DESCRIPTION:Con le guide nel Parco \nRitrovo alla chiesa di San Giuseppe alla Sirta e partenza per un’escursione naturalistica  fino a Sostila\, paesino sospeso nel tempo. \nDislivello +500 m –  difficoltà E \nTempo di marcia: h.3.15 \nInfo\, costi e prenotazioni: guida  Rosanna Bertolini 371 3271304 – rosyrosy73@tiscali.it
URL:https://portedivaltellina.it/eventi/sostila-e-la-val-fabiolo/
LOCATION:Val Fabiolo
ATTACH;FMTTYPE=image/webp:https://portedivaltellina.it/wp-content/uploads/2026/03/20260501_Val-Fabiolo.webp
END:VEVENT
BEGIN:VEVENT
DTSTART;VALUE=DATE:20260502
DTEND;VALUE=DATE:20260503
DTSTAMP:20260425T000231
CREATED:20260422T101815Z
LAST-MODIFIED:20260422T160057Z
UID:10008122-1777680000-1777766399@portedivaltellina.it
SUMMARY:MelloLab
DESCRIPTION:Avvicinare i più giovani alla montagna partendo dal gioco! \nGrazie a MelloLab\, bambini e ragazzi della scuola primaria e secondaria di primo grado potranno cimentarsi nell’arrampicata in modo semplice\, divertente e sicuro! \nPROGRAMMA \n\nDalle ore 9.45 alle ore 12.15 la sessione dedicata ai bambini della scuola primaria\nDalle ore 14.15 alle ore 16.45 la sessione dedicata ai ragazzi della scuola secondaria di primo grado\n\nSulla parete della biblioteca\, con le Guide Alpine Davide Spini e Raffaele Tangari. \nPer iscriversi compilare e inviare il modulo scaricabile QUI all’indirizzo biblioteca@comune.morbegno.so.it\, per un massimo di 20 posti a sessione. \nIl secondo appuntamento sarà mercoledì 6 maggio in Val Masino\, clicca QUI per scoprire di più. \nIn caso di maltempo l’evento del 2 maggio sarà rinviato a sabato 16 maggio.
URL:https://portedivaltellina.it/eventi/mellolab/
LOCATION:Morbegno – Biblioteca Civica Ezio Vanoni\, Via Cortivacci\, 4\, 23017
ATTACH;FMTTYPE=image/jpeg:https://portedivaltellina.it/wp-content/uploads/2026/04/Mellolab.jpg
END:VEVENT
BEGIN:VEVENT
DTSTART;TZID=Europe/Rome:20260502T170000
DTEND;TZID=Europe/Rome:20260502T190000
DTSTAMP:20260425T000231
CREATED:20260423T140042Z
LAST-MODIFIED:20260423T140042Z
UID:10008134-1777741200-1777748400@portedivaltellina.it
SUMMARY:Il Melloblocco si racconta
DESCRIPTION:Un incontro aperto a tutti \nPROGRAMMA \n\nSaluti istituzionali a cura del Comune di Morbegno e del Consorzio Turistico Porte di Valtellina\nDialogo tra Alberto Benini e gli storici organizzatori del Melloblocco\nIl Melloblocco tra esperienze e racconto\, con Michele Comi e Nicola Noè\nLo sguardo della guida che in quei luoghi vive tutto l’anno\, con Davide Spini\nDiamo voce a chi lavora sul campo\, con Andrea Pavan che presenta la tracciatura dei blocchi\nChiusura e rinfresco per tutti\n\nIngresso libero
URL:https://portedivaltellina.it/eventi/il-melloblocco-si-racconta/
LOCATION:Morbegno – Biblioteca Civica Ezio Vanoni\, Via Cortivacci\, 4\, 23017
ATTACH;FMTTYPE=image/jpeg:https://portedivaltellina.it/wp-content/uploads/2026/04/MB-si-racconta.jpg
END:VEVENT
END:VCALENDAR