BEGIN:VCALENDAR
VERSION:2.0
PRODID:-//Porte di Valtellina - ECPv6.15.20//NONSGML v1.0//EN
CALSCALE:GREGORIAN
METHOD:PUBLISH
X-WR-CALNAME:Porte di Valtellina
X-ORIGINAL-URL:https://portedivaltellina.it
X-WR-CALDESC:Eventi per Porte di Valtellina
REFRESH-INTERVAL;VALUE=DURATION:PT1H
X-Robots-Tag:noindex
X-PUBLISHED-TTL:PT1H
BEGIN:VTIMEZONE
TZID:Europe/Rome
BEGIN:DAYLIGHT
TZOFFSETFROM:+0100
TZOFFSETTO:+0200
TZNAME:CEST
DTSTART:20240331T010000
END:DAYLIGHT
BEGIN:STANDARD
TZOFFSETFROM:+0200
TZOFFSETTO:+0100
TZNAME:CET
DTSTART:20241027T010000
END:STANDARD
BEGIN:DAYLIGHT
TZOFFSETFROM:+0100
TZOFFSETTO:+0200
TZNAME:CEST
DTSTART:20250330T010000
END:DAYLIGHT
BEGIN:STANDARD
TZOFFSETFROM:+0200
TZOFFSETTO:+0100
TZNAME:CET
DTSTART:20251026T010000
END:STANDARD
BEGIN:DAYLIGHT
TZOFFSETFROM:+0100
TZOFFSETTO:+0200
TZNAME:CEST
DTSTART:20260329T010000
END:DAYLIGHT
BEGIN:STANDARD
TZOFFSETFROM:+0200
TZOFFSETTO:+0100
TZNAME:CET
DTSTART:20261025T010000
END:STANDARD
END:VTIMEZONE
BEGIN:VEVENT
DTSTART;TZID=Europe/Rome:20250620T210000
DTEND;TZID=Europe/Rome:20250620T223000
DTSTAMP:20260420T094349
CREATED:20250604T144844Z
LAST-MODIFIED:20250604T144844Z
UID:10006268-1750453200-1750458600@portedivaltellina.it
SUMMARY:45 giri d’amore
DESCRIPTION:Concerto \ncon Music & friends \nsul piazzale delle scuole medie \nIngresso libero \nIn caso di maltempo l’evento sarà annullato. \nInfo: 0342 660370 \n 
URL:https://portedivaltellina.it/eventi/45-giri-damore-3/
LOCATION:Ardenno
END:VEVENT
BEGIN:VEVENT
DTSTART;VALUE=DATE:20250621
DTEND;VALUE=DATE:20250622
DTSTAMP:20260420T094349
CREATED:20250514T153324Z
LAST-MODIFIED:20250606T151321Z
UID:10006217-1750464000-1750550399@portedivaltellina.it
SUMMARY:R-estate giovani
DESCRIPTION:Torneo di Green volley \n\ncategoria ragazzi 3×3 (nati dal 2009 al 2012)\ncategoria adulti 4×4 misto (con obbligo di 2 donne in campo)\n\nPROGRAMMA: \n\nAlle ore 9.30 ritrovo\nAlle ore 10.30 inizio torneo\nAlle ore 19.30 premiazioni e dalle 21.00 musica con DJ set\n\nIscrizione entro il 14/6 \n Costo: ragazzi € 15\,00 – adulti € 20\,00 incluso panino e bibita \nBar e cucina sempre aperti \nIn caso di maltempo il torneo sarà rinviato al 28/6 \nInfo e iscrizioni: info@prolocoardennoaps.it – 333 2028095 (wa)
URL:https://portedivaltellina.it/eventi/r-estate-giovani/
LOCATION:Ardenno
END:VEVENT
BEGIN:VEVENT
DTSTART;VALUE=DATE:20250621
DTEND;VALUE=DATE:20250622
DTSTAMP:20260420T094349
CREATED:20250618T082233Z
LAST-MODIFIED:20250618T082233Z
UID:10006429-1750464000-1750550399@portedivaltellina.it
SUMMARY:K2 Valtellina - Extreme Vertical Race
DESCRIPTION:2000 metri di dislivello in soli 9 km \nPartenza dalla Chiesa Parrocchiale di Talamona e arrivo alla Cima Pisello. \nNumero massimo di partecipanti 250. Clicca QUI per poter leggere il regolamento e iscriverti. \nMaggiori informazioni: k2valtellina@virgilio.it – +39 348 3762796
URL:https://portedivaltellina.it/eventi/k2-valtellina-extreme-vertical-race/
LOCATION:Talamona
END:VEVENT
BEGIN:VEVENT
DTSTART;VALUE=DATE:20250621
DTEND;VALUE=DATE:20250623
DTSTAMP:20260420T094349
CREATED:20250605T081201Z
LAST-MODIFIED:20250605T144236Z
UID:10006275-1750464000-1750636799@portedivaltellina.it
SUMMARY:Handimals
DESCRIPTION:Mostra di Guido Daniele \nSabato 5 aprile alle ore 11 inaugurazione con body painting dal vivo dell’artista. \nOrari di apertura: martedì\, giovedì\, sabato e domenica dalle ore 9 alle ore 12 e dalle ore 14.30 alle ore 17.30 \nIngresso gratuito \nPrenotazione per l’inaugurazione sul sito www.museostorianaturale.it
URL:https://portedivaltellina.it/eventi/handimals-2-2/2025-06-21/
LOCATION:Morbegno – Museo Civico di Storia naturale\, Via Cortivacci\, 2\, Italia
END:VEVENT
BEGIN:VEVENT
DTSTART;TZID=Europe/Rome:20250621T150000
DTEND;TZID=Europe/Rome:20250621T163000
DTSTAMP:20260420T094349
CREATED:20250509T144054Z
LAST-MODIFIED:20250509T144054Z
UID:10006199-1750518000-1750523400@portedivaltellina.it
SUMMARY:L’inganno dei sensi
DESCRIPTION:Museo in famiglia \nI cinque sensi ci permettono davvero di scoprire la realtà intorno a noi? \nVieni a scoprirlo. \nAttività su prenotazione per famiglie con bambini 5-11 anni. Prenotazioni entro venerdì 20 ore 16:00. \nCosto: € 3\,00 \nInfo: segreteriaventiventiaps@gmail.com  – 338 1702694 (wa) \n Iscrizioni: www.museostorianaturale.it
URL:https://portedivaltellina.it/eventi/linganno-dei-sensi/
LOCATION:Morbegno – Museo Civico di Storia naturale\, Via Cortivacci\, 2\, Italia
END:VEVENT
BEGIN:VEVENT
DTSTART;TZID=Europe/Rome:20250621T170000
DTEND;TZID=Europe/Rome:20250621T220000
DTSTAMP:20260420T094349
CREATED:20250611T153246Z
LAST-MODIFIED:20250611T153246Z
UID:10006309-1750525200-1750543200@portedivaltellina.it
SUMMARY:Panigaland
DESCRIPTION:Gonfiabili\, laboratori vari\, cibo e musica \nHamburger\, hot dog\, panino con la salsiccia\, straccetti di pollo fritti \nAnimazione con Wendy \nIngresso evento: €10\,00 l’ora\, €20\,00 per la serata intera. Pass in vendita alla cassa.
URL:https://portedivaltellina.it/eventi/panigaland/
LOCATION:Morbegno – Fraz. Paniga
END:VEVENT
BEGIN:VEVENT
DTSTART;TZID=Europe/Rome:20250621T180000
DTEND;TZID=Europe/Rome:20250621T233000
DTSTAMP:20260420T094349
CREATED:20250618T082614Z
LAST-MODIFIED:20250618T082614Z
UID:10006430-1750528800-1750548600@portedivaltellina.it
SUMMARY:K2 Night Party
DESCRIPTION:PROGRAMMA \n\nAlle ore 18 Happy Hour e balli di gruppo con DJ Giorgio Anastasi\nAlle ore 19 cena e spettacolo\nDalle ore 22 Guest DJ Polo\n\nGradita la prenotazione: +39 339 4154056 – +39 333 4803187
URL:https://portedivaltellina.it/eventi/k2-night-party/
LOCATION:Talamona – Polifunzionale
END:VEVENT
BEGIN:VEVENT
DTSTART;TZID=Europe/Rome:20250621T190000
DTEND;TZID=Europe/Rome:20250621T223000
DTSTAMP:20260420T094349
CREATED:20250618T095729Z
LAST-MODIFIED:20250618T095729Z
UID:10006431-1750532400-1750545000@portedivaltellina.it
SUMMARY:Sapori di legalità
DESCRIPTION:Cena con prodotti coltivati sulle terre confiscate alle mafie \nOspite della serata Stefano Mancini\, rappresentante legale della Cooperativa La Strada. \nCosto della cena €22\,00 per gli adulti e €15\,00 per i minori di 18 anni. \nPrenotazione entro il 18 giugno. \nInfo e prenotazioni: pres.morbegno@territoriale.libera.it – puntopace@hotmail.com – Lucia +39 329 4436216
URL:https://portedivaltellina.it/eventi/sapori-di-legalita/
LOCATION:“La Centralina” di Cermeledo\, Via Cermeledo\, Morbegno
END:VEVENT
BEGIN:VEVENT
DTSTART;TZID=Europe/Rome:20250621T190000
DTEND;TZID=Europe/Rome:20250621T230000
DTSTAMP:20260420T094349
CREATED:20250617T064749Z
LAST-MODIFIED:20250617T064749Z
UID:10006410-1750532400-1750546800@portedivaltellina.it
SUMMARY:Cena al borgo
DESCRIPTION:La prima cena di comunità a Maroggia \nPROGRAMMA \n\nAlle ore 19 cena\nAlle ore 21 concerto Leslie Abbadini Trio\n\nMenù della cena: antipasto di salumi\, formaggi\, giardiniera; riso Maroggia; dolce e caffè; acqua\, vino locale e birra \nCosto €15\,00 a persona \nPrenotazione obbligatoria entro il 18 giugno \nInfo e prenotazioni: cenadiborgomaroggia@gmail.com – +39 347 0012373
URL:https://portedivaltellina.it/eventi/cena-al-borgo/
LOCATION:Berbenno di Valtellina – Fraz. Maroggia\, Via Fratelli Rodari\, Berbenno di Valtellina\, 23010\, Italy
END:VEVENT
BEGIN:VEVENT
DTSTART;TZID=Europe/Rome:20250621T210000
DTEND;TZID=Europe/Rome:20250621T230000
DTSTAMP:20260420T094349
CREATED:20250221T090748Z
LAST-MODIFIED:20250619T122710Z
UID:10005785-1750539600-1750546800@portedivaltellina.it
SUMMARY:Concerti d'organo
DESCRIPTION:IV edizione \ndedicata a Marco Enrico Bossi nel centenario dalla morte. \nGli organisti della famiglia Bossi \nConcerto per la solennità di San Giovanni Battista con Arturo Sacchetti e Carlo Benatti\, il coro “S. Giovanni Battista” e la corale “N. Rusca” di Sondrio \n\nDirettore Pietro Ciapponi \nOrganista Mattia Calderazzo\n\nIngresso libero \nDirezione artistica Pietro Ciapponi \nInfo: www.parrocchiadimorbegno.com
URL:https://portedivaltellina.it/eventi/concerti-dorgano-3/
LOCATION:Morbegno – Chiesa di San Giovanni
END:VEVENT
BEGIN:VEVENT
DTSTART;VALUE=DATE:20250622
DTEND;VALUE=DATE:20250623
DTSTAMP:20260420T094349
CREATED:20250613T085857Z
LAST-MODIFIED:20250613T085857Z
UID:10006313-1750550400-1750636799@portedivaltellina.it
SUMMARY:Insieme per donare sorrisi
DESCRIPTION:PROGRAMMA \n\nDalle ore 9.30 giri a cavallo e in carrozza\nGiochi a tema\nDalle ore 16 incontro con gli atleti paralimpici Fabio Triboli e Kwadzo Klokpah\n\nDurante la giornata sarà disponibile un punto ristoro. \nMaggiori informazioni: prolocopiantedo@gmail.com
URL:https://portedivaltellina.it/eventi/insieme-per-donare-sorrisi/
LOCATION:Piantedo – Tensostruttura Comunale\, Piantedo\, 23010\, Italy
END:VEVENT
BEGIN:VEVENT
DTSTART;TZID=Europe/Rome:20250622T090000
DTEND;TZID=Europe/Rome:20250622T170000
DTSTAMP:20260420T094349
CREATED:20250606T152925Z
LAST-MODIFIED:20250626T072601Z
UID:10006295-1750582800-1750611600@portedivaltellina.it
SUMMARY:Una settimana da lupi!
DESCRIPTION:Campo estivo in Val Tartano \nalla scoperta della valle attraverso escursioni\, giochi\, laboratori e tanto divertimento! \nPer bambini e ragazzi \ncon base al rifugio “Il Pirata” \nInfo e prenotazioni: Giorgio Tanzi 340 7054267
URL:https://portedivaltellina.it/eventi/una-settimana-da-lupi/
LOCATION:Val Tartano – Rifugio Il Pirata\, Loc Arale
END:VEVENT
BEGIN:VEVENT
DTSTART;TZID=Europe/Rome:20250622T150000
DTEND;TZID=Europe/Rome:20250622T170000
DTSTAMP:20260420T094349
CREATED:20250613T135715Z
LAST-MODIFIED:20250613T135715Z
UID:10006315-1750604400-1750611600@portedivaltellina.it
SUMMARY:Morbegno la sera è viva
DESCRIPTION:La Chiesa di San Giovanni di Bioggio \nVisita guidata gratuita della durata di circa un’ora a cura di Flavia Tonelli. \nRitrovo alla Chiesa di San Fedele a Mello. \nMaggiori informazioni: biblioteca@comune.morbegno.so.it – 0342 610323
URL:https://portedivaltellina.it/eventi/morbegno-la-sera-e-viva-2/
LOCATION:Chiesa di S. Giovanni di Bioggio-Mello\, Mello\, 23010\, Italia
END:VEVENT
BEGIN:VEVENT
DTSTART;TZID=Europe/Rome:20250624T203000
DTEND;TZID=Europe/Rome:20250624T213000
DTSTAMP:20260420T094349
CREATED:20250613T140134Z
LAST-MODIFIED:20250613T140134Z
UID:10006316-1750797000-1750800600@portedivaltellina.it
SUMMARY:Morbegno la sera è viva
DESCRIPTION:Musica Rinascimentale a Palazzo Vertemate (ora Dell’Oro) \nTesori nascosti in un antico palazzo \nCon la Corale “Marco Enrico Bossi”. \nVisita guidata gratuita della durata di circa un’ora a cura di Luciana Gaggini. \nRitrovo in Piazza Caduti a Traona. \nMaggiori informazioni: biblioteca@comune.morbegno.so.it – 0342 610323
URL:https://portedivaltellina.it/eventi/morbegno-la-sera-e-viva-3/
LOCATION:Traona – Piazza Caduti
END:VEVENT
BEGIN:VEVENT
DTSTART;TZID=Europe/Rome:20250625T080000
DTEND;TZID=Europe/Rome:20250625T170000
DTSTAMP:20260420T094349
CREATED:20250625T092838Z
LAST-MODIFIED:20250625T092838Z
UID:10006441-1750838400-1750870800@portedivaltellina.it
SUMMARY:Giornata di festa
DESCRIPTION:in Piazza San Giovanni \nPROGRAMMA: \n\nOre 16.00 Ciclo-turista \n\npassaggio in piazza dell’escursione bike a cura dell’ASD 360 Valtellina Bike \n\nDalle 16.30 alle 18.00 La piazza dei bambini\n\nanimazione e giochi con la Pro Loco e la Bocciofila morbegnese \n\nDalle 18.00 alle 19.30 Catering ed apertura alteliers\n\ncon il contributo di EValtellina e Views\, rinfresco nel salotto Boffi \n\nDalle 17.00 alle 18.00 Visita guidata\n\ndella collegiata di San Giovanni con l’architetto Francesco Lazzari \n\nDalle 20.30 Festa finale\n\npresentata da Andrea e Andrea\, con il Karaoke di Nataly Fraquelli \nDurante la serata verrà premiata la miglior vetrina allestita in occasione del Giro d’Italia \n 
URL:https://portedivaltellina.it/eventi/giornata-di-festa/
LOCATION:Morbegno – Piazza S. Giovanni
END:VEVENT
BEGIN:VEVENT
DTSTART;TZID=Europe/Rome:20250626T203000
DTEND;TZID=Europe/Rome:20250626T213000
DTSTAMP:20260420T094349
CREATED:20250613T140420Z
LAST-MODIFIED:20250613T140420Z
UID:10006317-1750969800-1750973400@portedivaltellina.it
SUMMARY:Morbegno la sera è viva
DESCRIPTION:Il Convento di Sant’Antonio: gli ambienti e la vita quotidiana di un frate del ‘400 \nVisita guidata gratuita della durata di circa un’ora a cura di Alessandro Caligari e Daniele “Pillo” Del Nero. \nMaggiori informazioni: biblioteca@comune.morbegno.so.it – 0342 610323
URL:https://portedivaltellina.it/eventi/morbegno-la-sera-e-viva-4/
LOCATION:Morbegno – Sant’Antonio\, Piazza Sant'Antonio\, Morbegno\, 23017\, Italia
END:VEVENT
BEGIN:VEVENT
DTSTART;TZID=Europe/Rome:20250626T203000
DTEND;TZID=Europe/Rome:20250626T220000
DTSTAMP:20260420T094349
CREATED:20250616T081256Z
LAST-MODIFIED:20250725T070305Z
UID:10006344-1750969800-1750975200@portedivaltellina.it
SUMMARY:Favole sotto le stelle
DESCRIPTION:Letture animate all’aperto nel Piazzale della Biblioteca \nPortare una coperta da stendere a terra\, un cuscino e chi vuole anche il proprio peluche. \nMaggiori informazioni: Stefania +39 371 5707820
URL:https://portedivaltellina.it/eventi/favole-sotto-le-stelle/2025-06-26/
LOCATION:Piantedo – Biblioteca\, Piazza Papa Giovanni XXII\, 104
END:VEVENT
BEGIN:VEVENT
DTSTART;VALUE=DATE:20250628
DTEND;VALUE=DATE:20250629
DTSTAMP:20260420T094349
CREATED:20250606T101319Z
LAST-MODIFIED:20250606T101319Z
UID:10006293-1751068800-1751155199@portedivaltellina.it
SUMMARY:Lago Culino e Cima Rosetta
DESCRIPTION:Escursione In Valgerola \nAffascinante escursione tra pascoli e alpeggi fino al Lago Culino\, scoprendo l’ambiente\, le origini del lago\, il ruolo del lupo nelle Alpi e l’importanza dei cani da guardiania nei pascoli montani. \nCon la guida parco Davide Adamo \n Info\, costi e iscrizioni: Davide Adamo 347 3863474 \n 
URL:https://portedivaltellina.it/eventi/lago-culino-e-cima-rosetta/
LOCATION:Val Gerola
END:VEVENT
BEGIN:VEVENT
DTSTART;VALUE=DATE:20250628
DTEND;VALUE=DATE:20250630
DTSTAMP:20260420T094349
CREATED:20250605T081201Z
LAST-MODIFIED:20250605T144236Z
UID:10006276-1751068800-1751241599@portedivaltellina.it
SUMMARY:Handimals
DESCRIPTION:Mostra di Guido Daniele \nSabato 5 aprile alle ore 11 inaugurazione con body painting dal vivo dell’artista. \nOrari di apertura: martedì\, giovedì\, sabato e domenica dalle ore 9 alle ore 12 e dalle ore 14.30 alle ore 17.30 \nIngresso gratuito \nPrenotazione per l’inaugurazione sul sito www.museostorianaturale.it
URL:https://portedivaltellina.it/eventi/handimals-2-2/2025-06-28/
LOCATION:Morbegno – Museo Civico di Storia naturale\, Via Cortivacci\, 2\, Italia
END:VEVENT
BEGIN:VEVENT
DTSTART;VALUE=DATE:20250628
DTEND;VALUE=DATE:20250630
DTSTAMP:20260420T094349
CREATED:20250616T141432Z
LAST-MODIFIED:20250616T141432Z
UID:10006409-1751068800-1751241599@portedivaltellina.it
SUMMARY:Pro Loco Summer
DESCRIPTION:In occasione della Green Volley Marathon \nSABATO 28 \n\nAlle ore 14 inizio del torneo e apertura della casetta con panini\, caffè\, bibite e gelati\nAlle ore 18 aperi-volley con spritz\, birra\, porchetta e patatine\nAlle ore 21 DJ set con Oris dj\, birra e cocktail\n\nDOMENICA 29 \n\nCasetta aperta tutto il giorno\nAlle ore 18 premiazioni del torneo\nA seguire aperitivo di chiusura\n\nMaggiori informazioni: prolocoandalo@gmail.com
URL:https://portedivaltellina.it/eventi/pro-loco-summer/
LOCATION:Andalo – Centro sportivo Camillo De Rossi
ORGANIZER;CN="Pro Loco Andalo Valtellino":MAILTO:prolocoandalo@gmail.com
END:VEVENT
BEGIN:VEVENT
DTSTART;TZID=Europe/Rome:20250628T180000
DTEND;TZID=Europe/Rome:20250628T230000
DTSTAMP:20260420T094349
CREATED:20250616T141043Z
LAST-MODIFIED:20250616T141043Z
UID:10006408-1751133600-1751151600@portedivaltellina.it
SUMMARY:Tutti fritti
DESCRIPTION:Aiutaci a ridurre lo spreco alimentare! \nPROGRAMMA \n\nAlle ore 18 aperitivo con cuocco e gnocco fritto\nAlle ore 19.30 cena con fritto misto\, cotoletta\, patatine\, bomboloni e ciambelle\n\nPrenotazione obbligatoria su www.prolocoforcola.it \nMaggiori informazioni: +39 333 4135413
URL:https://portedivaltellina.it/eventi/tutti-fritti/
LOCATION:Forcola – Fraz. Sirta\, Chiesa parrocchiale di San Giuseppe
END:VEVENT
BEGIN:VEVENT
DTSTART;TZID=Europe/Rome:20250628T190000
DTEND;TZID=Europe/Rome:20250628T233000
DTSTAMP:20260420T094349
CREATED:20250604T152038Z
LAST-MODIFIED:20250604T152038Z
UID:10006269-1751137200-1751153400@portedivaltellina.it
SUMMARY:Sagra della patata
DESCRIPTION:18ª edizione  \nSagra con menu a base di patate \nMenu:  \ngnocchi di patate ai quattro formaggi o al ragù\, taroz\, patate in cartoccio di speck con cuore di formaggio\, roastbeef con patatine fritte\, panini con salsiccia o affettato\, patatine fritte\, porchetta d’Ariccia\, dolci assortiti e vino della casa \nCucine aperte fino a mezzanotte \n Prenotazione obbligatoria sul sito www.gscaspano.it \nMusica e balli con Fabalà 3.0 e Lupo Alberto\, gonfiabili per bambini. \nLa festa  si terrà anche in caso di pioggia in quanto la struttura è parzialmente al coperto \n Info: FB GS-San-Bartolomeo-Caspano – www.gscaspano.it
URL:https://portedivaltellina.it/eventi/sagra-della-patata/
LOCATION:Caspano – Campo sportivo\, Caspano\, Civo\, Italia
END:VEVENT
BEGIN:VEVENT
DTSTART;TZID=Europe/Rome:20250628T193000
DTEND;TZID=Europe/Rome:20250628T223000
DTSTAMP:20260420T094349
CREATED:20250616T065702Z
LAST-MODIFIED:20250616T065702Z
UID:10006341-1751139000-1751149800@portedivaltellina.it
SUMMARY:Cena di San Pietro
DESCRIPTION:In occasione della Festa del Santo Patrono \nMENU’ \n\nAntipasto di San Pietro\nRisotto con taleggio e zucchine\nRoast beef con patate\nFormaggio\nGelato con mirtilli\nCaffè e bevande\n\nCosto €25\,00 a persona \nInfo e prenotazioni: Barbara +39 338 5293671 – Irene +39 346 5918898
URL:https://portedivaltellina.it/eventi/cena-di-san-pietro/
LOCATION:Ex Scuole Masino\, Ardenno\, 23011\, Italy
END:VEVENT
BEGIN:VEVENT
DTSTART;TZID=Europe/Rome:20250628T203000
DTEND;TZID=Europe/Rome:20250628T213000
DTSTAMP:20260420T094349
CREATED:20250613T140548Z
LAST-MODIFIED:20250613T140548Z
UID:10006318-1751142600-1751146200@portedivaltellina.it
SUMMARY:Morbegno la sera è viva
DESCRIPTION:“Di fabricare la Capella di Santo Carlo nella Chiesa di Santo Pietro”: voti di peste nella Chiesa di San Pietro \nVisita guidata gratuita della durata di circa un’ora a cura di Piergiovanni Damiani. \nMaggiori informazioni: biblioteca@comune.morbegno.so.it – 0342 610323
URL:https://portedivaltellina.it/eventi/morbegno-la-sera-e-viva-5/
LOCATION:Morbegno – Chiesa di San Pietro\, Via San Pietro\, Morbegno\, 23017
END:VEVENT
BEGIN:VEVENT
DTSTART;VALUE=DATE:20250629
DTEND;VALUE=DATE:20250630
DTSTAMP:20260420T094349
CREATED:20250610T075113Z
LAST-MODIFIED:20250610T075113Z
UID:10006305-1751155200-1751241599@portedivaltellina.it
SUMMARY:Festa del Piz Bèck
DESCRIPTION:PROGRAMMA \n\nAlle ore 11 Santa Messa al Piz Bèck per Marco Rabbiosi\, celebrata da Don Romano Pologna\nAlle ore 13 pranzo alla pozza di Olano a base di polenta taragna e salsiccia\, prodotti tipici locali con bere incluso al costo di €15\,00\nAlle ore 16.30 aperitivo presso il Rifugio della Corte\n\nPosti limitati per pranzo \nInfo e prenotazioni (entro il 26 giugno): Dani +39 327 3894297 – Simi +39 391 1760968
URL:https://portedivaltellina.it/eventi/festa-del-piz-beck/
LOCATION:Piz Bèck\, Cosio Valtellino\, 23013\, Italy
END:VEVENT
BEGIN:VEVENT
DTSTART;VALUE=DATE:20250629
DTEND;VALUE=DATE:20250630
DTSTAMP:20260420T094349
CREATED:20250616T064722Z
LAST-MODIFIED:20250616T064722Z
UID:10006340-1751155200-1751241599@portedivaltellina.it
SUMMARY:Pranzo in musica
DESCRIPTION:In compagnia dei “Bei Matei” \nMENU’ \n\nTagliere di affettati misti accompagnati da sciatt e taroz\nPizzoccheri e tagliatelle ai funghi\nGelato con mirtilli freschi\nAcqua\, vino e caffè\n\nCosto €35\,00 a persona \nInfo e prenotazioni: +39 350 1075434
URL:https://portedivaltellina.it/eventi/pranzo-in-musica/
LOCATION:Rifugio Ronchi\, Loc. Ronchi\, Bema\, 23010\, Italy
END:VEVENT
BEGIN:VEVENT
DTSTART;TZID=Europe/Rome:20250629T200000
DTEND;TZID=Europe/Rome:20250629T213000
DTSTAMP:20260420T094349
CREATED:20250613T140724Z
LAST-MODIFIED:20250613T140724Z
UID:10006319-1751227200-1751232600@portedivaltellina.it
SUMMARY:Morbegno la sera è viva
DESCRIPTION:Ali nella notte: un viaggio virtuale nel fantastico mondo dei rapaci notturni \nVisita guidata gratuita della durata di circa un’ora a cura di Massimo Benazzo (Associazione Orma). \nRitrovo al Campo Sportivo di Regoledo. \nPrenotazione obbligatoria (massimo 30 persone). \nMaggiori informazioni: biblioteca@comune.morbegno.so.it – 0342 610323
URL:https://portedivaltellina.it/eventi/morbegno-la-sera-e-viva-6/
LOCATION:Cosio Valt.no – Fraz. Regoledo
END:VEVENT
BEGIN:VEVENT
DTSTART;TZID=Europe/Rome:20250630T203000
DTEND;TZID=Europe/Rome:20250630T213000
DTSTAMP:20260420T094349
CREATED:20250613T140821Z
LAST-MODIFIED:20250613T140821Z
UID:10006320-1751315400-1751319000@portedivaltellina.it
SUMMARY:Morbegno la sera è viva
DESCRIPTION:Di là del fiume e il ponte per passarlo \nVisita guidata gratuita della durata di circa un’ora a cura di Mauro Orlandi. \nMaggiori informazioni: biblioteca@comune.morbegno.so.it – 0342 610323
URL:https://portedivaltellina.it/eventi/morbegno-la-sera-e-viva-7/
LOCATION:Morbegno – Ponte di Ganda
END:VEVENT
BEGIN:VEVENT
DTSTART;TZID=Europe/Rome:20250701T203000
DTEND;TZID=Europe/Rome:20250701T213000
DTSTAMP:20260420T094349
CREATED:20250613T140911Z
LAST-MODIFIED:20250613T140911Z
UID:10006321-1751401800-1751405400@portedivaltellina.it
SUMMARY:Morbegno la sera è viva
DESCRIPTION:L’Abbazia di San Pietro in Vallate \nVisita guidata gratuita della durata di circa un’ora a cura di Davide Del Nero. \nMaggiori informazioni: biblioteca@comune.morbegno.so.it – 0342 610323
URL:https://portedivaltellina.it/eventi/morbegno-la-sera-e-viva-8/
LOCATION:Abbazia di S. Pietro in Vallate\, Fraz. Piagno\, Cosio Valtellino\, 23013\, Italia
END:VEVENT
BEGIN:VEVENT
DTSTART;TZID=Europe/Rome:20250702T143000
DTEND;TZID=Europe/Rome:20250702T170000
DTSTAMP:20260420T094349
CREATED:20250616T083300Z
LAST-MODIFIED:20250616T083300Z
UID:10006403-1751466600-1751475600@portedivaltellina.it
SUMMARY:Laboratorio dell'Ecomuseo di Albaredo
DESCRIPTION:Vieni a divertirti con noi! \nPartecipa al laboratorio per bambini e costruisci il tuo hotel per insetti. Un’attività creativa ed educativa per imparare a proteggere la natura e i nostri amici insetti. Ti aspettiamo per un pomeriggio di fantasia e scoperta! \nCosto €10\,00 con merenda inclusa. \nInfo e iscrizioni: info@ecomuseoalbaredo.it
URL:https://portedivaltellina.it/eventi/laboratorio-dellecomuseo-di-albaredo/
LOCATION:Albaredo per San Marco – Porta del Parco\, Via Brasa\, 14\, Albaredo per San Marco\, 23010\, Italia
ORGANIZER;CN="Ecomuseo Valli del Bitto":MAILTO:ecomuseo@vallidelbitto.it
END:VEVENT
END:VCALENDAR