BEGIN:VCALENDAR
VERSION:2.0
PRODID:-//Porte di Valtellina - ECPv6.15.20//NONSGML v1.0//EN
CALSCALE:GREGORIAN
METHOD:PUBLISH
X-ORIGINAL-URL:https://portedivaltellina.it
X-WR-CALDESC:Eventi per Porte di Valtellina
REFRESH-INTERVAL;VALUE=DURATION:PT1H
X-Robots-Tag:noindex
X-PUBLISHED-TTL:PT1H
BEGIN:VTIMEZONE
TZID:Europe/Rome
BEGIN:DAYLIGHT
TZOFFSETFROM:+0100
TZOFFSETTO:+0200
TZNAME:CEST
DTSTART:20250330T010000
END:DAYLIGHT
BEGIN:STANDARD
TZOFFSETFROM:+0200
TZOFFSETTO:+0100
TZNAME:CET
DTSTART:20251026T010000
END:STANDARD
BEGIN:DAYLIGHT
TZOFFSETFROM:+0100
TZOFFSETTO:+0200
TZNAME:CEST
DTSTART:20260329T010000
END:DAYLIGHT
BEGIN:STANDARD
TZOFFSETFROM:+0200
TZOFFSETTO:+0100
TZNAME:CET
DTSTART:20261025T010000
END:STANDARD
BEGIN:DAYLIGHT
TZOFFSETFROM:+0100
TZOFFSETTO:+0200
TZNAME:CEST
DTSTART:20270328T010000
END:DAYLIGHT
BEGIN:STANDARD
TZOFFSETFROM:+0200
TZOFFSETTO:+0100
TZNAME:CET
DTSTART:20271031T010000
END:STANDARD
END:VTIMEZONE
BEGIN:VEVENT
DTSTART;TZID=Europe/Rome:20260515T180000
DTEND;TZID=Europe/Rome:20260515T233000
DTSTAMP:20260425T043626
CREATED:20260421T155238Z
LAST-MODIFIED:20260421T155238Z
UID:10008118-1778868000-1778887800@portedivaltellina.it
SUMMARY:Night party music & beer
DESCRIPTION:Serata con cena e musica \nConcerto dei Jodedoss dalle ore 20.00 e a seguire DJ set \nDrink tutta la sera \nInfo e prenotazioni: Pro Loco Mantello 345 9708719
URL:https://portedivaltellina.it/eventi/night-party-music-beer/
LOCATION:Mantello – Campo della chiesa
ATTACH;FMTTYPE=image/jpeg:https://portedivaltellina.it/wp-content/uploads/2026/04/20260515_mantello.jpg
END:VEVENT
BEGIN:VEVENT
DTSTART;TZID=Europe/Rome:20260516T090000
DTEND;TZID=Europe/Rome:20260516T170000
DTSTAMP:20260425T043626
CREATED:20260325T161634Z
LAST-MODIFIED:20260325T161634Z
UID:10008030-1778922000-1778950800@portedivaltellina.it
SUMMARY:Val Fabiolo\, il coraggio di restare
DESCRIPTION:Con le guide nel Parco \nEscursione storico-culturale in Val Fabiolo e incontro con l’unico abitante di Sostila\, custode dell’anima di queste montagne. \nDislivello +1000 m –  difficoltà E \nRitrovo al parcheggio vicino al Bar Roma a Forcola – Fraz. Sirta \nInfo\, costi e prenotazioni: guida Pietro Baruta 346 3046069 – info@i4elementitrekking.it \n 
URL:https://portedivaltellina.it/eventi/val-fabiolo-il-coraggio-di-restare/
LOCATION:Forcola – Loc. Sostila\, Loc. Sostila\, Forcola\, 23010\, Italy
ATTACH;FMTTYPE=image/webp:https://portedivaltellina.it/wp-content/uploads/2026/03/20260516_Val-Fabiolo.webp
END:VEVENT
BEGIN:VEVENT
DTSTART;TZID=Europe/Rome:20260516T090000
DTEND;TZID=Europe/Rome:20260528T173000
DTSTAMP:20260425T043626
CREATED:20260422T091255Z
LAST-MODIFIED:20260422T091255Z
UID:10008121-1778922000-1779989400@portedivaltellina.it
SUMMARY:Madagasikara: cronache dal confine del mondo
DESCRIPTION:Cosa significa vivere e lottare in una terra che sembra trovarsi alla fine del mondo? \nMostra fotografica di Franco Andreone – canti\, racconti e fiabe di Olga del Madagascar: un dialogo tra scienza e cultura. \nInaugurazione con lo zoologo Franco Andreone autore delle foto e l’artista Olga Del Madagascar sabato 16/5 alle ore 17.30 \nEvento gratuito  \nMostra visitabile negli orari di apertura del museo: \n\nmartedì\, giovedì\, sabato e domenica\ndalle 9.00 alle 12.00 e dalle 14.30 alle 17.30\n\nInfo e prenotazioni: www.museostorianaturale.it
URL:https://portedivaltellina.it/eventi/madagasikara-cronache-dal-confine-del-mondo/
LOCATION:Morbegno – Museo Civico di Storia naturale\, Via Cortivacci\, 2\, Italia
ATTACH;FMTTYPE=image/png:https://portedivaltellina.it/wp-content/uploads/2026/04/20260516_mada-museo.png
END:VEVENT
BEGIN:VEVENT
DTSTART;TZID=Europe/Rome:20260516T180000
DTEND;TZID=Europe/Rome:20260516T200000
DTSTAMP:20260425T043626
CREATED:20260421T160030Z
LAST-MODIFIED:20260421T160030Z
UID:10008119-1778954400-1778961600@portedivaltellina.it
SUMMARY:Il romanticismo e l’harmoniemusik
DESCRIPTION:Concerto de i Fiati di Valtellina \nnei Giardini di Palazzo Malacrida \nDirettore Lorenzo Della Fonte \nIngresso libero \nDurante il concerto sarà possibile effettuare una degustazione di una selezione di vini a cura de La Locanda Via Priula \nInfo: https://www.fiativaltellina.net/
URL:https://portedivaltellina.it/eventi/il-romanticismo-e-lharmoniemusik/
LOCATION:Morbegno – Palazzo Malacrida\, Via Malacrida
ATTACH;FMTTYPE=image/jpeg:https://portedivaltellina.it/wp-content/uploads/2026/04/20260516_concerto-malacrida.jpeg
END:VEVENT
BEGIN:VEVENT
DTSTART;TZID=Europe/Rome:20260516T210000
DTEND;TZID=Europe/Rome:20260516T223000
DTSTAMP:20260425T043626
CREATED:20260403T091710Z
LAST-MODIFIED:20260403T091710Z
UID:10008065-1778965200-1778970600@portedivaltellina.it
SUMMARY:La trovatella stagionata
DESCRIPTION:Spettacolo teatrale \nCommedia brillante in due atti a cura della compagnia teatrale Il Caminetto di Ardenno \nRegia di Elena Sacchi \nCentro polifunzionale di Dazio \n 
URL:https://portedivaltellina.it/eventi/la-trovatella-stagionata-4/
LOCATION:Dazio – Sala Polifunzionale\, Via Vittorio Veneto 48\, Dazio\, 23010\, Italia
ATTACH;FMTTYPE=image/jpeg:https://portedivaltellina.it/wp-content/uploads/2026/04/202604_05_Il-caminetto.jpg
END:VEVENT
BEGIN:VEVENT
DTSTART;TZID=Europe/Rome:20260520T080000
DTEND;TZID=Europe/Rome:20260520T170000
DTSTAMP:20260425T043626
CREATED:20260326T081146Z
LAST-MODIFIED:20260326T081155Z
UID:10008031-1779264000-1779296400@portedivaltellina.it
SUMMARY:Cima Rosetta
DESCRIPTION:Con le guide nel Parco \nEscursione guidata nel cuore delle Orobie\, sulle tracce degli animali selvatici\, dove il silenzio della natura incontra il fascino della storia locale \nDislivello +610 –  difficoltà E \nRitrovo a Morbegno alla pasticceria Dolce Forno \nInfo\, costi e prenotazioni: guida Massimiliano Gelmini 333 8628803 – thedarksideofthemountani@gmail.com
URL:https://portedivaltellina.it/eventi/cima-rosetta/
LOCATION:Valgerola\, Gerola Alta\, Italia
ATTACH;FMTTYPE=image/jpeg:https://portedivaltellina.it/wp-content/uploads/2026/03/20260520_cima-rosetta.jpg
END:VEVENT
BEGIN:VEVENT
DTSTART;TZID=Europe/Rome:20260520T163000
DTEND;TZID=Europe/Rome:20260520T173000
DTSTAMP:20260425T043626
CREATED:20260424T084654Z
LAST-MODIFIED:20260424T084654Z
UID:10008136-1779294600-1779298200@portedivaltellina.it
SUMMARY:Qua la zampa
DESCRIPTION:Un’isola molte anime – Alla scoperta degli amici a 4 zampe \nInsieme ad Arianna del centro cinofilo zampa d’oro\, i bambini scopriranno il linguaggio dei cani attraverso racconti e attività pratiche. \nUn incontro per imparare a relazionarsi con i nostri amici a 4 zampe in totale sicurezza\, divertimeno e rispetto. \nCi sarà la possibilità di partecipare a una visita guidata del Sentiero nell’Isola e scoprire le specialità del punto vendita. \nPer bambini/e dai 5 anni in su. \nCosto di € 10\,00 \nInfo e prenotazioni: elisa.ravelli@sentieromorbegno.it – Cell. 3470403838 \n*il laboratorio verrà attivato al raggiungimento di almeno 8 partecipanti
URL:https://portedivaltellina.it/eventi/qua-la-zampa/
LOCATION:Morbegno – Il Sentiero nell’Isola\, Via della Bonifica\, Morbegno\, 23017\, Italy
ATTACH;FMTTYPE=image/jpeg:https://portedivaltellina.it/wp-content/uploads/2026/04/20260520_qua-la-zampa.jpg
END:VEVENT
BEGIN:VEVENT
DTSTART;VALUE=DATE:20260522
DTEND;VALUE=DATE:20260525
DTSTAMP:20260425T043626
CREATED:20260402T085111Z
LAST-MODIFIED:20260402T085111Z
UID:10008059-1779408000-1779667199@portedivaltellina.it
SUMMARY:Weekend olistico
DESCRIPTION:Il potere del respiro consapevole \nFine settimana di benessere in Val Tartano:  un viaggio interiore attraverso pratiche e tecniche energetiche – meditazione e tanto altro\, per risvegliare la consapevolezza del respiro e di se stessi. \nIl costo dei 3 giorni include tutte le pratiche\, vitto e alloggio presso l’Albergo Gran Baita e un trattamento energetico. \nScarica QUI LE LOCANDINE con il programma completo \nInfo\, costi e prenotazioni: Associazione Arti per la salute: 02 9315750 – 335 8050788 – info@artisalute.it – www.artisalute.it \n 
URL:https://portedivaltellina.it/eventi/weekend-olistico/
LOCATION:Tartano – Albergo Gran Baita
ATTACH;FMTTYPE=image/jpeg:https://portedivaltellina.it/wp-content/uploads/2026/04/20260522_24_we-olistico.jpeg
ORGANIZER;CN="Associazione Arti per la Salute":MAILTO:info@artisalute.it
END:VEVENT
BEGIN:VEVENT
DTSTART;TZID=Europe/Rome:20260524T173000
DTEND;TZID=Europe/Rome:20260524T213000
DTSTAMP:20260425T043626
CREATED:20260423T103640Z
LAST-MODIFIED:20260423T103640Z
UID:10008126-1779643800-1779658200@portedivaltellina.it
SUMMARY:Aperitivo nel cielo
DESCRIPTION:Suggestivo itinerario lungo i vecchi sentieri che portano alle antiche contrade della Val Tartano attraverso paesaggi  panoramici e molto suggestivi e i racconti della guida sui segreti e la storia della valle. \nArrivo al Bivacco Frasnìi e ritorno a Campo Tartano passando sul ponte nel cielo al tramonto. L’escursione si chiude con una degustazione del famoso formaggio “Storico ribelle” accompagnato da vini e sapori del territorio. \nLunghezza Km 6 circa – dislivello +300m \, difficoltà T2 \n Info\, costi e prenotazioni: www.onestepoutside.it \n 
URL:https://portedivaltellina.it/eventi/aperitivo-nel-cielo-9/2026-05-24/
LOCATION:Val Tartano
ATTACH;FMTTYPE=image/jpeg:https://portedivaltellina.it/wp-content/uploads/2025/02/2025_ponte-nel-cielo.jpg
ORGANIZER;CN="One Step Outside":MAILTO:info@onestepoutside.it
END:VEVENT
BEGIN:VEVENT
DTSTART;TZID=Europe/Rome:20260527T100000
DTEND;TZID=Europe/Rome:20260527T120000
DTSTAMP:20260425T043626
CREATED:20260209T165132Z
LAST-MODIFIED:20260209T165132Z
UID:10007897-1779876000-1779883200@portedivaltellina.it
SUMMARY:Nati per leggere
DESCRIPTION:Appuntamento per il quarto mercoledì di ogni mese \nLeggere fa bene alla salute e fa bene alle famiglie \nRivolto ai bambini da 0 a 3 anni e ai loro genitori. \nSi legge\, si gioca\, ci si confronta\, si sta insieme in un luogo stimolante. \nMaggiori informazioni: biblioteca@comune.piantedo.so.it – 0342 682193
URL:https://portedivaltellina.it/eventi/nati-per-leggere-6/
LOCATION:Piantedo – Biblioteca\, Piazza Papa Giovanni XXII\, 104
ATTACH;FMTTYPE=image/jpeg:https://portedivaltellina.it/wp-content/uploads/2026/02/20260225_nati-per-leggere-piantedo.jpg
END:VEVENT
BEGIN:VEVENT
DTSTART;TZID=Europe/Rome:20260530T080000
DTEND;TZID=Europe/Rome:20260530T130000
DTSTAMP:20260425T043626
CREATED:20260115T161643Z
LAST-MODIFIED:20260115T162001Z
UID:10007607-1780128000-1780146000@portedivaltellina.it
SUMMARY:Enjoy Stelvio
DESCRIPTION:Passo San Marco \nPassi alpini chiusi ai motori\, aperti alle emozioni \nTorna la manifestazione per gli amanti delle salite in bicicletta o a piedi\, con le strade chiuse alla circolazione dei mezzi a motore. \nAperta a tutti\, non ci sono iscrizioni e non è una competizione \nInfo: www.valtellina.it
URL:https://portedivaltellina.it/eventi/enjoy-stelvio/
LOCATION:Albaredo per San Marco\, Ul Salòt di Bariloc'
ATTACH;FMTTYPE=image/jpeg:https://portedivaltellina.it/wp-content/uploads/2026/01/locandina-Enjoy-Stelvio-Valtellina-2026.jpg
ORGANIZER;CN="Enjoy Stelvio Valtellina":MAILTO:enjoy@stelviopark.it
END:VEVENT
BEGIN:VEVENT
DTSTART;TZID=Europe/Rome:20260530T093000
DTEND;TZID=Europe/Rome:20260531T170000
DTSTAMP:20260425T043626
CREATED:20260326T082431Z
LAST-MODIFIED:20260326T082431Z
UID:10008033-1780133400-1780246800@portedivaltellina.it
SUMMARY:Salita al bivacco Rovedatti
DESCRIPTION:Con le guide nel Parco \nEscursione guidata adatta a famiglie con bambini alla scoperta dei maggenghi della Val Tartano\, attraversando il Ponte nel cielo \nDislivello +800 – difficoltà E \nRitrovo alla biglietteria del Ponte nel Cielo alle ore 9.30 \nInfo\, costi e prenotazioni: guida Simone Guidetti 339 3342729 – simone.guidetti@hotmail.it
URL:https://portedivaltellina.it/eventi/salita-al-bivacco-rovedatti/
LOCATION:Val Tartano
ATTACH;FMTTYPE=image/jpeg:https://portedivaltellina.it/wp-content/uploads/2026/03/20260530_bottani.jpg
END:VEVENT
BEGIN:VEVENT
DTSTART;TZID=Europe/Rome:20260530T150000
DTEND;TZID=Europe/Rome:20260530T163000
DTSTAMP:20260425T043626
CREATED:20260415T140433Z
LAST-MODIFIED:20260415T140433Z
UID:10008102-1780153200-1780158600@portedivaltellina.it
SUMMARY:Che fusto!
DESCRIPTION:Museo in famiglia\nSotto la corteccia i fusti degli alberi e dei cespugli nascondono interessanti segreti… \nAttività su prenotazione per famiglie con bambini da 5 a 11 anni (bambini accompagnati da almeno un adulto). \nCosto € 3\,00 a persona \nInfo: segreteriaventiventiaps@gmail.com – 338 1702694 (wa) \nIscrizioni entro venerdì 29 maggio ore 16:00
URL:https://portedivaltellina.it/eventi/che-fusto/
LOCATION:Morbegno – Museo Civico di Storia naturale\, Via Cortivacci\, 2\, Italia
ATTACH;FMTTYPE=image/png:https://portedivaltellina.it/wp-content/uploads/2026/04/20260530_museo-che-fusto.png
END:VEVENT
BEGIN:VEVENT
DTSTART;VALUE=DATE:20260531
DTEND;VALUE=DATE:20260602
DTSTAMP:20260425T043626
CREATED:20260326T081913Z
LAST-MODIFIED:20260326T081913Z
UID:10008032-1780185600-1780358399@portedivaltellina.it
SUMMARY:Orobie giapponesi!
DESCRIPTION:Con le guide nel Parco \nDue giorni per sperimentare l’incontro di diverse tradizioni culturali in un ambiente alpino autentico. \nFacili passeggiate guidate in Val Tartano e scoperta dell’antica cerimonia giapponese del te\, con la calorosa accoglienza del rifugio Pirata \nDislivello +200/ +500\, difficoltà T e E \nRitrovo a Morbegno alla stazione FS alle ore 9.00 \nInfo\, costi e prenotazioni: guida Andrea Fornaroli 328 8871487 – andros101@hotmail.com
URL:https://portedivaltellina.it/eventi/orobie-giapponesi/
LOCATION:Valgerola\, Gerola Alta\, Italia
ATTACH;FMTTYPE=image/jpeg:https://portedivaltellina.it/wp-content/uploads/2026/03/20260530_31_giappone-in-val-Tartano.jpg
END:VEVENT
BEGIN:VEVENT
DTSTART;TZID=Europe/Rome:20260602T093000
DTEND;TZID=Europe/Rome:20260602T170000
DTSTAMP:20260425T043626
CREATED:20260326T100131Z
LAST-MODIFIED:20260326T100131Z
UID:10008034-1780392600-1780419600@portedivaltellina.it
SUMMARY:Disegnare nella natura
DESCRIPTION:Con le guide nel Parco \nEscursione guidata adatta a famiglie con bambini fino al Dosso Chierico dove\, prendendo spunto dal paesaggio\, si disegnerà immersi nella natura. \n Dislivello +350 –  difficoltà E \nRitrovo nella piazza della chiesa di Albaredo \nInfo\, costi e prenotazioni: guida Rosanna Bertolini 371 3271304 – rosyrosy73@tiscali.it
URL:https://portedivaltellina.it/eventi/disegnare-nella-natura/
LOCATION:Valle del Bitto di Albaredo
ATTACH;FMTTYPE=image/jpeg:https://portedivaltellina.it/wp-content/uploads/2026/03/20260602_albaredo.jpg
END:VEVENT
BEGIN:VEVENT
DTSTART;TZID=Europe/Rome:20260603T080000
DTEND;TZID=Europe/Rome:20260603T170000
DTSTAMP:20260425T043626
CREATED:20260326T110047Z
LAST-MODIFIED:20260326T110047Z
UID:10008035-1780473600-1780506000@portedivaltellina.it
SUMMARY:Tra acqua e pietra
DESCRIPTION:Con le guide nel Parco \nPasseggiata storico naturalistica con visita guidata ai laghetti alpini con le loro curiosità geologiche e al ritorno al museo La casa del Tempo \nDislivello +1300\, difficoltà EE \nAdatto ad escursionisti esperti \nRitrovo a Gerola presso l’Antica trattoria Pizzo tre Signori alle ore 8.00 \nInfo\, costi e prenotazioni: guida Stefano Rimoldi 339 8919875 – steandrorimoldi@gmail.com
URL:https://portedivaltellina.it/eventi/tra-acqua-e-pietra/
LOCATION:Val Gerola
ATTACH;FMTTYPE=image/jpeg:https://portedivaltellina.it/wp-content/uploads/2026/03/20260603_val-gerola.jpg
END:VEVENT
BEGIN:VEVENT
DTSTART;VALUE=DATE:20260603
DTEND;VALUE=DATE:20260604
DTSTAMP:20260425T043626
CREATED:20260314T105143Z
LAST-MODIFIED:20260314T105143Z
UID:10008002-1780498800-1780506000@portedivaltellina.it
SUMMARY:Nati per la musica
DESCRIPTION:Le proposte della Biblioteca Ines Busnarda Luzzi \nTanti gli appuntamenti in biblioteca \nI mercoledì pomeriggio con la musica. \nInfo: Biblioteca Talamona: 0342 672076 \n 
URL:https://portedivaltellina.it/eventi/nati-per-la-musica/2026-06-03/
LOCATION:Talamona – Biblioteca Comunale Ines Busnarda Luzzi\, Via Don Cusini\, 49\, Talamona\, 23018\, Italia
ATTACH;FMTTYPE=image/jpeg:https://portedivaltellina.it/wp-content/uploads/2026/02/202602_03_biblio-talamona.jpeg
ORGANIZER;CN="Biblioteca Talamona":MAILTO:biblioteca@comune.talamona.so.it
END:VEVENT
BEGIN:VEVENT
DTSTART;TZID=Europe/Rome:20260611T080000
DTEND;TZID=Europe/Rome:20260611T170000
DTSTAMP:20260425T043626
CREATED:20260326T152247Z
LAST-MODIFIED:20260326T152247Z
UID:10008039-1781164800-1781197200@portedivaltellina.it
SUMMARY:Produzione del formaggio\, una lunga tradizione
DESCRIPTION:Con le guide nel Parco \nEscursione per conoscere l’antico mestiere del casaro in alpeggio\, osservando i diversi stadi della produzione del formaggio con possibilità di assaggio \nDifficoltà E \nRitrovo alla chiesa di Tartano \nInfo\, costi e prenotazioni: guida Leila Kataoka – 0342645086 – leila.kataoka@gmail.com \n 
URL:https://portedivaltellina.it/eventi/produzione-del-formaggio-una-lunga-tradizione/
LOCATION:Val Tartano
ATTACH;FMTTYPE=image/jpeg:https://portedivaltellina.it/wp-content/uploads/2026/03/20260611_val-tartano-latte.jpg
END:VEVENT
BEGIN:VEVENT
DTSTART;TZID=Europe/Rome:20260612T190000
DTEND;TZID=Europe/Rome:20260614T233000
DTSTAMP:20260425T043626
CREATED:20260422T080249Z
LAST-MODIFIED:20260422T080249Z
UID:10008120-1781290800-1781479800@portedivaltellina.it
SUMMARY:Festa del Gnocco Fritto
DESCRIPTION:XV edizione \n3 serate di festa: \n\n Venerdì 12: Piadina romagnola e musica con Dj Joe di Mello\n Sabato 13: Gnocco fritto e musica con Francesca Emotion live.\nDomenica 14: Fritto misto e Lupo Manopola show\n\nL’intero ricavato verrà utilizzato per le attività di volontariato del Gruppo della Gioia \nInfo e prenotazioni: 339 8572356 – festadelgnoccofritto@gmail.com \n 
URL:https://portedivaltellina.it/eventi/festa-del-gnocco-fritto-2/
LOCATION:Talamona – Polifunzionale
ATTACH;FMTTYPE=image/jpeg:https://portedivaltellina.it/wp-content/uploads/2026/04/20260612_14_gnocco-fritto.jpeg
END:VEVENT
BEGIN:VEVENT
DTSTART;TZID=Europe/Rome:20260612T210000
DTEND;TZID=Europe/Rome:20260612T223000
DTSTAMP:20260425T043626
CREATED:20260211T081721Z
LAST-MODIFIED:20260211T081721Z
UID:10007907-1781298000-1781303400@portedivaltellina.it
SUMMARY:Montagne di sera
DESCRIPTION:Storie di alpinismo e dintorni \nI miei 14 ottomila \ndi Mario Panzeri \nIngresso libero \nMaggiori informazioni: museo@comune.morbegno.so.it – 0342 612451
URL:https://portedivaltellina.it/eventi/montagne-di-sera-5/
LOCATION:Morbegno – Museo Civico di Storia naturale\, Via Cortivacci\, 2\, Italia
ATTACH;FMTTYPE=image/jpeg:https://portedivaltellina.it/wp-content/uploads/2026/02/2026_Montagne-di-sera.jpeg
ORGANIZER;CN="CAI Morbegno":MAILTO:info@caimorbegno.org
END:VEVENT
BEGIN:VEVENT
DTSTART;VALUE=DATE:20260618
DTEND;VALUE=DATE:20260620
DTSTAMP:20260425T043626
CREATED:20260326T152953Z
LAST-MODIFIED:20260326T152953Z
UID:10008040-1781740800-1781913599@portedivaltellina.it
SUMMARY:Notte al museo
DESCRIPTION:Con le guide nel Parco \nDue giorni di escursioni e avventure guidate tra i sentieri della Val Gerola per scoprire i segreti delle piante e degli alpeggi con pernottamento nelle sale del museo del tempo. \nAdatto a famiglie con bambini.  \nDislivello +300\, difficoltà E \nRitrovo a Gerola Alta alle ore 10.00 \nInfo\, costi e prenotazioni: guida Silvia Nova 345 1261666 – silviatrekking@gmail.com \n 
URL:https://portedivaltellina.it/eventi/notte-al-museo/
LOCATION:Valgerola\, Gerola Alta\, Italia
ATTACH;FMTTYPE=image/jpeg:https://portedivaltellina.it/wp-content/uploads/2026/03/20260618_19_Val-gerola.jpg
END:VEVENT
BEGIN:VEVENT
DTSTART;TZID=Europe/Rome:20260621T083000
DTEND;TZID=Europe/Rome:20260621T150000
DTSTAMP:20260425T043626
CREATED:20260324T114616Z
LAST-MODIFIED:20260324T114616Z
UID:10008024-1782030600-1782054000@portedivaltellina.it
SUMMARY:Trofeo Fattoria Sempreverde
DESCRIPTION:6° memorial Mario Gianola “Tranquil”. \nGara nazionale FIDAL e II prova del campionato regionale CSI di corsa in montagna \nPROGRAMMA: \n\nAlle 8.30 ritrovo alla chiesa di Arzo\nAlle 9.30 partenza per la gara unica uomini e donne di Km 7\,5\nAlle 11.30 premiazioni presso la fattoria Sempreverde\n\n Info: Giovanni Ruffoni 340 4606881 – info@gscsimorbegno.org
URL:https://portedivaltellina.it/eventi/trofeo-fattoria-sempreverde/
LOCATION:Morbegno – Fraz. Arzo – Fattoria didattica Sempreverde
ATTACH;FMTTYPE=image/jpeg:https://portedivaltellina.it/wp-content/uploads/2026/03/20260621_trofeo-sempreverde.jpg
END:VEVENT
BEGIN:VEVENT
DTSTART;TZID=Europe/Rome:20260621T180000
DTEND;TZID=Europe/Rome:20260621T220000
DTSTAMP:20260425T043626
CREATED:20260423T103640Z
LAST-MODIFIED:20260423T103640Z
UID:10008127-1782064800-1782079200@portedivaltellina.it
SUMMARY:Aperitivo nel cielo
DESCRIPTION:Suggestivo itinerario lungo i vecchi sentieri che portano alle antiche contrade della Val Tartano attraverso paesaggi  panoramici e molto suggestivi e i racconti della guida sui segreti e la storia della valle. \nArrivo al Bivacco Frasnìi e ritorno a Campo Tartano passando sul ponte nel cielo al tramonto. L’escursione si chiude con una degustazione del famoso formaggio “Storico ribelle” accompagnato da vini e sapori del territorio. \nLunghezza Km 6 circa – dislivello +300m \, difficoltà T2 \n Info\, costi e prenotazioni: www.onestepoutside.it \n 
URL:https://portedivaltellina.it/eventi/aperitivo-nel-cielo-9/2026-06-21/
LOCATION:Val Tartano
ATTACH;FMTTYPE=image/jpeg:https://portedivaltellina.it/wp-content/uploads/2025/02/2025_ponte-nel-cielo.jpg
ORGANIZER;CN="One Step Outside":MAILTO:info@onestepoutside.it
END:VEVENT
BEGIN:VEVENT
DTSTART;VALUE=DATE:20260627
DTEND;VALUE=DATE:20260629
DTSTAMP:20260425T043626
CREATED:20260423T130030Z
LAST-MODIFIED:20260423T130303Z
UID:10008130-1782518400-1782691199@portedivaltellina.it
SUMMARY:Weekend in tenda
DESCRIPTION:Magica escursione di due giorni con l’emozione di una notte in tenda sotto le stelle\, per esplorare i sentieri più suggestivi della Val Gerola e del Parco delle Orobie. \nCena e colazione presso Rifugio della Corte \nPartenza dalla Frazione di Sacco \nDislivello +1200 m – Difficoltà T2 \nProgramma dettagliato sul sito \n Info\, costi ed iscrizioni: www.onestepoutside.it \n 
URL:https://portedivaltellina.it/eventi/weekend-in-tenda-4/2026-06-27/
LOCATION:Valgerola\, Gerola Alta\, Italia
ATTACH;FMTTYPE=image/png:https://portedivaltellina.it/wp-content/uploads/2026/04/weekend_tenda_cop_700x700.png
ORGANIZER;CN="One Step Outside":MAILTO:info@onestepoutside.it
END:VEVENT
BEGIN:VEVENT
DTSTART;VALUE=DATE:20260704
DTEND;VALUE=DATE:20260706
DTSTAMP:20260425T043626
CREATED:20260423T134955Z
LAST-MODIFIED:20260423T134955Z
UID:10008132-1783123200-1783295999@portedivaltellina.it
SUMMARY:Alpeggio Experience
DESCRIPTION:Due giorni in alpeggio per scoprire i segreti della produzione del Bitto Storico Ribelle \nPartecipa alla mungitura\, assaggia la polenta appena fatta e cammina tra i panorami mozzafiato delle Orobie Valtellinesi per un’immersione nella natura e nella cultura alpina. \nUn’esperienza unica sull’alpeggio di Trona Vaga per assistere alla lavorazione del latte e alla preparazione del formaggio \nLunghezza percorso il primo giorno circa 8 km  – Dislivello +650 m \nInfo\, costi ed iscrizioni: www.onestepoutside.it
URL:https://portedivaltellina.it/eventi/alpeggio-experience-2/2026-07-04/
LOCATION:Gerola Alta
ATTACH;FMTTYPE=image/png:https://portedivaltellina.it/wp-content/uploads/2026/04/alpeggio_exp_copertina_700x700.png
ORGANIZER;CN="One Step Outside":MAILTO:info@onestepoutside.it
END:VEVENT
BEGIN:VEVENT
DTSTART;VALUE=DATE:20260705
DTEND;VALUE=DATE:20260712
DTSTAMP:20260425T043626
CREATED:20260327T113435Z
LAST-MODIFIED:20260327T113458Z
UID:10008045-1783209600-1783814399@portedivaltellina.it
SUMMARY:Campo estivo al Rifugio Il Pirata
DESCRIPTION:Con le guide nel Parco \nUna settimana di vacanza al Rifugio il Pirata nell’ambiente naturale della Val Tartano\, con giornate di escursioni alternate a giochi e puro divertimento. \nInfo\, costi e prenotazioni:  guida Leila Kataoka 0342 645086 – leila.kataoka@gmail.com \n 
URL:https://portedivaltellina.it/eventi/campo-estivo-al-rifugio-il-pirata/
LOCATION:Val Tartano – Rifugio Il Pirata\, Loc Arale
ATTACH;FMTTYPE=image/webp:https://portedivaltellina.it/wp-content/uploads/2026/03/20260705_11_settimana-al-pirata.webp
END:VEVENT
BEGIN:VEVENT
DTSTART;TZID=Europe/Rome:20260705T090000
DTEND;TZID=Europe/Rome:20260705T170000
DTSTAMP:20260425T043626
CREATED:20260327T114009Z
LAST-MODIFIED:20260327T114009Z
UID:10008046-1783242000-1783270800@portedivaltellina.it
SUMMARY:Foraging in Val Tartano
DESCRIPTION:Con le guide nel Parco \nScopri e raccogli le erbe commestibili \nUna facile camminata tra le contrade della val Tartano con la guida botanica per imparare a riconoscere le erbe spontanee commestibili. \nDislivello +300 – difficoltà E \nRitrovo alla stazione di Morbegno alle ore 9.00 \nInfo\, costi e prenotazioni: guida Maddalena Brivio 340 6612042 – maddalenabrivio@yahoo.it \n 
URL:https://portedivaltellina.it/eventi/foraging-in-val-tartano/
LOCATION:Val Tartano
ATTACH;FMTTYPE=image/webp:https://portedivaltellina.it/wp-content/uploads/2026/03/20260705_foraging-val-tartano.webp
END:VEVENT
BEGIN:VEVENT
DTSTART;TZID=Europe/Rome:20260719T173000
DTEND;TZID=Europe/Rome:20260719T213000
DTSTAMP:20260425T043626
CREATED:20260423T103640Z
LAST-MODIFIED:20260423T103640Z
UID:10008128-1784482200-1784496600@portedivaltellina.it
SUMMARY:Aperitivo nel cielo
DESCRIPTION:Suggestivo itinerario lungo i vecchi sentieri che portano alle antiche contrade della Val Tartano attraverso paesaggi  panoramici e molto suggestivi e i racconti della guida sui segreti e la storia della valle. \nArrivo al Bivacco Frasnìi e ritorno a Campo Tartano passando sul ponte nel cielo al tramonto. L’escursione si chiude con una degustazione del famoso formaggio “Storico ribelle” accompagnato da vini e sapori del territorio. \nLunghezza Km 6 circa – dislivello +300m \, difficoltà T2 \n Info\, costi e prenotazioni: www.onestepoutside.it \n 
URL:https://portedivaltellina.it/eventi/aperitivo-nel-cielo-9/2026-07-19/
LOCATION:Val Tartano
ATTACH;FMTTYPE=image/jpeg:https://portedivaltellina.it/wp-content/uploads/2025/02/2025_ponte-nel-cielo.jpg
ORGANIZER;CN="One Step Outside":MAILTO:info@onestepoutside.it
END:VEVENT
BEGIN:VEVENT
DTSTART;VALUE=DATE:20260725
DTEND;VALUE=DATE:20260727
DTSTAMP:20260425T043626
CREATED:20260423T130030Z
LAST-MODIFIED:20260423T130303Z
UID:10008131-1784966400-1785085200@portedivaltellina.it
SUMMARY:Weekend in tenda
DESCRIPTION:Magica escursione di due giorni con l’emozione di una notte in tenda sotto le stelle\, per esplorare i sentieri più suggestivi della Val Gerola e del Parco delle Orobie. \nCena e colazione presso Rifugio della Corte \nPartenza dalla Frazione di Sacco \nDislivello +1200 m – Difficoltà T2 \nProgramma dettagliato sul sito \n Info\, costi ed iscrizioni: www.onestepoutside.it \n 
URL:https://portedivaltellina.it/eventi/weekend-in-tenda-4/2026-07-25/
LOCATION:Valgerola\, Gerola Alta\, Italia
ATTACH;FMTTYPE=image/png:https://portedivaltellina.it/wp-content/uploads/2026/04/weekend_tenda_cop_700x700.png
ORGANIZER;CN="One Step Outside":MAILTO:info@onestepoutside.it
END:VEVENT
BEGIN:VEVENT
DTSTART;VALUE=DATE:20260730
DTEND;VALUE=DATE:20260731
DTSTAMP:20260425T043626
CREATED:20260418T083041Z
LAST-MODIFIED:20260418T083059Z
UID:10008113-1785369600-1785455999@portedivaltellina.it
SUMMARY:Mirtillo vertical
DESCRIPTION:2ª edizione \nGara vertical amiche \nfuori circuito delle gare Goinup a scopo benefico \nPartecipazione aperta a tutti \nInfo e iscrizioni: www.goinupvertical.it – goinupvertical@gmail.com
URL:https://portedivaltellina.it/eventi/mirtillo-vertical-2/
LOCATION:Rasura
ATTACH;FMTTYPE=image/jpeg:https://portedivaltellina.it/wp-content/uploads/2026/03/GOIN-UP-8-EDIZIONE-2026-scaled.jpg
ORGANIZER;CN="Goinup":MAILTO:goinupvertical@gmail.com
END:VEVENT
END:VCALENDAR