BEGIN:VCALENDAR
VERSION:2.0
PRODID:-//Porte di Valtellina - ECPv6.15.20//NONSGML v1.0//EN
CALSCALE:GREGORIAN
METHOD:PUBLISH
X-WR-CALNAME:Porte di Valtellina
X-ORIGINAL-URL:https://portedivaltellina.it
X-WR-CALDESC:Eventi per Porte di Valtellina
REFRESH-INTERVAL;VALUE=DURATION:PT1H
X-Robots-Tag:noindex
X-PUBLISHED-TTL:PT1H
BEGIN:VTIMEZONE
TZID:Europe/Rome
BEGIN:DAYLIGHT
TZOFFSETFROM:+0100
TZOFFSETTO:+0200
TZNAME:CEST
DTSTART:20250330T010000
END:DAYLIGHT
BEGIN:STANDARD
TZOFFSETFROM:+0200
TZOFFSETTO:+0100
TZNAME:CET
DTSTART:20251026T010000
END:STANDARD
BEGIN:DAYLIGHT
TZOFFSETFROM:+0100
TZOFFSETTO:+0200
TZNAME:CEST
DTSTART:20260329T010000
END:DAYLIGHT
BEGIN:STANDARD
TZOFFSETFROM:+0200
TZOFFSETTO:+0100
TZNAME:CET
DTSTART:20261025T010000
END:STANDARD
BEGIN:DAYLIGHT
TZOFFSETFROM:+0100
TZOFFSETTO:+0200
TZNAME:CEST
DTSTART:20270328T010000
END:DAYLIGHT
BEGIN:STANDARD
TZOFFSETFROM:+0200
TZOFFSETTO:+0100
TZNAME:CET
DTSTART:20271031T010000
END:STANDARD
END:VTIMEZONE
BEGIN:VEVENT
DTSTART;TZID=Europe/Rome:20260104T210000
DTEND;TZID=Europe/Rome:20260104T230000
DTSTAMP:20260423T060444
CREATED:20251218T162641Z
LAST-MODIFIED:20251218T162641Z
UID:10007562-1767560400-1767567600@portedivaltellina.it
SUMMARY:Suoni e voci di Natale
DESCRIPTION:“Et in terra pax” \nCoro “Antonio Lamotta” \nDiretto dal M°Davide Mainetti \nAl pianoforte M°Cristina Garzelli \nAll’organo M°Pietro Ciapponi \nOfferta libera  \nPer maggiori info: Tel.3938644223
URL:https://portedivaltellina.it/eventi/suoni-e-voci-di-natale-2/
LOCATION:Gerola Alta – Chiesa di S. Bartolomeo\, Via Roma\, Gerola Alta\, 23010\, Italia
ORGANIZER;CN="Ecomuseo della Valgerola":MAILTO:info@valgerolaonline.it
END:VEVENT
BEGIN:VEVENT
DTSTART;VALUE=DATE:20260104
DTEND;VALUE=DATE:20260105
DTSTAMP:20260423T060444
CREATED:20251217T092310Z
LAST-MODIFIED:20251217T092310Z
UID:10007548-1767484800-1767571199@portedivaltellina.it
SUMMARY:Ciaspolata ai laghi di Pescegallo
DESCRIPTION:La neve non è solo bianca e fredda ed è bello scoprirne le mille sfumature ciaspolando al bel lago di Pescegallo. \nAccompagnati con la guida parco Marco Zanchetta. \nSpuntino previsto al centro del bitto storico ribelle. \nPer info e prenotazioni: Marco Zanchetta 3475251782
URL:https://portedivaltellina.it/eventi/ciaspolata-ai-laghi-di-pescegallo-2/
LOCATION:Val Gerola – Fraz. Pescegallo
END:VEVENT
END:VCALENDAR