BEGIN:VCALENDAR
VERSION:2.0
PRODID:-//Porte di Valtellina - ECPv6.15.20//NONSGML v1.0//EN
CALSCALE:GREGORIAN
METHOD:PUBLISH
X-ORIGINAL-URL:https://portedivaltellina.it
X-WR-CALDESC:Eventi per Porte di Valtellina
REFRESH-INTERVAL;VALUE=DURATION:PT1H
X-Robots-Tag:noindex
X-PUBLISHED-TTL:PT1H
BEGIN:VTIMEZONE
TZID:Europe/Rome
BEGIN:DAYLIGHT
TZOFFSETFROM:+0100
TZOFFSETTO:+0200
TZNAME:CEST
DTSTART:20240331T010000
END:DAYLIGHT
BEGIN:STANDARD
TZOFFSETFROM:+0200
TZOFFSETTO:+0100
TZNAME:CET
DTSTART:20241027T010000
END:STANDARD
BEGIN:DAYLIGHT
TZOFFSETFROM:+0100
TZOFFSETTO:+0200
TZNAME:CEST
DTSTART:20250330T010000
END:DAYLIGHT
BEGIN:STANDARD
TZOFFSETFROM:+0200
TZOFFSETTO:+0100
TZNAME:CET
DTSTART:20251026T010000
END:STANDARD
BEGIN:DAYLIGHT
TZOFFSETFROM:+0100
TZOFFSETTO:+0200
TZNAME:CEST
DTSTART:20260329T010000
END:DAYLIGHT
BEGIN:STANDARD
TZOFFSETFROM:+0200
TZOFFSETTO:+0100
TZNAME:CET
DTSTART:20261025T010000
END:STANDARD
END:VTIMEZONE
BEGIN:VEVENT
DTSTART;TZID=Europe/Rome:20251111T100000
DTEND;TZID=Europe/Rome:20251111T120000
DTSTAMP:20260423T210732
CREATED:20251107T161933Z
LAST-MODIFIED:20251107T161933Z
UID:10006892-1762855200-1762862400@portedivaltellina.it
SUMMARY:Arte Sacra
DESCRIPTION:In mostra opere di: \nPaola Mara De Maestri – Francesca Girola (Anche Pittrice) \nLuciana Marchetti – Marino spini (Poeti) \nLaura Brocco – Giovanna Maria Cavallo – Rita Cortellazzi \nTiziana Fumagalli – Franco Salvi (Pittori) \nIngresso Gratuito!
URL:https://portedivaltellina.it/eventi/arte-sacra/2025-11-11/
LOCATION:Morbegno – Salotto Boffi\, Piazza S. Giovanni
END:VEVENT
BEGIN:VEVENT
DTSTART;TZID=Europe/Rome:20251110T150000
DTEND;TZID=Europe/Rome:20251110T180000
DTSTAMP:20260423T210732
CREATED:20251107T161933Z
LAST-MODIFIED:20251107T161933Z
UID:10006891-1762786800-1762797600@portedivaltellina.it
SUMMARY:Arte Sacra
DESCRIPTION:In mostra opere di: \nPaola Mara De Maestri – Francesca Girola (Anche Pittrice) \nLuciana Marchetti – Marino spini (Poeti) \nLaura Brocco – Giovanna Maria Cavallo – Rita Cortellazzi \nTiziana Fumagalli – Franco Salvi (Pittori) \nIngresso Gratuito!
URL:https://portedivaltellina.it/eventi/arte-sacra/2025-11-10/
LOCATION:Morbegno – Salotto Boffi\, Piazza S. Giovanni
END:VEVENT
BEGIN:VEVENT
DTSTART;TZID=Europe/Rome:20251109T100000
DTEND;TZID=Europe/Rome:20251109T120000
DTSTAMP:20260423T210732
CREATED:20251107T161933Z
LAST-MODIFIED:20251107T161933Z
UID:10006890-1762682400-1762689600@portedivaltellina.it
SUMMARY:Arte Sacra
DESCRIPTION:In mostra opere di: \nPaola Mara De Maestri – Francesca Girola (Anche Pittrice) \nLuciana Marchetti – Marino spini (Poeti) \nLaura Brocco – Giovanna Maria Cavallo – Rita Cortellazzi \nTiziana Fumagalli – Franco Salvi (Pittori) \nIngresso Gratuito!
URL:https://portedivaltellina.it/eventi/arte-sacra/2025-11-09/
LOCATION:Morbegno – Salotto Boffi\, Piazza S. Giovanni
END:VEVENT
BEGIN:VEVENT
DTSTART;TZID=Europe/Rome:20251108T150000
DTEND;TZID=Europe/Rome:20251108T180000
DTSTAMP:20260423T210732
CREATED:20251107T161933Z
LAST-MODIFIED:20251107T161933Z
UID:10006889-1762614000-1762624800@portedivaltellina.it
SUMMARY:Arte Sacra
DESCRIPTION:In mostra opere di: \nPaola Mara De Maestri – Francesca Girola (Anche Pittrice) \nLuciana Marchetti – Marino spini (Poeti) \nLaura Brocco – Giovanna Maria Cavallo – Rita Cortellazzi \nTiziana Fumagalli – Franco Salvi (Pittori) \nIngresso Gratuito!
URL:https://portedivaltellina.it/eventi/arte-sacra/2025-11-08/
LOCATION:Morbegno – Salotto Boffi\, Piazza S. Giovanni
END:VEVENT
END:VCALENDAR