BEGIN:VCALENDAR
VERSION:2.0
PRODID:-//Porte di Valtellina - ECPv6.15.20//NONSGML v1.0//EN
CALSCALE:GREGORIAN
METHOD:PUBLISH
X-WR-CALNAME:Porte di Valtellina
X-ORIGINAL-URL:https://portedivaltellina.it
X-WR-CALDESC:Eventi per Porte di Valtellina
REFRESH-INTERVAL;VALUE=DURATION:PT1H
X-Robots-Tag:noindex
X-PUBLISHED-TTL:PT1H
BEGIN:VTIMEZONE
TZID:Europe/Rome
BEGIN:DAYLIGHT
TZOFFSETFROM:+0100
TZOFFSETTO:+0200
TZNAME:CEST
DTSTART:20250330T010000
END:DAYLIGHT
BEGIN:STANDARD
TZOFFSETFROM:+0200
TZOFFSETTO:+0100
TZNAME:CET
DTSTART:20251026T010000
END:STANDARD
BEGIN:DAYLIGHT
TZOFFSETFROM:+0100
TZOFFSETTO:+0200
TZNAME:CEST
DTSTART:20260329T010000
END:DAYLIGHT
BEGIN:STANDARD
TZOFFSETFROM:+0200
TZOFFSETTO:+0100
TZNAME:CET
DTSTART:20261025T010000
END:STANDARD
BEGIN:DAYLIGHT
TZOFFSETFROM:+0100
TZOFFSETTO:+0200
TZNAME:CEST
DTSTART:20270328T010000
END:DAYLIGHT
BEGIN:STANDARD
TZOFFSETFROM:+0200
TZOFFSETTO:+0100
TZNAME:CET
DTSTART:20271031T010000
END:STANDARD
END:VTIMEZONE
BEGIN:VEVENT
DTSTART;TZID=Europe/Rome:20260201T173000
DTEND;TZID=Europe/Rome:20260201T193000
DTSTAMP:20260422T160121
CREATED:20260115T104318Z
LAST-MODIFIED:20260126T094204Z
UID:10007604-1769967000-1769974200@portedivaltellina.it
SUMMARY:Umani volanti non identificati
DESCRIPTION:Rassegna “Storie sospese”        \nUna serata di teatro e danza per viaggiare oltre i limiti del quotidiano: \n\nCaravan\, teatro danza\, un viaggio psichedelico alla ricerca del senso della vita di Pietro Bellotto\nSuperhero – avventure da orfano\, spettacolo teatrale Stendhart di Nicola Bizzarri\n\nIngresso con offerta libera \nInfo: www.evaltellina.com
URL:https://portedivaltellina.it/eventi/umani-volanti-non-identificati/
LOCATION:Morbegno – Auditorium Sant’Antonio
ORGANIZER;CN="Evaltellina":MAILTO:info@evaltellina.com
END:VEVENT
BEGIN:VEVENT
DTSTART;TZID=Europe/Rome:20260201T160000
DTEND;TZID=Europe/Rome:20260201T180000
DTSTAMP:20260422T160121
CREATED:20251217T151901Z
LAST-MODIFIED:20251217T151920Z
UID:10007554-1769961600-1769968800@portedivaltellina.it
SUMMARY:Viaggio dal buio alla luce
DESCRIPTION:Laboratorio di scrittura autobiografica al femminile \nUn viaggio di autoconoscenza al femminile\, punto di partenza per esplorare parti sconosciute di sé e vivere pienamente il presente. \nPresentazione del percorso di otto incontri giovedì mattina dalle 9:30. \nConduce Alessandra Pedraglio\, giornalista e councelor olistica. \nPer informazioni e iscrizione al gruppo: 342/3928253 – alessandra.pedraglio@alice.it \n  \n 
URL:https://portedivaltellina.it/eventi/viaggio-dal-buio-alla-luce/
LOCATION:Morbegno – Salotto Boffi\, Piazza S. Giovanni
END:VEVENT
BEGIN:VEVENT
DTSTART;TZID=Europe/Rome:20260201T150000
DTEND;TZID=Europe/Rome:20260201T170000
DTSTAMP:20260422T160121
CREATED:20260119T104716Z
LAST-MODIFIED:20260119T110450Z
UID:10007614-1769958000-1769965200@portedivaltellina.it
SUMMARY:Pattina con i campioni
DESCRIPTION:Un pomeriggio di sport\, musica e divertimento da vivere insieme \nScendi sul ghiaccio e pattina insieme ai giocatori dell’H.C. Hockey Chiavenna. Un’occasione unica per divertirti\, metterti alla prova e vivere da vicino l’energia dell’hockey. \nDJ set Ronza per scaldare ancora di più l’evento! \nIngresso libero
URL:https://portedivaltellina.it/eventi/pattina-con-i-campioni/
LOCATION:Morbegno – giardini Cortivacci\, Via Rivolta
END:VEVENT
BEGIN:VEVENT
DTSTART;TZID=Europe/Rome:20260201T133000
DTEND;TZID=Europe/Rome:20260201T140000
DTSTAMP:20260422T160121
CREATED:20260116T094737Z
LAST-MODIFIED:20260127T094005Z
UID:10007609-1769952600-1769954400@portedivaltellina.it
SUMMARY:La fiamma olimpica
DESCRIPTION:Il viaggio della fiamma olimpica passa da Morbegno! \nUn primo febbraio che segna l’inizio del mese olimpico e così anche Morbegno diventa città alpina a cinque cerchi\, a cominciare dal passaggio della torcia olimpica. \nLa partenza è prevista da Talamona alle 13.40\, quindi l’arrivo a Morbegno intorno alle 13.50 in Via Damiani per poi proseguire con questo percorso: \n\nVia Vanoni\nVia Nani\nVia San Rocco\nPonte sul Bitto\nVia Rivolta\nVia Forestale\n\nMusica e distribuzione di gadget precederanno e annunceranno l’arrivo dei tedofori. \nAl mattino sarà anche possibile visitare l’esposizione di auto storiche in Piazza Caduti.
URL:https://portedivaltellina.it/eventi/la-fiamma-olimpica/
LOCATION:Morbegno
END:VEVENT
BEGIN:VEVENT
DTSTART;TZID=Europe/Rome:20260201T084500
DTEND;TZID=Europe/Rome:20260201T123000
DTSTAMP:20260422T160121
CREATED:20260110T080912Z
LAST-MODIFIED:20260110T080912Z
UID:10007592-1769935500-1769949000@portedivaltellina.it
SUMMARY:Cross della Bosca
DESCRIPTION:Corsa campestre \n2ª prova del 34° campionato regionale CSI di corsa campestre \n\nAlle ore 8.45 ritrovo al campo sportivo di Campovico\nAlle ore 10.00 inizio gare\n\nInfo e iscrizioni: www.gscsimorbegno.org 
URL:https://portedivaltellina.it/eventi/cross-della-bosca-2/
LOCATION:Morbegno – Fraz. Campovico
ORGANIZER;CN="GS CSI Morbegno":MAILTO:info@gscimorbegno.org
END:VEVENT
END:VCALENDAR