BEGIN:VCALENDAR
VERSION:2.0
PRODID:-//Porte di Valtellina - ECPv6.15.20//NONSGML v1.0//EN
CALSCALE:GREGORIAN
METHOD:PUBLISH
X-ORIGINAL-URL:https://portedivaltellina.it
X-WR-CALDESC:Eventi per Porte di Valtellina
REFRESH-INTERVAL;VALUE=DURATION:PT1H
X-Robots-Tag:noindex
X-PUBLISHED-TTL:PT1H
BEGIN:VTIMEZONE
TZID:Europe/Rome
BEGIN:DAYLIGHT
TZOFFSETFROM:+0100
TZOFFSETTO:+0200
TZNAME:CEST
DTSTART:20250330T010000
END:DAYLIGHT
BEGIN:STANDARD
TZOFFSETFROM:+0200
TZOFFSETTO:+0100
TZNAME:CET
DTSTART:20251026T010000
END:STANDARD
BEGIN:DAYLIGHT
TZOFFSETFROM:+0100
TZOFFSETTO:+0200
TZNAME:CEST
DTSTART:20260329T010000
END:DAYLIGHT
BEGIN:STANDARD
TZOFFSETFROM:+0200
TZOFFSETTO:+0100
TZNAME:CET
DTSTART:20261025T010000
END:STANDARD
BEGIN:DAYLIGHT
TZOFFSETFROM:+0100
TZOFFSETTO:+0200
TZNAME:CEST
DTSTART:20270328T010000
END:DAYLIGHT
BEGIN:STANDARD
TZOFFSETFROM:+0200
TZOFFSETTO:+0100
TZNAME:CET
DTSTART:20271031T010000
END:STANDARD
END:VTIMEZONE
BEGIN:VEVENT
DTSTART;TZID=Europe/Rome:20260110T143000
DTEND;TZID=Europe/Rome:20260110T170000
DTSTAMP:20260424T114324
CREATED:20260108T085326Z
LAST-MODIFIED:20260108T085326Z
UID:10007586-1768055400-1768064400@portedivaltellina.it
SUMMARY:Consegna borse di studio
DESCRIPTION:L’album dell’anno \nAlle ore 14.30 ripercorriamo gli eventi e le sfide condivise da AVIS Morbegno nell’anno appena trascorso. \nA seguire consegna delle Borse di studio 2025 per festeggiare l’eccellenza dei nostri studenti. \nInfo: AVIS Morbegno 0342 610243 – www.avismorbegno.it – \n 
URL:https://portedivaltellina.it/eventi/consegna-borse-di-studio/
LOCATION:Morbegno – Sala Capitolare – Complesso S. Antonio\, Piazza S. Antonio
END:VEVENT
END:VCALENDAR