BEGIN:VCALENDAR
VERSION:2.0
PRODID:-//Porte di Valtellina - ECPv6.15.20//NONSGML v1.0//EN
CALSCALE:GREGORIAN
METHOD:PUBLISH
X-ORIGINAL-URL:https://portedivaltellina.it
X-WR-CALDESC:Eventi per Porte di Valtellina
REFRESH-INTERVAL;VALUE=DURATION:PT1H
X-Robots-Tag:noindex
X-PUBLISHED-TTL:PT1H
BEGIN:VTIMEZONE
TZID:Europe/Rome
BEGIN:DAYLIGHT
TZOFFSETFROM:+0100
TZOFFSETTO:+0200
TZNAME:CEST
DTSTART:20240331T010000
END:DAYLIGHT
BEGIN:STANDARD
TZOFFSETFROM:+0200
TZOFFSETTO:+0100
TZNAME:CET
DTSTART:20241027T010000
END:STANDARD
BEGIN:DAYLIGHT
TZOFFSETFROM:+0100
TZOFFSETTO:+0200
TZNAME:CEST
DTSTART:20250330T010000
END:DAYLIGHT
BEGIN:STANDARD
TZOFFSETFROM:+0200
TZOFFSETTO:+0100
TZNAME:CET
DTSTART:20251026T010000
END:STANDARD
BEGIN:DAYLIGHT
TZOFFSETFROM:+0100
TZOFFSETTO:+0200
TZNAME:CEST
DTSTART:20260329T010000
END:DAYLIGHT
BEGIN:STANDARD
TZOFFSETFROM:+0200
TZOFFSETTO:+0100
TZNAME:CET
DTSTART:20261025T010000
END:STANDARD
END:VTIMEZONE
BEGIN:VEVENT
DTSTART;TZID=Europe/Rome:20251116T180000
DTEND;TZID=Europe/Rome:20251116T203000
DTSTAMP:20260423T222135
CREATED:20251028T144205Z
LAST-MODIFIED:20251028T144205Z
UID:10006851-1763316000-1763325000@portedivaltellina.it
SUMMARY:Omaggio a Morricone
DESCRIPTION:Perché gli omaggi ci rendono più felici… \nLa Banda Barsotti propone un luogo di memoria per celebrare uno dei più rilevanti compositori nel mondo del cinema. \n\nIvana Zecca\, clarinetto\nMassimo Barsotti\, pianoforte\nGiulio Barsotti\, contrabbasso\n\nPrevendite disponibili presso i nostri uffici in Piazza Bossi 7/8\, al costo di €10\,00 + d.d.p. \nMaggiori informazioni: info@seratemusicali.net
URL:https://portedivaltellina.it/eventi/omaggio-a-morricone/
LOCATION:Morbegno – Auditorium S. Antonio\, Piazza S. Antonio\, 23017\, Italia
ORGANIZER;CN="Associazione Serate Musicali":MAILTO:info@seratemusicali.net
END:VEVENT
BEGIN:VEVENT
DTSTART;TZID=Europe/Rome:20251116T103000
DTEND;TZID=Europe/Rome:20251116T123000
DTSTAMP:20260423T222135
CREATED:20251107T165634Z
LAST-MODIFIED:20251110T074914Z
UID:10006906-1763289000-1763296200@portedivaltellina.it
SUMMARY:Novelle d'oggi con effetti d'incanto
DESCRIPTION:Presentazione di Maria Grazia Rabiolo. \nLetture di Ermanno Cavazzoni\, Alberto Ravasio e Matteo Terzaghi. \n 
URL:https://portedivaltellina.it/eventi/novelle-doggi-con-effetti-dincanto-2/
LOCATION:Morbegno – Auditorium Sant’Antonio
END:VEVENT
END:VCALENDAR