BEGIN:VCALENDAR
VERSION:2.0
PRODID:-//Porte di Valtellina - ECPv6.15.20//NONSGML v1.0//EN
CALSCALE:GREGORIAN
METHOD:PUBLISH
X-ORIGINAL-URL:https://portedivaltellina.it
X-WR-CALDESC:Eventi per Porte di Valtellina
REFRESH-INTERVAL;VALUE=DURATION:PT1H
X-Robots-Tag:noindex
X-PUBLISHED-TTL:PT1H
BEGIN:VTIMEZONE
TZID:Europe/Rome
BEGIN:DAYLIGHT
TZOFFSETFROM:+0100
TZOFFSETTO:+0200
TZNAME:CEST
DTSTART:20250330T010000
END:DAYLIGHT
BEGIN:STANDARD
TZOFFSETFROM:+0200
TZOFFSETTO:+0100
TZNAME:CET
DTSTART:20251026T010000
END:STANDARD
BEGIN:DAYLIGHT
TZOFFSETFROM:+0100
TZOFFSETTO:+0200
TZNAME:CEST
DTSTART:20260329T010000
END:DAYLIGHT
BEGIN:STANDARD
TZOFFSETFROM:+0200
TZOFFSETTO:+0100
TZNAME:CET
DTSTART:20261025T010000
END:STANDARD
BEGIN:DAYLIGHT
TZOFFSETFROM:+0100
TZOFFSETTO:+0200
TZNAME:CEST
DTSTART:20270328T010000
END:DAYLIGHT
BEGIN:STANDARD
TZOFFSETFROM:+0200
TZOFFSETTO:+0100
TZNAME:CET
DTSTART:20271031T010000
END:STANDARD
END:VTIMEZONE
BEGIN:VEVENT
DTSTART;TZID=Europe/Rome:20260320T200000
DTEND;TZID=Europe/Rome:20260320T223000
DTSTAMP:20260425T041030
CREATED:20260310T114552Z
LAST-MODIFIED:20260310T114552Z
UID:10007986-1774036800-1774045800@portedivaltellina.it
SUMMARY:Diritti e tutele del malato oncologico
DESCRIPTION:Convegno \nPROGRAMMA: \n\nAlle ore 20.00 inaugurazione panchine culturali nei pressi della Chiesa di San Giuseppe\nA seguire\, presso la Sala capitolare di S. Antonio lettura di poesie di Alda Merini con accompagnamento musicale\nalle ore 21.00 convegno in Sala capitolare organizzato da Associazione Amazzoni\n\nIngresso libero aperto a tutti \n  \n 
URL:https://portedivaltellina.it/eventi/diritti-e-tutele-del-malato-oncologico/
LOCATION:Morbegno – Sala Capitolare – Complesso S. Antonio\, Piazza S. Antonio
END:VEVENT
END:VCALENDAR