BEGIN:VCALENDAR
VERSION:2.0
PRODID:-//Porte di Valtellina - ECPv6.15.20//NONSGML v1.0//EN
CALSCALE:GREGORIAN
METHOD:PUBLISH
X-ORIGINAL-URL:https://portedivaltellina.it
X-WR-CALDESC:Eventi per Porte di Valtellina
REFRESH-INTERVAL;VALUE=DURATION:PT1H
X-Robots-Tag:noindex
X-PUBLISHED-TTL:PT1H
BEGIN:VTIMEZONE
TZID:Europe/Rome
BEGIN:DAYLIGHT
TZOFFSETFROM:+0100
TZOFFSETTO:+0200
TZNAME:CEST
DTSTART:20240331T010000
END:DAYLIGHT
BEGIN:STANDARD
TZOFFSETFROM:+0200
TZOFFSETTO:+0100
TZNAME:CET
DTSTART:20241027T010000
END:STANDARD
BEGIN:DAYLIGHT
TZOFFSETFROM:+0100
TZOFFSETTO:+0200
TZNAME:CEST
DTSTART:20250330T010000
END:DAYLIGHT
BEGIN:STANDARD
TZOFFSETFROM:+0200
TZOFFSETTO:+0100
TZNAME:CET
DTSTART:20251026T010000
END:STANDARD
BEGIN:DAYLIGHT
TZOFFSETFROM:+0100
TZOFFSETTO:+0200
TZNAME:CEST
DTSTART:20260329T010000
END:DAYLIGHT
BEGIN:STANDARD
TZOFFSETFROM:+0200
TZOFFSETTO:+0100
TZNAME:CET
DTSTART:20261025T010000
END:STANDARD
END:VTIMEZONE
BEGIN:VEVENT
DTSTART;VALUE=DATE:20251121
DTEND;VALUE=DATE:20251126
DTSTAMP:20260423T222134
CREATED:20251120T084430Z
LAST-MODIFIED:20251120T084430Z
UID:10007458-1763683200-1764115199@portedivaltellina.it
SUMMARY:Rapporto Infimo
DESCRIPTION:Dal 21 al 25 novembre 2025\, una mostra fotografica che racconta la violenza di genere. \n\nvenerdì\, sabato e martedì ore 15-18\ndomenica ore 10-12\, presso Auditorium Sant’Antonio di Morbegno.\n\nEsposizione locandine di film\, Poesie del laboratorio poetico\, con la partecipazione degli studenti della 3°C dell’istituto Comprensivo Damiani. \nCuratori: Evelina Cantaluppi e Riccardo Menna \nFotografia: Gabriele Corbellini \n22 Novembre alle ore 20:30\, Spettacolo Teatrale a cura del Piccolo Teatro delle Valli presso Auditorium Sant’Antonio di Morbegno. \n  \n 
URL:https://portedivaltellina.it/eventi/rapporto-infimo-2/
LOCATION:Morbegno – Auditorium Sant’Antonio
END:VEVENT
END:VCALENDAR