BEGIN:VCALENDAR
VERSION:2.0
PRODID:-//Porte di Valtellina - ECPv6.15.20//NONSGML v1.0//EN
CALSCALE:GREGORIAN
METHOD:PUBLISH
X-WR-CALNAME:Porte di Valtellina
X-ORIGINAL-URL:https://portedivaltellina.it
X-WR-CALDESC:Eventi per Porte di Valtellina
REFRESH-INTERVAL;VALUE=DURATION:PT1H
X-Robots-Tag:noindex
X-PUBLISHED-TTL:PT1H
BEGIN:VTIMEZONE
TZID:Europe/Rome
BEGIN:DAYLIGHT
TZOFFSETFROM:+0100
TZOFFSETTO:+0200
TZNAME:CEST
DTSTART:20240331T010000
END:DAYLIGHT
BEGIN:STANDARD
TZOFFSETFROM:+0200
TZOFFSETTO:+0100
TZNAME:CET
DTSTART:20241027T010000
END:STANDARD
BEGIN:DAYLIGHT
TZOFFSETFROM:+0100
TZOFFSETTO:+0200
TZNAME:CEST
DTSTART:20250330T010000
END:DAYLIGHT
BEGIN:STANDARD
TZOFFSETFROM:+0200
TZOFFSETTO:+0100
TZNAME:CET
DTSTART:20251026T010000
END:STANDARD
BEGIN:DAYLIGHT
TZOFFSETFROM:+0100
TZOFFSETTO:+0200
TZNAME:CEST
DTSTART:20260329T010000
END:DAYLIGHT
BEGIN:STANDARD
TZOFFSETFROM:+0200
TZOFFSETTO:+0100
TZNAME:CET
DTSTART:20261025T010000
END:STANDARD
END:VTIMEZONE
BEGIN:VEVENT
DTSTART;VALUE=DATE:20251125
DTEND;VALUE=DATE:20251201
DTSTAMP:20260426T011532
CREATED:20251120T085654Z
LAST-MODIFIED:20251120T085654Z
UID:10007459-1764028800-1764547199@portedivaltellina.it
SUMMARY:Mostra Artistica di pittura
DESCRIPTION:Mostra Artistica di Pittura\, di Roberta Minola. \nDa Martedì 25 novembre a domenica 30 novembre 2025. \nInaugurazione Martedì 25/11 ore 17:00 \nOrario di apertura: da martedì a venerdì dalle 16 alle 19\, sabato e domenica dalle 10 alle 12 e dalle 16 alle 19.
URL:https://portedivaltellina.it/eventi/mostra-artistica-di-pittura/
LOCATION:Morbegno – Sala Capitolare – Complesso S. Antonio\, Piazza S. Antonio
ORGANIZER;CN="Evaltellina":MAILTO:info@evaltellina.com
END:VEVENT
END:VCALENDAR