BEGIN:VCALENDAR
VERSION:2.0
PRODID:-//Porte di Valtellina - ECPv6.15.20//NONSGML v1.0//EN
CALSCALE:GREGORIAN
METHOD:PUBLISH
X-ORIGINAL-URL:https://portedivaltellina.it
X-WR-CALDESC:Eventi per Porte di Valtellina
REFRESH-INTERVAL;VALUE=DURATION:PT1H
X-Robots-Tag:noindex
X-PUBLISHED-TTL:PT1H
BEGIN:VTIMEZONE
TZID:Europe/Rome
BEGIN:DAYLIGHT
TZOFFSETFROM:+0100
TZOFFSETTO:+0200
TZNAME:CEST
DTSTART:20250330T010000
END:DAYLIGHT
BEGIN:STANDARD
TZOFFSETFROM:+0200
TZOFFSETTO:+0100
TZNAME:CET
DTSTART:20251026T010000
END:STANDARD
BEGIN:DAYLIGHT
TZOFFSETFROM:+0100
TZOFFSETTO:+0200
TZNAME:CEST
DTSTART:20260329T010000
END:DAYLIGHT
BEGIN:STANDARD
TZOFFSETFROM:+0200
TZOFFSETTO:+0100
TZNAME:CET
DTSTART:20261025T010000
END:STANDARD
BEGIN:DAYLIGHT
TZOFFSETFROM:+0100
TZOFFSETTO:+0200
TZNAME:CEST
DTSTART:20270328T010000
END:DAYLIGHT
BEGIN:STANDARD
TZOFFSETFROM:+0200
TZOFFSETTO:+0100
TZNAME:CET
DTSTART:20271031T010000
END:STANDARD
END:VTIMEZONE
BEGIN:VEVENT
DTSTART;TZID=Europe/Rome:20260214T160000
DTEND;TZID=Europe/Rome:20260214T180000
DTSTAMP:20260422T160130
CREATED:20251206T114354Z
LAST-MODIFIED:20260209T165902Z
UID:10007473-1771084800-1771092000@portedivaltellina.it
SUMMARY:Il Teatro Della Zucca
DESCRIPTION:Rassegna teatrale bambini 2025 – 2026 \n\n“Cappuccetto rosso + O (più meno che più)”\, teatro d’attore e clownerie\n\nSpettacolo anticipato a sabato 14 febbraio \nIngresso € 6\,00 \nInizio spettacoli ore 16:00 \n  \nPrenotazione consigliata: teatrodellazucca@gmail.com – Tel.3477606733 – www.teatrodellazucca.com
URL:https://portedivaltellina.it/eventi/il-teatro-della-zucca-2/
LOCATION:Morbegno – Auditorium Sant’Antonio
END:VEVENT
BEGIN:VEVENT
DTSTART;TZID=Europe/Rome:20260125T160000
DTEND;TZID=Europe/Rome:20260125T180000
DTSTAMP:20260422T160130
CREATED:20251125T110841Z
LAST-MODIFIED:20251125T110841Z
UID:10007474-1769356800-1769364000@portedivaltellina.it
SUMMARY:Il Teatro Della Zucca
DESCRIPTION:Rassegna teatrale bambini 2025 – 2026 \n\n“Senza renne non c’è Natale”\, teatro d’attore\n“Oz\, Oltre l’arcobaleno…”\, teatro d’attore e narrazione\n“Cappuccetto rosso + O (più meno che più)”\, teatro d’attore e clownerie\n\nIngresso €6\,00 \nInizio spettacoli ore 16:00 \nPrenotazione consigliata: teatrodellazucca@gmail.com – Tel.3477606733 – www.teatrodellazucca.com
URL:https://portedivaltellina.it/eventi/il-teatro-della-zucca/2026-01-25/
LOCATION:Morbegno – Auditorium Sant’Antonio
END:VEVENT
BEGIN:VEVENT
DTSTART;TZID=Europe/Rome:20260125T093000
DTEND;TZID=Europe/Rome:20260125T130000
DTSTAMP:20260422T160130
CREATED:20260113T141319Z
LAST-MODIFIED:20260113T141319Z
UID:10007596-1769333400-1769346000@portedivaltellina.it
SUMMARY:Tiro alla fune
DESCRIPTION:Finale di campionato italiano \nDalle ore 09.30 \n\nFinale del campionato italiano categoria  Kg. 600\nFinale del torneo promozionale categoria Kg. 510\n\nIngresso gratuito \nInfo: Tiro alla fune Valtellina tiroallafunevaltellina@gmail.com
URL:https://portedivaltellina.it/eventi/tiro-alla-fune-3/
LOCATION:Morbegno – Palafaedo\, Via Faedo
ORGANIZER;CN="Tiro alla fune - Valtellina":MAILTO:tiroallafunevaltellina@gmail.com
END:VEVENT
BEGIN:VEVENT
DTSTART;TZID=Europe/Rome:20260125T090000
DTEND;TZID=Europe/Rome:20260125T170000
DTSTAMP:20260422T160130
CREATED:20260120T073457Z
LAST-MODIFIED:20260120T073457Z
UID:10007617-1769331600-1769360400@portedivaltellina.it
SUMMARY:Tennis Tavolo
DESCRIPTION:2a prova \nCampionati nazionali 2026 – Fase territoriale \nMaggiori informazioni: info@gscsimorbegno.org – +39 340 4606881
URL:https://portedivaltellina.it/eventi/tennis-tavolo/
LOCATION:Morbegno – Palasport Mattei\, Piazza Aldo Moro
ORGANIZER;CN="GS CSI Morbegno":MAILTO:info@gscimorbegno.org
END:VEVENT
END:VCALENDAR