BEGIN:VCALENDAR
VERSION:2.0
PRODID:-//Porte di Valtellina - ECPv6.15.20//NONSGML v1.0//EN
CALSCALE:GREGORIAN
METHOD:PUBLISH
X-WR-CALNAME:Porte di Valtellina
X-ORIGINAL-URL:https://portedivaltellina.it
X-WR-CALDESC:Eventi per Porte di Valtellina
REFRESH-INTERVAL;VALUE=DURATION:PT1H
X-Robots-Tag:noindex
X-PUBLISHED-TTL:PT1H
BEGIN:VTIMEZONE
TZID:Europe/Rome
BEGIN:DAYLIGHT
TZOFFSETFROM:+0100
TZOFFSETTO:+0200
TZNAME:CEST
DTSTART:20250330T010000
END:DAYLIGHT
BEGIN:STANDARD
TZOFFSETFROM:+0200
TZOFFSETTO:+0100
TZNAME:CET
DTSTART:20251026T010000
END:STANDARD
BEGIN:DAYLIGHT
TZOFFSETFROM:+0100
TZOFFSETTO:+0200
TZNAME:CEST
DTSTART:20260329T010000
END:DAYLIGHT
BEGIN:STANDARD
TZOFFSETFROM:+0200
TZOFFSETTO:+0100
TZNAME:CET
DTSTART:20261025T010000
END:STANDARD
BEGIN:DAYLIGHT
TZOFFSETFROM:+0100
TZOFFSETTO:+0200
TZNAME:CEST
DTSTART:20270328T010000
END:DAYLIGHT
BEGIN:STANDARD
TZOFFSETFROM:+0200
TZOFFSETTO:+0100
TZNAME:CET
DTSTART:20271031T010000
END:STANDARD
END:VTIMEZONE
BEGIN:VEVENT
DTSTART;VALUE=DATE:20260326
DTEND;VALUE=DATE:20260413
DTSTAMP:20260425T053633
CREATED:20260309T104926Z
LAST-MODIFIED:20260309T104926Z
UID:10007982-1774483200-1776038399@portedivaltellina.it
SUMMARY:Mostra artistica
DESCRIPTION:A cura di Milena Barlascini e Francesco Barlascini \nOrari di apertura: \n\nDal mercoledì al venerdì dalle ore 17 alle ore 19\nSabato e domenica dalle ore 10 alle ore 12 e dalle ore 14 alle ore 19\n\nIngresso libero
URL:https://portedivaltellina.it/eventi/mostra-artistica-4/
LOCATION:Morbegno – Salotto Boffi\, Piazza S. Giovanni
ORGANIZER;CN="Evaltellina":MAILTO:info@evaltellina.com
END:VEVENT
END:VCALENDAR